BEGIN:VCALENDAR
VERSION:2.0
PRODID:-//Blue Water Resort &amp; Casino - ECPv6.15.20//NONSGML v1.0//EN
CALSCALE:GREGORIAN
METHOD:PUBLISH
X-WR-CALNAME:Blue Water Resort &amp; Casino
X-ORIGINAL-URL:https://bluewater-casino-resort.com
X-WR-CALDESC:Events for Blue Water Resort &amp; Casino
REFRESH-INTERVAL;VALUE=DURATION:PT1H
X-Robots-Tag:noindex
X-PUBLISHED-TTL:PT1H
BEGIN:VTIMEZONE
TZID:America/Phoenix
BEGIN:STANDARD
TZOFFSETFROM:-0700
TZOFFSETTO:-0700
TZNAME:MST
DTSTART:20250101T000000
END:STANDARD
END:VTIMEZONE
BEGIN:VEVENT
DTSTART;TZID=America/Phoenix:20260501T120000
DTEND;TZID=America/Phoenix:20260501T200000
DTSTAMP:20260421T065458
CREATED:20260414T222248Z
LAST-MODIFIED:20260414T222248Z
UID:10006535-1777636800-1777665600@bluewater-casino-resort.com
SUMMARY:May Flowers Hot Seat Drawings
DESCRIPTION:BlueWater Resort & Casino will be giving away $100 cash prizes by random hot seat drawings on Fridays\, May 1\, 8\, 15\, 22\, & 29; 2026 from 12pm to 8pm. A total of seventeen (17) random hot seat drawings will take place every 30 minutes during the promotional Fridays. Cardholders must actively be playing with their THEclub card during the May Flowers Hot Seat Drawing times.
URL:https://bluewater-casino-resort.com/event/may-flowers-hot-seat-drawings/2026-05-01/
ATTACH;FMTTYPE=image/jpeg:https://bluewater-casino-resort.com/wp-content/uploads/2026/04/May-flowers-hot-seat-Promo-Web.jpg
END:VEVENT
BEGIN:VEVENT
DTSTART;TZID=America/Phoenix:20260508T120000
DTEND;TZID=America/Phoenix:20260508T200000
DTSTAMP:20260421T065458
CREATED:20260414T222248Z
LAST-MODIFIED:20260414T222248Z
UID:10006536-1778241600-1778270400@bluewater-casino-resort.com
SUMMARY:May Flowers Hot Seat Drawings
DESCRIPTION:BlueWater Resort & Casino will be giving away $100 cash prizes by random hot seat drawings on Fridays\, May 1\, 8\, 15\, 22\, & 29; 2026 from 12pm to 8pm. A total of seventeen (17) random hot seat drawings will take place every 30 minutes during the promotional Fridays. Cardholders must actively be playing with their THEclub card during the May Flowers Hot Seat Drawing times.
URL:https://bluewater-casino-resort.com/event/may-flowers-hot-seat-drawings/2026-05-08/
ATTACH;FMTTYPE=image/jpeg:https://bluewater-casino-resort.com/wp-content/uploads/2026/04/May-flowers-hot-seat-Promo-Web.jpg
END:VEVENT
BEGIN:VEVENT
DTSTART;TZID=America/Phoenix:20260515T120000
DTEND;TZID=America/Phoenix:20260515T200000
DTSTAMP:20260421T065458
CREATED:20260414T222248Z
LAST-MODIFIED:20260414T222248Z
UID:10006537-1778846400-1778875200@bluewater-casino-resort.com
SUMMARY:May Flowers Hot Seat Drawings
DESCRIPTION:BlueWater Resort & Casino will be giving away $100 cash prizes by random hot seat drawings on Fridays\, May 1\, 8\, 15\, 22\, & 29; 2026 from 12pm to 8pm. A total of seventeen (17) random hot seat drawings will take place every 30 minutes during the promotional Fridays. Cardholders must actively be playing with their THEclub card during the May Flowers Hot Seat Drawing times.
URL:https://bluewater-casino-resort.com/event/may-flowers-hot-seat-drawings/2026-05-15/
ATTACH;FMTTYPE=image/jpeg:https://bluewater-casino-resort.com/wp-content/uploads/2026/04/May-flowers-hot-seat-Promo-Web.jpg
END:VEVENT
BEGIN:VEVENT
DTSTART;TZID=America/Phoenix:20260522T120000
DTEND;TZID=America/Phoenix:20260522T200000
DTSTAMP:20260421T065458
CREATED:20260414T222248Z
LAST-MODIFIED:20260414T222248Z
UID:10006538-1779451200-1779480000@bluewater-casino-resort.com
SUMMARY:May Flowers Hot Seat Drawings
DESCRIPTION:BlueWater Resort & Casino will be giving away $100 cash prizes by random hot seat drawings on Fridays\, May 1\, 8\, 15\, 22\, & 29; 2026 from 12pm to 8pm. A total of seventeen (17) random hot seat drawings will take place every 30 minutes during the promotional Fridays. Cardholders must actively be playing with their THEclub card during the May Flowers Hot Seat Drawing times.
URL:https://bluewater-casino-resort.com/event/may-flowers-hot-seat-drawings/2026-05-22/
ATTACH;FMTTYPE=image/jpeg:https://bluewater-casino-resort.com/wp-content/uploads/2026/04/May-flowers-hot-seat-Promo-Web.jpg
END:VEVENT
BEGIN:VEVENT
DTSTART;TZID=America/Phoenix:20260529T120000
DTEND;TZID=America/Phoenix:20260529T200000
DTSTAMP:20260421T065458
CREATED:20260414T222248Z
LAST-MODIFIED:20260414T222248Z
UID:10006539-1780056000-1780084800@bluewater-casino-resort.com
SUMMARY:May Flowers Hot Seat Drawings
DESCRIPTION:BlueWater Resort & Casino will be giving away $100 cash prizes by random hot seat drawings on Fridays\, May 1\, 8\, 15\, 22\, & 29; 2026 from 12pm to 8pm. A total of seventeen (17) random hot seat drawings will take place every 30 minutes during the promotional Fridays. Cardholders must actively be playing with their THEclub card during the May Flowers Hot Seat Drawing times.
URL:https://bluewater-casino-resort.com/event/may-flowers-hot-seat-drawings/2026-05-29/
ATTACH;FMTTYPE=image/jpeg:https://bluewater-casino-resort.com/wp-content/uploads/2026/04/May-flowers-hot-seat-Promo-Web.jpg
END:VEVENT
END:VCALENDAR