BEGIN:VCALENDAR
VERSION:2.0
PRODID:-//Blue Water Resort &amp; Casino - ECPv6.15.20//NONSGML v1.0//EN
CALSCALE:GREGORIAN
METHOD:PUBLISH
X-WR-CALNAME:Blue Water Resort &amp; Casino
X-ORIGINAL-URL:https://bluewater-casino-resort.com
X-WR-CALDESC:Events for Blue Water Resort &amp; Casino
REFRESH-INTERVAL;VALUE=DURATION:PT1H
X-Robots-Tag:noindex
X-PUBLISHED-TTL:PT1H
BEGIN:VTIMEZONE
TZID:America/Phoenix
BEGIN:STANDARD
TZOFFSETFROM:-0700
TZOFFSETTO:-0700
TZNAME:MST
DTSTART:20250101T000000
END:STANDARD
END:VTIMEZONE
BEGIN:VEVENT
DTSTART;VALUE=DATE:20260505
DTEND;VALUE=DATE:20260506
DTSTAMP:20260421T072730
CREATED:20260414T221755Z
LAST-MODIFIED:20260414T221755Z
UID:10006523-1777939200-1778025599@bluewater-casino-resort.com
SUMMARY:Fiesta Kiosk Promotion
DESCRIPTION:BlueWater Resort & Casino will be giving away Restricted Free Slot Play on Tuesdays May 5\, 12\, 19\, & 26; 2026 during our Fiesta kiosk promotion. \nParticipants must earn 150 base points each promotional Tuesday\, between the hours of 12:00am and 11:59pm each promotional day.   \nOnce the 150 base points have been earned the participant will be able to play the Fiesta Kiosk Promotion\, for a chance to instantly win $30\, $20\, $10\, or $0 in Restricted Free Slot Play.
URL:https://bluewater-casino-resort.com/event/fiesta-kiosk-promotion/2026-05-05/
ATTACH;FMTTYPE=image/jpeg:https://bluewater-casino-resort.com/wp-content/uploads/2026/04/Fiesta-Kiosk-Promo-Web.jpg
END:VEVENT
BEGIN:VEVENT
DTSTART;VALUE=DATE:20260512
DTEND;VALUE=DATE:20260513
DTSTAMP:20260421T072730
CREATED:20260414T221755Z
LAST-MODIFIED:20260414T221755Z
UID:10006524-1778544000-1778630399@bluewater-casino-resort.com
SUMMARY:Fiesta Kiosk Promotion
DESCRIPTION:BlueWater Resort & Casino will be giving away Restricted Free Slot Play on Tuesdays May 5\, 12\, 19\, & 26; 2026 during our Fiesta kiosk promotion. \nParticipants must earn 150 base points each promotional Tuesday\, between the hours of 12:00am and 11:59pm each promotional day.   \nOnce the 150 base points have been earned the participant will be able to play the Fiesta Kiosk Promotion\, for a chance to instantly win $30\, $20\, $10\, or $0 in Restricted Free Slot Play.
URL:https://bluewater-casino-resort.com/event/fiesta-kiosk-promotion/2026-05-12/
ATTACH;FMTTYPE=image/jpeg:https://bluewater-casino-resort.com/wp-content/uploads/2026/04/Fiesta-Kiosk-Promo-Web.jpg
END:VEVENT
BEGIN:VEVENT
DTSTART;VALUE=DATE:20260519
DTEND;VALUE=DATE:20260520
DTSTAMP:20260421T072730
CREATED:20260414T221755Z
LAST-MODIFIED:20260414T221755Z
UID:10006525-1779148800-1779235199@bluewater-casino-resort.com
SUMMARY:Fiesta Kiosk Promotion
DESCRIPTION:BlueWater Resort & Casino will be giving away Restricted Free Slot Play on Tuesdays May 5\, 12\, 19\, & 26; 2026 during our Fiesta kiosk promotion. \nParticipants must earn 150 base points each promotional Tuesday\, between the hours of 12:00am and 11:59pm each promotional day.   \nOnce the 150 base points have been earned the participant will be able to play the Fiesta Kiosk Promotion\, for a chance to instantly win $30\, $20\, $10\, or $0 in Restricted Free Slot Play.
URL:https://bluewater-casino-resort.com/event/fiesta-kiosk-promotion/2026-05-19/
ATTACH;FMTTYPE=image/jpeg:https://bluewater-casino-resort.com/wp-content/uploads/2026/04/Fiesta-Kiosk-Promo-Web.jpg
END:VEVENT
BEGIN:VEVENT
DTSTART;VALUE=DATE:20260526
DTEND;VALUE=DATE:20260527
DTSTAMP:20260421T072730
CREATED:20260414T221755Z
LAST-MODIFIED:20260414T221755Z
UID:10006526-1779753600-1779839999@bluewater-casino-resort.com
SUMMARY:Fiesta Kiosk Promotion
DESCRIPTION:BlueWater Resort & Casino will be giving away Restricted Free Slot Play on Tuesdays May 5\, 12\, 19\, & 26; 2026 during our Fiesta kiosk promotion. \nParticipants must earn 150 base points each promotional Tuesday\, between the hours of 12:00am and 11:59pm each promotional day.   \nOnce the 150 base points have been earned the participant will be able to play the Fiesta Kiosk Promotion\, for a chance to instantly win $30\, $20\, $10\, or $0 in Restricted Free Slot Play.
URL:https://bluewater-casino-resort.com/event/fiesta-kiosk-promotion/2026-05-26/
ATTACH;FMTTYPE=image/jpeg:https://bluewater-casino-resort.com/wp-content/uploads/2026/04/Fiesta-Kiosk-Promo-Web.jpg
END:VEVENT
END:VCALENDAR