BEGIN:VCALENDAR
VERSION:2.0
PRODID:-//Blue Water Resort &amp; Casino - ECPv6.15.20//NONSGML v1.0//EN
CALSCALE:GREGORIAN
METHOD:PUBLISH
X-ORIGINAL-URL:https://bluewater-casino-resort.com
X-WR-CALDESC:Events for Blue Water Resort &amp; Casino
REFRESH-INTERVAL;VALUE=DURATION:PT1H
X-Robots-Tag:noindex
X-PUBLISHED-TTL:PT1H
BEGIN:VTIMEZONE
TZID:America/Phoenix
BEGIN:STANDARD
TZOFFSETFROM:-0700
TZOFFSETTO:-0700
TZNAME:MST
DTSTART:20240101T000000
END:STANDARD
END:VTIMEZONE
BEGIN:VEVENT
DTSTART;TZID=America/Phoenix:20250323T150000
DTEND;TZID=America/Phoenix:20250323T220000
DTSTAMP:20260423T063341
CREATED:20240216T232507Z
LAST-MODIFIED:20260414T220820Z
UID:10002018-1742742000-1742767200@bluewater-casino-resort.com
SUMMARY:Prime Rib 3PM-10PM @Grille
DESCRIPTION:Prime Rib Dinner served with corn on the cob\, baked potato\, and dinner roll.\n$18.99 with card\, $24.99 without card.
URL:https://bluewater-casino-resort.com/event/prime-rib-3pm-9pm-grille/2025-03-23/
ATTACH;FMTTYPE=image/jpeg:https://bluewater-casino-resort.com/wp-content/uploads/2025/05/Prime-Rib-Grille-Special-Promo-Web-1.jpg
END:VEVENT
BEGIN:VEVENT
DTSTART;VALUE=DATE:20250324
DTEND;VALUE=DATE:20250325
DTSTAMP:20260423T063341
CREATED:20250219T212723Z
LAST-MODIFIED:20250219T212723Z
UID:10002072-1742774400-1742860799@bluewater-casino-resort.com
SUMMARY:Monday Multiplier (2X Points)
DESCRIPTION:Mondays – March 3\, 10\, 17\, 24\, 31 \nParticipants must be playing with their club card properly inserted into any slot machine from 12:01am to 11:59pm\, the Patron Management system will automatically multiply by 2X (two times) any points earned on all machines during the promotional period.
URL:https://bluewater-casino-resort.com/event/monday-multiplier-2x-points-4/2025-03-24/
ATTACH;FMTTYPE=image/jpeg:https://bluewater-casino-resort.com/wp-content/uploads/2025/02/Point-Multiplier-2x-Promo-Web-1.jpg
END:VEVENT
BEGIN:VEVENT
DTSTART;VALUE=DATE:20250324
DTEND;VALUE=DATE:20250325
DTSTAMP:20260423T063341
CREATED:20250320T214154Z
LAST-MODIFIED:20250321T205859Z
UID:10002225-1742774400-1742860799@bluewater-casino-resort.com
SUMMARY:30th Anniversary Celebration Gift Giveaway
DESCRIPTION:Club members must earn 150 base points between 12:01am and 11pm during the promotional period. Limit of one (1) gift item per promotional day. There will be 200 gift items/sets per day while supplies last. \n\nMarch 24 – 30th Anniversary 10oz Insulated Cup\nMarch 25 – 30th Anniversary Runners Cap\nMarch 26 – 30th Anniversary Tshirt
URL:https://bluewater-casino-resort.com/event/30th-anniversary-celebration-gift-giveaway/2025-03-24/
ATTACH;FMTTYPE=image/jpeg:https://bluewater-casino-resort.com/wp-content/uploads/2025/03/30th-Anniversary-Gift-Giveaway-promo-Web.jpg
END:VEVENT
BEGIN:VEVENT
DTSTART;VALUE=DATE:20250324
DTEND;VALUE=DATE:20250325
DTSTAMP:20260423T063341
CREATED:20250320T214710Z
LAST-MODIFIED:20250321T205819Z
UID:10002230-1742774400-1742860799@bluewater-casino-resort.com
SUMMARY:River Riches Cash Giveaway
DESCRIPTION:Starting 6pm\, seven (7) virtual drawings will have one (1) winner every half hour\, ending 9pm. A $500 cash prize will be awarded from 6pm to 8:30pm\, with a grand prize of $3\,500 cash for the 9pm finale. Players earn entries through slots and table games from 12am to 8:55pm. One (1) entry per 50 points.
URL:https://bluewater-casino-resort.com/event/river-riches-cash-giveaway/
ATTACH;FMTTYPE=image/jpeg:https://bluewater-casino-resort.com/wp-content/uploads/2025/03/River-Riches-Cash-Promo-Web.jpg
END:VEVENT
BEGIN:VEVENT
DTSTART;TZID=America/Phoenix:20250324T070000
DTEND;TZID=America/Phoenix:20250324T110000
DTSTAMP:20260423T063341
CREATED:20240216T231842Z
LAST-MODIFIED:20260319T205607Z
UID:10001983-1742799600-1742814000@bluewater-casino-resort.com
SUMMARY:Breakfast Special 7AM-11AM
DESCRIPTION:1-2-3-4 Breakfast Special\n$4.00 with card\, $8.99 without card.
URL:https://bluewater-casino-resort.com/event/breakfast-special-7am-11am/2025-03-24/
ATTACH;FMTTYPE=image/jpeg:https://bluewater-casino-resort.com/wp-content/uploads/2024/02/Breakfast-Special-4.00-1591x751-1.jpg
END:VEVENT
BEGIN:VEVENT
DTSTART;TZID=America/Phoenix:20250324T070000
DTEND;TZID=America/Phoenix:20250324T110000
DTSTAMP:20260423T063341
CREATED:20240216T233138Z
LAST-MODIFIED:20260319T205537Z
UID:10002004-1742799600-1742814000@bluewater-casino-resort.com
SUMMARY:Trucker Special 7AM-11AM
DESCRIPTION:Trucker Special – 4 oz Top Sirloin served with hash browns\, 2 eggs any style and your choice of toast.\n$4.99 with card\, $11.99 without card.
URL:https://bluewater-casino-resort.com/event/trucker-special-7am-11am/2025-03-24/
ATTACH;FMTTYPE=image/jpeg:https://bluewater-casino-resort.com/wp-content/uploads/2024/02/Trucker-Special-1591x751-1.jpg
END:VEVENT
BEGIN:VEVENT
DTSTART;TZID=America/Phoenix:20250324T130000
DTEND;TZID=America/Phoenix:20250324T170000
DTSTAMP:20260423T063341
CREATED:20250219T210056Z
LAST-MODIFIED:20250219T210134Z
UID:10002045-1742821200-1742835600@bluewater-casino-resort.com
SUMMARY:Early Bird - Monday
DESCRIPTION:Open Face Turkey Served with Mashed Potatoes & Seasoned Vegetables 1pm to 5pm \n$6.99 with card and $12.99 without card
URL:https://bluewater-casino-resort.com/event/early-bird-monday/2025-03-24/
ATTACH;FMTTYPE=image/jpeg:https://bluewater-casino-resort.com/wp-content/uploads/2025/02/Early-Bird-Dinner-Web-1.jpg
END:VEVENT
BEGIN:VEVENT
DTSTART;TZID=America/Phoenix:20250324T150000
DTEND;TZID=America/Phoenix:20250324T220000
DTSTAMP:20260423T063341
CREATED:20240216T233452Z
LAST-MODIFIED:20260414T220854Z
UID:10002023-1742828400-1742853600@bluewater-casino-resort.com
SUMMARY:New York Steak 3PM-10PM @ Grille
DESCRIPTION:New York Steak Special\n$12.99 with card\, $18.99 without card.
URL:https://bluewater-casino-resort.com/event/new-york-steak-3pm-9pm-grille/2025-03-24/
ATTACH;FMTTYPE=image/jpeg:https://bluewater-casino-resort.com/wp-content/uploads/2025/09/New-York-Grille-SpecialsPromo-Web-2.jpg
END:VEVENT
BEGIN:VEVENT
DTSTART;TZID=America/Phoenix:20250325T000000
DTEND;TZID=America/Phoenix:20250325T230000
DTSTAMP:20260423T063341
CREATED:20250318T200119Z
LAST-MODIFIED:20250318T200119Z
UID:10002114-1742860800-1742943600@bluewater-casino-resort.com
SUMMARY:BlueWater Bakeware Gift Giveaways
DESCRIPTION:Club members must earn 300 base points each Sunday between the hours of 12:01am and 11pm during the promotional period. Limit of one (1) gift item per promotional day. 200 gift items per promotional day. \n\nApril 6 Gift Item – Elise Stoneware Rectangular Baker\nApril 13 Gift Item – Elise Stoneware Loaf Dish\nApril 20 Gift Item – Elise Stoneware Square Baker\nApril 27 Gift Item – Elise Stoneware Round Casserole
URL:https://bluewater-casino-resort.com/event/bluewater-bakeware-gift-giveaways/2025-03-25/
ATTACH;FMTTYPE=image/jpeg:https://bluewater-casino-resort.com/wp-content/uploads/2025/03/Gift-Giveaway-Promo-Web-copy.jpg
END:VEVENT
BEGIN:VEVENT
DTSTART;VALUE=DATE:20250325
DTEND;VALUE=DATE:20250326
DTSTAMP:20260423T063341
CREATED:20250219T212922Z
LAST-MODIFIED:20250219T212922Z
UID:10002077-1742860800-1742947199@bluewater-casino-resort.com
SUMMARY:Luck of the Irish Kiosk Promo
DESCRIPTION:Tuesdays – March 4\, 11\, 18\, 25 \nPatrons must earn 150 Base Points during the promotional period (12:01am – 11:59pm) to play the Luck of the Irish kiosk game for a chance to instantly win $30\, $20\, $10\, or $0 in Restricted Free Slot Play\, up to three (3) plays per day.
URL:https://bluewater-casino-resort.com/event/luck-of-the-irish-kiosk-promo/2025-03-25/
ATTACH;FMTTYPE=image/jpeg:https://bluewater-casino-resort.com/wp-content/uploads/2025/02/Luck-of-the-Irish-Promo-Web.jpg
END:VEVENT
BEGIN:VEVENT
DTSTART;VALUE=DATE:20250325
DTEND;VALUE=DATE:20250326
DTSTAMP:20260423T063341
CREATED:20250320T214154Z
LAST-MODIFIED:20250321T205859Z
UID:10002226-1742860800-1742947199@bluewater-casino-resort.com
SUMMARY:30th Anniversary Celebration Gift Giveaway
DESCRIPTION:Club members must earn 150 base points between 12:01am and 11pm during the promotional period. Limit of one (1) gift item per promotional day. There will be 200 gift items/sets per day while supplies last. \n\nMarch 24 – 30th Anniversary 10oz Insulated Cup\nMarch 25 – 30th Anniversary Runners Cap\nMarch 26 – 30th Anniversary Tshirt
URL:https://bluewater-casino-resort.com/event/30th-anniversary-celebration-gift-giveaway/2025-03-25/
ATTACH;FMTTYPE=image/jpeg:https://bluewater-casino-resort.com/wp-content/uploads/2025/03/30th-Anniversary-Gift-Giveaway-promo-Web.jpg
END:VEVENT
BEGIN:VEVENT
DTSTART;VALUE=DATE:20250325
DTEND;VALUE=DATE:20250326
DTSTAMP:20260423T063341
CREATED:20250320T214358Z
LAST-MODIFIED:20250321T210022Z
UID:10002228-1742860800-1742947199@bluewater-casino-resort.com
SUMMARY:30th Anniversary Slot Tournament
DESCRIPTION:Participants register at THEclub on promotional day from 8am to 7:45pm with their THEclub card and a valid ID. Once a THEclub representative verifies\, the session log uses the participant’s information: name\, player’s club card number\, and session time. 1st Place – $500\, 2nd Place – $400\, 3rd Place – $300\, 4th Place – $200\, and 5th Place – $100
URL:https://bluewater-casino-resort.com/event/30th-anniversary-slot-tournament/
ATTACH;FMTTYPE=image/jpeg:https://bluewater-casino-resort.com/wp-content/uploads/2025/03/30th-Anniversary-Celebration-Slot-Tournament-Promo-Web.jpg
END:VEVENT
BEGIN:VEVENT
DTSTART;TZID=America/Phoenix:20250325T070000
DTEND;TZID=America/Phoenix:20250325T110000
DTSTAMP:20260423T063341
CREATED:20240216T231842Z
LAST-MODIFIED:20260319T205607Z
UID:10001984-1742886000-1742900400@bluewater-casino-resort.com
SUMMARY:Breakfast Special 7AM-11AM
DESCRIPTION:1-2-3-4 Breakfast Special\n$4.00 with card\, $8.99 without card.
URL:https://bluewater-casino-resort.com/event/breakfast-special-7am-11am/2025-03-25/
ATTACH;FMTTYPE=image/jpeg:https://bluewater-casino-resort.com/wp-content/uploads/2024/02/Breakfast-Special-4.00-1591x751-1.jpg
END:VEVENT
BEGIN:VEVENT
DTSTART;TZID=America/Phoenix:20250325T070000
DTEND;TZID=America/Phoenix:20250325T110000
DTSTAMP:20260423T063341
CREATED:20240216T233138Z
LAST-MODIFIED:20260319T205537Z
UID:10002005-1742886000-1742900400@bluewater-casino-resort.com
SUMMARY:Trucker Special 7AM-11AM
DESCRIPTION:Trucker Special – 4 oz Top Sirloin served with hash browns\, 2 eggs any style and your choice of toast.\n$4.99 with card\, $11.99 without card.
URL:https://bluewater-casino-resort.com/event/trucker-special-7am-11am/2025-03-25/
ATTACH;FMTTYPE=image/jpeg:https://bluewater-casino-resort.com/wp-content/uploads/2024/02/Trucker-Special-1591x751-1.jpg
END:VEVENT
BEGIN:VEVENT
DTSTART;TZID=America/Phoenix:20250325T130000
DTEND;TZID=America/Phoenix:20250325T170000
DTSTAMP:20260423T063341
CREATED:20250219T210434Z
LAST-MODIFIED:20250219T210434Z
UID:10002050-1742907600-1742922000@bluewater-casino-resort.com
SUMMARY:Early Bird - Tuesday
DESCRIPTION:6inc Meatball Sub with fries 1pm to 5pm  \n$6.99 with card and $12.99 without card.
URL:https://bluewater-casino-resort.com/event/early-bird-tuesday/2025-03-25/
ATTACH;FMTTYPE=image/jpeg:https://bluewater-casino-resort.com/wp-content/uploads/2025/02/Early-Bird-Dinner-Web-1.jpg
END:VEVENT
BEGIN:VEVENT
DTSTART;TZID=America/Phoenix:20250325T150000
DTEND;TZID=America/Phoenix:20250325T210000
DTSTAMP:20260423T063341
CREATED:20250117T231357Z
LAST-MODIFIED:20250408T194405Z
UID:10002028-1742914800-1742936400@bluewater-casino-resort.com
SUMMARY:Chicken Cordon Bleu @ Grille
DESCRIPTION:Chicken Cordon Bleu with a Southwestern White Cheddar Cheese Sauce\, Rice Pilaf\, and Seasoned Vegetables. \n$10.99 with card\, $16.99 without card
URL:https://bluewater-casino-resort.com/event/chicken-cordon-bleu-grille/2025-03-25/
ATTACH;FMTTYPE=image/jpeg:https://bluewater-casino-resort.com/wp-content/uploads/2025/01/Chicken-Cordon-Bleu-Grille-Special-Web-Promo-.jpg
END:VEVENT
BEGIN:VEVENT
DTSTART;VALUE=DATE:20250326
DTEND;VALUE=DATE:20250327
DTSTAMP:20260423T063341
CREATED:20250320T214154Z
LAST-MODIFIED:20250321T205859Z
UID:10002227-1742947200-1743033599@bluewater-casino-resort.com
SUMMARY:30th Anniversary Celebration Gift Giveaway
DESCRIPTION:Club members must earn 150 base points between 12:01am and 11pm during the promotional period. Limit of one (1) gift item per promotional day. There will be 200 gift items/sets per day while supplies last. \n\nMarch 24 – 30th Anniversary 10oz Insulated Cup\nMarch 25 – 30th Anniversary Runners Cap\nMarch 26 – 30th Anniversary Tshirt
URL:https://bluewater-casino-resort.com/event/30th-anniversary-celebration-gift-giveaway/2025-03-26/
ATTACH;FMTTYPE=image/jpeg:https://bluewater-casino-resort.com/wp-content/uploads/2025/03/30th-Anniversary-Gift-Giveaway-promo-Web.jpg
END:VEVENT
BEGIN:VEVENT
DTSTART;VALUE=DATE:20250326
DTEND;VALUE=DATE:20250327
DTSTAMP:20260423T063341
CREATED:20250320T214537Z
LAST-MODIFIED:20250321T205956Z
UID:10002229-1742947200-1743033599@bluewater-casino-resort.com
SUMMARY:BlueWater Bucks Cash Cube Drawings
DESCRIPTION:BlueWater will give away cash prizes from 6pm to 8pm. One (1) name will be drawn every half hour.  Winners will enter the cash cube machine for the opportunity to grab up to $2\,500 in cash equivalent\, play-type money. Players earn entries through slots and table games from 12am-7:55pm. One (1) virtual drawing entry per 50 points.
URL:https://bluewater-casino-resort.com/event/bluewater-bucks-cash-cube-drawings/
ATTACH;FMTTYPE=image/jpeg:https://bluewater-casino-resort.com/wp-content/uploads/2025/03/Bluewater-Bucks-Cash-Cube-Promo-Web.jpg
END:VEVENT
BEGIN:VEVENT
DTSTART;TZID=America/Phoenix:20250326T070000
DTEND;TZID=America/Phoenix:20250326T110000
DTSTAMP:20260423T063341
CREATED:20240216T231842Z
LAST-MODIFIED:20260319T205607Z
UID:10001985-1742972400-1742986800@bluewater-casino-resort.com
SUMMARY:Breakfast Special 7AM-11AM
DESCRIPTION:1-2-3-4 Breakfast Special\n$4.00 with card\, $8.99 without card.
URL:https://bluewater-casino-resort.com/event/breakfast-special-7am-11am/2025-03-26/
ATTACH;FMTTYPE=image/jpeg:https://bluewater-casino-resort.com/wp-content/uploads/2024/02/Breakfast-Special-4.00-1591x751-1.jpg
END:VEVENT
BEGIN:VEVENT
DTSTART;TZID=America/Phoenix:20250326T070000
DTEND;TZID=America/Phoenix:20250326T110000
DTSTAMP:20260423T063341
CREATED:20240216T233138Z
LAST-MODIFIED:20260319T205537Z
UID:10002006-1742972400-1742986800@bluewater-casino-resort.com
SUMMARY:Trucker Special 7AM-11AM
DESCRIPTION:Trucker Special – 4 oz Top Sirloin served with hash browns\, 2 eggs any style and your choice of toast.\n$4.99 with card\, $11.99 without card.
URL:https://bluewater-casino-resort.com/event/trucker-special-7am-11am/2025-03-26/
ATTACH;FMTTYPE=image/jpeg:https://bluewater-casino-resort.com/wp-content/uploads/2024/02/Trucker-Special-1591x751-1.jpg
END:VEVENT
BEGIN:VEVENT
DTSTART;TZID=America/Phoenix:20250326T080000
DTEND;TZID=America/Phoenix:20250326T230000
DTSTAMP:20260423T063341
CREATED:20250219T213049Z
LAST-MODIFIED:20250219T213049Z
UID:10002081-1742976000-1743030000@bluewater-casino-resort.com
SUMMARY:$50 For $40
DESCRIPTION:Wednesdays – March 5\, 12\, 19\, 26 \nClub members will purchase a $40 promotional voucher from the cashier’s cage and redeem at THEclub for $50 in Restricted Free Slot Play\, starting at 8am to 11pm. Participants can only redeem one (1) promotional voucher per promotional day.
URL:https://bluewater-casino-resort.com/event/50-for-40-4/2025-03-26/
ATTACH;FMTTYPE=image/jpeg:https://bluewater-casino-resort.com/wp-content/uploads/2025/02/50-for-40-Promo-Web-4.jpg
END:VEVENT
BEGIN:VEVENT
DTSTART;TZID=America/Phoenix:20250326T130000
DTEND;TZID=America/Phoenix:20250326T170000
DTSTAMP:20260423T063342
CREATED:20250219T210722Z
LAST-MODIFIED:20250219T210722Z
UID:10002054-1742994000-1743008400@bluewater-casino-resort.com
SUMMARY:Early Bird - Wednesday
DESCRIPTION:Beef Tacos with Mashed Spanish Rice & Refried Beans 1pm to 5pm \n$6.99 with card and $12.99 without card.
URL:https://bluewater-casino-resort.com/event/early-bird-wednesday/2025-03-26/
ATTACH;FMTTYPE=image/jpeg:https://bluewater-casino-resort.com/wp-content/uploads/2025/02/Early-Bird-Dinner-Web-1.jpg
END:VEVENT
BEGIN:VEVENT
DTSTART;TZID=America/Phoenix:20250326T150000
DTEND;TZID=America/Phoenix:20250326T210000
DTSTAMP:20260423T063342
CREATED:20250117T231617Z
LAST-MODIFIED:20250408T194434Z
UID:10002032-1743001200-1743022800@bluewater-casino-resort.com
SUMMARY:Beef Fajitas @ Grille
DESCRIPTION:Beef Fajitas with Spanish Rice and Refried Beans\, and two (2) Tortillas. \n$12.99 with card\, $18.99 without card.
URL:https://bluewater-casino-resort.com/event/beef-fajitas-grille/2025-03-26/
ATTACH;FMTTYPE=image/jpeg:https://bluewater-casino-resort.com/wp-content/uploads/2025/01/Beef-Fajitas-Grille-SpecialPromo-Web.jpg
END:VEVENT
BEGIN:VEVENT
DTSTART;TZID=America/Phoenix:20250327T070000
DTEND;TZID=America/Phoenix:20250327T110000
DTSTAMP:20260423T063342
CREATED:20240216T231842Z
LAST-MODIFIED:20260319T205607Z
UID:10001986-1743058800-1743073200@bluewater-casino-resort.com
SUMMARY:Breakfast Special 7AM-11AM
DESCRIPTION:1-2-3-4 Breakfast Special\n$4.00 with card\, $8.99 without card.
URL:https://bluewater-casino-resort.com/event/breakfast-special-7am-11am/2025-03-27/
ATTACH;FMTTYPE=image/jpeg:https://bluewater-casino-resort.com/wp-content/uploads/2024/02/Breakfast-Special-4.00-1591x751-1.jpg
END:VEVENT
BEGIN:VEVENT
DTSTART;TZID=America/Phoenix:20250327T070000
DTEND;TZID=America/Phoenix:20250327T110000
DTSTAMP:20260423T063342
CREATED:20240216T233138Z
LAST-MODIFIED:20260319T205537Z
UID:10002007-1743058800-1743073200@bluewater-casino-resort.com
SUMMARY:Trucker Special 7AM-11AM
DESCRIPTION:Trucker Special – 4 oz Top Sirloin served with hash browns\, 2 eggs any style and your choice of toast.\n$4.99 with card\, $11.99 without card.
URL:https://bluewater-casino-resort.com/event/trucker-special-7am-11am/2025-03-27/
ATTACH;FMTTYPE=image/jpeg:https://bluewater-casino-resort.com/wp-content/uploads/2024/02/Trucker-Special-1591x751-1.jpg
END:VEVENT
BEGIN:VEVENT
DTSTART;TZID=America/Phoenix:20250327T080000
DTEND;TZID=America/Phoenix:20250327T194500
DTSTAMP:20260423T063342
CREATED:20250219T213235Z
LAST-MODIFIED:20250219T213235Z
UID:10002085-1743062400-1743104700@bluewater-casino-resort.com
SUMMARY:Go For Gold Slot Tournaments
DESCRIPTION:Thursdays – March 6\, 13\, 20\, 27 \nParticipants must sign up/register on promotional Wednesdays starting at 8:01am and ending at 7:45pm\, to be eligible to play in the slot tournament.  Top 3 scores at end of each day win cash prizes ($300\, $200\, $100). Slot tournament participants who score highest in their session receive $75 Free Slot Play. 
URL:https://bluewater-casino-resort.com/event/go-for-gold-slot-tournaments/2025-03-27/
ATTACH;FMTTYPE=image/jpeg:https://bluewater-casino-resort.com/wp-content/uploads/2025/02/Go-for-Gold-slot-Promo-Web.jpg
END:VEVENT
BEGIN:VEVENT
DTSTART;TZID=America/Phoenix:20250327T130000
DTEND;TZID=America/Phoenix:20250327T170000
DTSTAMP:20260423T063342
CREATED:20250219T210930Z
LAST-MODIFIED:20250219T210930Z
UID:10002058-1743080400-1743094800@bluewater-casino-resort.com
SUMMARY:Early Bird - Thursday
DESCRIPTION:Salisbury Steak with Mushroom & Onions with Mashed Potatoes and Seasoned Vegetables 1pm to 5pm \n$6.99 with card and $12.99 without card.
URL:https://bluewater-casino-resort.com/event/early-bird-thursday/2025-03-27/
ATTACH;FMTTYPE=image/jpeg:https://bluewater-casino-resort.com/wp-content/uploads/2025/02/Early-Bird-Dinner-Web-1.jpg
END:VEVENT
BEGIN:VEVENT
DTSTART;TZID=America/Phoenix:20250327T150000
DTEND;TZID=America/Phoenix:20250327T220000
DTSTAMP:20260423T063342
CREATED:20250117T231825Z
LAST-MODIFIED:20250516T214740Z
UID:10002036-1743087600-1743112800@bluewater-casino-resort.com
SUMMARY:Shrimp Basket @ Grille
DESCRIPTION:Shrimp Basket with Coleslaw and Cajun Fries. \n$12.99 with card\, $18.99 without card.
URL:https://bluewater-casino-resort.com/event/shrimp-basket-grille/2025-03-27/
ATTACH;FMTTYPE=image/jpeg:https://bluewater-casino-resort.com/wp-content/uploads/2025/01/Shrimp-Basket-Grille-SpecialPromo-Web.jpg
END:VEVENT
BEGIN:VEVENT
DTSTART;TZID=America/Phoenix:20250328T070000
DTEND;TZID=America/Phoenix:20250328T110000
DTSTAMP:20260423T063342
CREATED:20240216T231842Z
LAST-MODIFIED:20260319T205607Z
UID:10001987-1743145200-1743159600@bluewater-casino-resort.com
SUMMARY:Breakfast Special 7AM-11AM
DESCRIPTION:1-2-3-4 Breakfast Special\n$4.00 with card\, $8.99 without card.
URL:https://bluewater-casino-resort.com/event/breakfast-special-7am-11am/2025-03-28/
ATTACH;FMTTYPE=image/jpeg:https://bluewater-casino-resort.com/wp-content/uploads/2024/02/Breakfast-Special-4.00-1591x751-1.jpg
END:VEVENT
BEGIN:VEVENT
DTSTART;TZID=America/Phoenix:20250328T070000
DTEND;TZID=America/Phoenix:20250328T110000
DTSTAMP:20260423T063342
CREATED:20240216T233138Z
LAST-MODIFIED:20260319T205537Z
UID:10002008-1743145200-1743159600@bluewater-casino-resort.com
SUMMARY:Trucker Special 7AM-11AM
DESCRIPTION:Trucker Special – 4 oz Top Sirloin served with hash browns\, 2 eggs any style and your choice of toast.\n$4.99 with card\, $11.99 without card.
URL:https://bluewater-casino-resort.com/event/trucker-special-7am-11am/2025-03-28/
ATTACH;FMTTYPE=image/jpeg:https://bluewater-casino-resort.com/wp-content/uploads/2024/02/Trucker-Special-1591x751-1.jpg
END:VEVENT
END:VCALENDAR