BEGIN:VCALENDAR
VERSION:2.0
PRODID:-//Blue Water Resort &amp; Casino - ECPv6.15.20//NONSGML v1.0//EN
CALSCALE:GREGORIAN
METHOD:PUBLISH
X-ORIGINAL-URL:https://bluewater-casino-resort.com
X-WR-CALDESC:Events for Blue Water Resort &amp; Casino
REFRESH-INTERVAL;VALUE=DURATION:PT1H
X-Robots-Tag:noindex
X-PUBLISHED-TTL:PT1H
BEGIN:VTIMEZONE
TZID:America/Phoenix
BEGIN:STANDARD
TZOFFSETFROM:-0700
TZOFFSETTO:-0700
TZNAME:MST
DTSTART:20230101T000000
END:STANDARD
END:VTIMEZONE
BEGIN:VEVENT
DTSTART;TZID=America/Phoenix:20240527T070000
DTEND;TZID=America/Phoenix:20240527T110000
DTSTAMP:20260419T133115
CREATED:20240216T231842Z
LAST-MODIFIED:20260319T205607Z
UID:10000314-1716793200-1716807600@bluewater-casino-resort.com
SUMMARY:Breakfast Special 7AM-11AM
DESCRIPTION:1-2-3-4 Breakfast Special\n$4.00 with card\, $8.99 without card.
URL:https://bluewater-casino-resort.com/event/breakfast-special-7am-11am/2024-05-27/
ATTACH;FMTTYPE=image/jpeg:https://bluewater-casino-resort.com/wp-content/uploads/2024/02/Breakfast-Special-4.00-1591x751-1.jpg
END:VEVENT
BEGIN:VEVENT
DTSTART;TZID=America/Phoenix:20240527T070000
DTEND;TZID=America/Phoenix:20240527T110000
DTSTAMP:20260419T133115
CREATED:20240216T233138Z
LAST-MODIFIED:20260319T205537Z
UID:10000329-1716793200-1716807600@bluewater-casino-resort.com
SUMMARY:Trucker Special 7AM-11AM
DESCRIPTION:Trucker Special – 4 oz Top Sirloin served with hash browns\, 2 eggs any style and your choice of toast.\n$4.99 with card\, $11.99 without card.
URL:https://bluewater-casino-resort.com/event/trucker-special-7am-11am/2024-05-27/
ATTACH;FMTTYPE=image/jpeg:https://bluewater-casino-resort.com/wp-content/uploads/2024/02/Trucker-Special-1591x751-1.jpg
END:VEVENT
BEGIN:VEVENT
DTSTART;TZID=America/Phoenix:20240527T150000
DTEND;TZID=America/Phoenix:20240527T220000
DTSTAMP:20260419T133115
CREATED:20240216T233452Z
LAST-MODIFIED:20260414T220854Z
UID:10000335-1716822000-1716847200@bluewater-casino-resort.com
SUMMARY:New York Steak 3PM-10PM @ Grille
DESCRIPTION:New York Steak Special\n$12.99 with card\, $18.99 without card.
URL:https://bluewater-casino-resort.com/event/new-york-steak-3pm-9pm-grille/2024-05-27/
ATTACH;FMTTYPE=image/jpeg:https://bluewater-casino-resort.com/wp-content/uploads/2025/09/New-York-Grille-SpecialsPromo-Web-2.jpg
END:VEVENT
BEGIN:VEVENT
DTSTART;TZID=America/Phoenix:20240527T150000
DTEND;TZID=America/Phoenix:20240527T220000
DTSTAMP:20260419T133115
CREATED:20240424T222445Z
LAST-MODIFIED:20240424T222445Z
UID:10000287-1716822000-1716847200@bluewater-casino-resort.com
SUMMARY:Memorial Day BBQ @ BlueWater Grille
DESCRIPTION:
URL:https://bluewater-casino-resort.com/event/memorial-day-bbq-bluewater-grille/
ATTACH;FMTTYPE=image/jpeg:https://bluewater-casino-resort.com/wp-content/uploads/2024/04/Memorial-Day-BBQ-Web-Promo-2024-copy.jpg
END:VEVENT
BEGIN:VEVENT
DTSTART;VALUE=DATE:20240528
DTEND;VALUE=DATE:20240529
DTSTAMP:20260419T133115
CREATED:20240430T204739Z
LAST-MODIFIED:20240430T204739Z
UID:10000362-1716854400-1716940799@bluewater-casino-resort.com
SUMMARY:Summer Beach Ball Kiosk
DESCRIPTION:When: Every Tuesday in May (May 7\, 14\, 21\, 28)\nOffer: Chance to win $30\, $20\, $10\, or $0 in Restricted Free Slot Play\nEligibility: THEclub members who earn 150 base points\nTime: All day (12:01am to 11:59pm)
URL:https://bluewater-casino-resort.com/event/summer-beach-ball-kiosk/2024-05-28/
ATTACH;FMTTYPE=image/jpeg:https://bluewater-casino-resort.com/wp-content/uploads/2024/04/Summer-Beach-Ball-Promo-Web.jpg
END:VEVENT
BEGIN:VEVENT
DTSTART;TZID=America/Phoenix:20240528T070000
DTEND;TZID=America/Phoenix:20240528T110000
DTSTAMP:20260419T133115
CREATED:20240216T231842Z
LAST-MODIFIED:20260319T205607Z
UID:10000315-1716879600-1716894000@bluewater-casino-resort.com
SUMMARY:Breakfast Special 7AM-11AM
DESCRIPTION:1-2-3-4 Breakfast Special\n$4.00 with card\, $8.99 without card.
URL:https://bluewater-casino-resort.com/event/breakfast-special-7am-11am/2024-05-28/
ATTACH;FMTTYPE=image/jpeg:https://bluewater-casino-resort.com/wp-content/uploads/2024/02/Breakfast-Special-4.00-1591x751-1.jpg
END:VEVENT
BEGIN:VEVENT
DTSTART;TZID=America/Phoenix:20240528T070000
DTEND;TZID=America/Phoenix:20240528T110000
DTSTAMP:20260419T133115
CREATED:20240216T233138Z
LAST-MODIFIED:20260319T205537Z
UID:10000330-1716879600-1716894000@bluewater-casino-resort.com
SUMMARY:Trucker Special 7AM-11AM
DESCRIPTION:Trucker Special – 4 oz Top Sirloin served with hash browns\, 2 eggs any style and your choice of toast.\n$4.99 with card\, $11.99 without card.
URL:https://bluewater-casino-resort.com/event/trucker-special-7am-11am/2024-05-28/
ATTACH;FMTTYPE=image/jpeg:https://bluewater-casino-resort.com/wp-content/uploads/2024/02/Trucker-Special-1591x751-1.jpg
END:VEVENT
BEGIN:VEVENT
DTSTART;TZID=America/Phoenix:20240528T150000
DTEND;TZID=America/Phoenix:20240528T210000
DTSTAMP:20260419T133115
CREATED:20240216T233625Z
LAST-MODIFIED:20240424T223706Z
UID:10000339-1716908400-1716930000@bluewater-casino-resort.com
SUMMARY:Orange Chicken 3PM-9PM @ Grille
DESCRIPTION:
URL:https://bluewater-casino-resort.com/event/orange-chicken-3pm-9pm-grille/2024-05-28/
ATTACH;FMTTYPE=image/jpeg:https://bluewater-casino-resort.com/wp-content/uploads/2024/02/Orange-Chicken-Bowl-1591x751-1.jpg
END:VEVENT
BEGIN:VEVENT
DTSTART;TZID=America/Phoenix:20240529T070000
DTEND;TZID=America/Phoenix:20240529T110000
DTSTAMP:20260419T133115
CREATED:20240216T231842Z
LAST-MODIFIED:20260319T205607Z
UID:10000316-1716966000-1716980400@bluewater-casino-resort.com
SUMMARY:Breakfast Special 7AM-11AM
DESCRIPTION:1-2-3-4 Breakfast Special\n$4.00 with card\, $8.99 without card.
URL:https://bluewater-casino-resort.com/event/breakfast-special-7am-11am/2024-05-29/
ATTACH;FMTTYPE=image/jpeg:https://bluewater-casino-resort.com/wp-content/uploads/2024/02/Breakfast-Special-4.00-1591x751-1.jpg
END:VEVENT
BEGIN:VEVENT
DTSTART;TZID=America/Phoenix:20240529T070000
DTEND;TZID=America/Phoenix:20240529T110000
DTSTAMP:20260419T133115
CREATED:20240216T233138Z
LAST-MODIFIED:20260319T205537Z
UID:10000880-1716966000-1716980400@bluewater-casino-resort.com
SUMMARY:Trucker Special 7AM-11AM
DESCRIPTION:Trucker Special – 4 oz Top Sirloin served with hash browns\, 2 eggs any style and your choice of toast.\n$4.99 with card\, $11.99 without card.
URL:https://bluewater-casino-resort.com/event/trucker-special-7am-11am/2024-05-29/
ATTACH;FMTTYPE=image/jpeg:https://bluewater-casino-resort.com/wp-content/uploads/2024/02/Trucker-Special-1591x751-1.jpg
END:VEVENT
BEGIN:VEVENT
DTSTART;TZID=America/Phoenix:20240529T080000
DTEND;TZID=America/Phoenix:20240529T230000
DTSTAMP:20260419T133115
CREATED:20240430T204915Z
LAST-MODIFIED:20240430T204915Z
UID:10000367-1716969600-1717023600@bluewater-casino-resort.com
SUMMARY:Cool Summer Gift Giveaways
DESCRIPTION:When: Every Wednesday in May (May 1\, 8\, 15\, 22\, 29)\nOffer: Various cooling gifts like a tower fan\, cooling sheet set\, pillow\, mattress topper\, and\nthrow blanket\nEligibility: THEclub members who earn 300 base points\nTime: Gifts available 8:00am – 11:00pm
URL:https://bluewater-casino-resort.com/event/cool-summer-gift-giveaways/2024-05-29/
ATTACH;FMTTYPE=image/jpeg:https://bluewater-casino-resort.com/wp-content/uploads/2024/04/Cooling-Summer-Gift-Web-copy.jpg
END:VEVENT
BEGIN:VEVENT
DTSTART;TZID=America/Phoenix:20240529T150000
DTEND;TZID=America/Phoenix:20240529T210000
DTSTAMP:20260419T133115
CREATED:20240216T233804Z
LAST-MODIFIED:20240424T223808Z
UID:10000344-1716994800-1717016400@bluewater-casino-resort.com
SUMMARY:BBQ Chicken & Spicy Sausage 3PM-9PM @ Grille
DESCRIPTION:
URL:https://bluewater-casino-resort.com/event/bbq-chicken-spicy-sausage-3pm-9pm-grille/2024-05-29/
ATTACH;FMTTYPE=image/jpeg:https://bluewater-casino-resort.com/wp-content/uploads/2024/02/BBQ-Chicken-Spicy-Sausage-1591x751-1.jpg
END:VEVENT
BEGIN:VEVENT
DTSTART;TZID=America/Phoenix:20240529T190000
DTEND;TZID=America/Phoenix:20240529T230000
DTSTAMP:20260419T133115
CREATED:20240517T214539Z
LAST-MODIFIED:20240517T214539Z
UID:10000776-1717009200-1717023600@bluewater-casino-resort.com
SUMMARY:Karaoke Nights @ Dig Lounge
DESCRIPTION:
URL:https://bluewater-casino-resort.com/event/karaoke-nights-dig-lounge/2024-05-29/
ATTACH;FMTTYPE=image/jpeg:https://bluewater-casino-resort.com/wp-content/uploads/2024/03/Karaoke-751x751-2.jpg
END:VEVENT
BEGIN:VEVENT
DTSTART;TZID=America/Phoenix:20240530T070000
DTEND;TZID=America/Phoenix:20240530T110000
DTSTAMP:20260419T133115
CREATED:20240216T231842Z
LAST-MODIFIED:20260319T205607Z
UID:10000317-1717052400-1717066800@bluewater-casino-resort.com
SUMMARY:Breakfast Special 7AM-11AM
DESCRIPTION:1-2-3-4 Breakfast Special\n$4.00 with card\, $8.99 without card.
URL:https://bluewater-casino-resort.com/event/breakfast-special-7am-11am/2024-05-30/
ATTACH;FMTTYPE=image/jpeg:https://bluewater-casino-resort.com/wp-content/uploads/2024/02/Breakfast-Special-4.00-1591x751-1.jpg
END:VEVENT
BEGIN:VEVENT
DTSTART;TZID=America/Phoenix:20240530T070000
DTEND;TZID=America/Phoenix:20240530T110000
DTSTAMP:20260419T133115
CREATED:20240216T233138Z
LAST-MODIFIED:20260319T205537Z
UID:10000331-1717052400-1717066800@bluewater-casino-resort.com
SUMMARY:Trucker Special 7AM-11AM
DESCRIPTION:Trucker Special – 4 oz Top Sirloin served with hash browns\, 2 eggs any style and your choice of toast.\n$4.99 with card\, $11.99 without card.
URL:https://bluewater-casino-resort.com/event/trucker-special-7am-11am/2024-05-30/
ATTACH;FMTTYPE=image/jpeg:https://bluewater-casino-resort.com/wp-content/uploads/2024/02/Trucker-Special-1591x751-1.jpg
END:VEVENT
BEGIN:VEVENT
DTSTART;TZID=America/Phoenix:20240530T150000
DTEND;TZID=America/Phoenix:20240530T210000
DTSTAMP:20260419T133115
CREATED:20240216T233906Z
LAST-MODIFIED:20240424T223939Z
UID:10000349-1717081200-1717102800@bluewater-casino-resort.com
SUMMARY:Chicken Fried Chicken 3PM-9PM @ Grille
DESCRIPTION:
URL:https://bluewater-casino-resort.com/event/chicken-fried-chicken-3pm-9pm-grille/2024-05-30/
ATTACH;FMTTYPE=image/jpeg:https://bluewater-casino-resort.com/wp-content/uploads/2024/02/Chicken-Fried-Chicken-1591x751-1.jpg
END:VEVENT
BEGIN:VEVENT
DTSTART;TZID=America/Phoenix:20240530T170000
DTEND;TZID=America/Phoenix:20240530T190000
DTSTAMP:20260419T133115
CREATED:20240430T205155Z
LAST-MODIFIED:20240430T205155Z
UID:10000372-1717088400-1717095600@bluewater-casino-resort.com
SUMMARY:Beat the Heat Slot Tournaments
DESCRIPTION:When: Every Thursday in May (May 2\, 9\, 16\, 23\, 30)\nOffer: Weekly cash prizes; grand prizes on the final day\nEligibility: THEclub members who have earned 100 base points\nTime: Slot Tournaments from 5:00pm to 7:00pm
URL:https://bluewater-casino-resort.com/event/beat-the-heat-slot-tournaments/2024-05-30/
ATTACH;FMTTYPE=image/jpeg:https://bluewater-casino-resort.com/wp-content/uploads/2024/04/Beat-The-Heat-Web-Promo.jpg
END:VEVENT
BEGIN:VEVENT
DTSTART;TZID=America/Phoenix:20240531T070000
DTEND;TZID=America/Phoenix:20240531T110000
DTSTAMP:20260419T133115
CREATED:20240216T231842Z
LAST-MODIFIED:20260319T205607Z
UID:10000318-1717138800-1717153200@bluewater-casino-resort.com
SUMMARY:Breakfast Special 7AM-11AM
DESCRIPTION:1-2-3-4 Breakfast Special\n$4.00 with card\, $8.99 without card.
URL:https://bluewater-casino-resort.com/event/breakfast-special-7am-11am/2024-05-31/
ATTACH;FMTTYPE=image/jpeg:https://bluewater-casino-resort.com/wp-content/uploads/2024/02/Breakfast-Special-4.00-1591x751-1.jpg
END:VEVENT
BEGIN:VEVENT
DTSTART;TZID=America/Phoenix:20240531T070000
DTEND;TZID=America/Phoenix:20240531T110000
DTSTAMP:20260419T133115
CREATED:20240216T233138Z
LAST-MODIFIED:20260319T205537Z
UID:10000881-1717138800-1717153200@bluewater-casino-resort.com
SUMMARY:Trucker Special 7AM-11AM
DESCRIPTION:Trucker Special – 4 oz Top Sirloin served with hash browns\, 2 eggs any style and your choice of toast.\n$4.99 with card\, $11.99 without card.
URL:https://bluewater-casino-resort.com/event/trucker-special-7am-11am/2024-05-31/
ATTACH;FMTTYPE=image/jpeg:https://bluewater-casino-resort.com/wp-content/uploads/2024/02/Trucker-Special-1591x751-1.jpg
END:VEVENT
BEGIN:VEVENT
DTSTART;TZID=America/Phoenix:20240531T120000
DTEND;TZID=America/Phoenix:20240531T200000
DTSTAMP:20260419T133115
CREATED:20240430T205425Z
LAST-MODIFIED:20240430T205425Z
UID:10000377-1717156800-1717185600@bluewater-casino-resort.com
SUMMARY:Fiesta Fridays Hot Seat Drawings
DESCRIPTION:When: Every Friday in May (May 3\, 10\, 17\, 24\, 31)\nOffer: $100 cash prize in random hot seat drawings\nEligibility: THEclub members actively playing with cards inserted in slot machines\nTime: 12:00pm – 8:00pm\, every 30 minutes
URL:https://bluewater-casino-resort.com/event/fiesta-fridays-hot-seat-drawings/2024-05-31/
ATTACH;FMTTYPE=image/jpeg:https://bluewater-casino-resort.com/wp-content/uploads/2024/04/Fiesta-Friday-promo-Web.jpg
END:VEVENT
BEGIN:VEVENT
DTSTART;TZID=America/Phoenix:20240531T150000
DTEND;TZID=America/Phoenix:20240531T210000
DTSTAMP:20260419T133115
CREATED:20240216T232152Z
LAST-MODIFIED:20240424T224024Z
UID:10000354-1717167600-1717189200@bluewater-casino-resort.com
SUMMARY:Shrimp Sandwich 3PM-9PM @ Grille
DESCRIPTION:
URL:https://bluewater-casino-resort.com/event/shrimp-sandwich-3pm-9pm-grille/2024-05-31/
ATTACH;FMTTYPE=image/jpeg:https://bluewater-casino-resort.com/wp-content/uploads/2024/02/Shrimp-Sandwich-1591x751-1.jpg
END:VEVENT
BEGIN:VEVENT
DTSTART;TZID=America/Phoenix:20240531T210000
DTEND;TZID=America/Phoenix:20240601T010000
DTSTAMP:20260419T133115
CREATED:20240328T215154Z
LAST-MODIFIED:20240328T215154Z
UID:10000227-1717189200-1717203600@bluewater-casino-resort.com
SUMMARY:Terry Wayne Project
DESCRIPTION:Dig Lounge
URL:https://bluewater-casino-resort.com/event/terry-wayne-project/
END:VEVENT
BEGIN:VEVENT
DTSTART;TZID=America/Phoenix:20240602T070000
DTEND;TZID=America/Phoenix:20240602T130000
DTSTAMP:20260419T133115
CREATED:20240216T232325Z
LAST-MODIFIED:20260319T205654Z
UID:10000785-1717311600-1717333200@bluewater-casino-resort.com
SUMMARY:Breakfast Buffet 7AM-1PM
DESCRIPTION:Breakfast Buffet 7am to 1pm\n$14.99 with card and $25.99 without card.
URL:https://bluewater-casino-resort.com/event/breakfast-buffet-7am-1pm/2024-06-02/
ATTACH;FMTTYPE=image/jpeg:https://bluewater-casino-resort.com/wp-content/uploads/2024/02/Breakfast-Buffet-1591x751-1.jpg
END:VEVENT
BEGIN:VEVENT
DTSTART;TZID=America/Phoenix:20240602T150000
DTEND;TZID=America/Phoenix:20240602T220000
DTSTAMP:20260419T133115
CREATED:20240216T232507Z
LAST-MODIFIED:20260414T220820Z
UID:10000755-1717340400-1717365600@bluewater-casino-resort.com
SUMMARY:Prime Rib 3PM-10PM @Grille
DESCRIPTION:Prime Rib Dinner served with corn on the cob\, baked potato\, and dinner roll.\n$18.99 with card\, $24.99 without card.
URL:https://bluewater-casino-resort.com/event/prime-rib-3pm-9pm-grille/2024-06-02/
ATTACH;FMTTYPE=image/jpeg:https://bluewater-casino-resort.com/wp-content/uploads/2025/05/Prime-Rib-Grille-Special-Promo-Web-1.jpg
END:VEVENT
BEGIN:VEVENT
DTSTART;VALUE=DATE:20240603
DTEND;VALUE=DATE:20240604
DTSTAMP:20260419T133115
CREATED:20240529T211304Z
LAST-MODIFIED:20240529T211304Z
UID:10000891-1717372800-1717459199@bluewater-casino-resort.com
SUMMARY:Monday Multiplier (2X Points)
DESCRIPTION:Mondays – June 3\, 10\, 17\, & 24; 2024\nParticipants must be playing with their club card properly inserted into any slot machine from 12:01am to\n11:59pm\, the Patron Management system will automatically multiply by 2X (two times) any points earned on slot\nmachines.
URL:https://bluewater-casino-resort.com/event/monday-multiplier-2x-points-2/2024-06-03/
ATTACH;FMTTYPE=image/jpeg:https://bluewater-casino-resort.com/wp-content/uploads/2024/02/Point-Multiplier-2x-Promo-Web.jpg
END:VEVENT
BEGIN:VEVENT
DTSTART;TZID=America/Phoenix:20240603T070000
DTEND;TZID=America/Phoenix:20240603T110000
DTSTAMP:20260419T133115
CREATED:20240216T231842Z
LAST-MODIFIED:20260319T205607Z
UID:10000790-1717398000-1717412400@bluewater-casino-resort.com
SUMMARY:Breakfast Special 7AM-11AM
DESCRIPTION:1-2-3-4 Breakfast Special\n$4.00 with card\, $8.99 without card.
URL:https://bluewater-casino-resort.com/event/breakfast-special-7am-11am/2024-06-03/
ATTACH;FMTTYPE=image/jpeg:https://bluewater-casino-resort.com/wp-content/uploads/2024/02/Breakfast-Special-4.00-1591x751-1.jpg
END:VEVENT
BEGIN:VEVENT
DTSTART;TZID=America/Phoenix:20240603T070000
DTEND;TZID=America/Phoenix:20240603T110000
DTSTAMP:20260419T133115
CREATED:20240216T233138Z
LAST-MODIFIED:20260319T205537Z
UID:10000810-1717398000-1717412400@bluewater-casino-resort.com
SUMMARY:Trucker Special 7AM-11AM
DESCRIPTION:Trucker Special – 4 oz Top Sirloin served with hash browns\, 2 eggs any style and your choice of toast.\n$4.99 with card\, $11.99 without card.
URL:https://bluewater-casino-resort.com/event/trucker-special-7am-11am/2024-06-03/
ATTACH;FMTTYPE=image/jpeg:https://bluewater-casino-resort.com/wp-content/uploads/2024/02/Trucker-Special-1591x751-1.jpg
END:VEVENT
BEGIN:VEVENT
DTSTART;TZID=America/Phoenix:20240603T150000
DTEND;TZID=America/Phoenix:20240603T220000
DTSTAMP:20260419T133116
CREATED:20240216T233452Z
LAST-MODIFIED:20260414T220854Z
UID:10000751-1717426800-1717452000@bluewater-casino-resort.com
SUMMARY:New York Steak 3PM-10PM @ Grille
DESCRIPTION:New York Steak Special\n$12.99 with card\, $18.99 without card.
URL:https://bluewater-casino-resort.com/event/new-york-steak-3pm-9pm-grille/2024-06-03/
ATTACH;FMTTYPE=image/jpeg:https://bluewater-casino-resort.com/wp-content/uploads/2025/09/New-York-Grille-SpecialsPromo-Web-2.jpg
END:VEVENT
BEGIN:VEVENT
DTSTART;VALUE=DATE:20240604
DTEND;VALUE=DATE:20240605
DTSTAMP:20260419T133116
CREATED:20240517T212541Z
LAST-MODIFIED:20240828T224823Z
UID:10001106-1717459200-1717545599@bluewater-casino-resort.com
SUMMARY:Teriyaki Chicken Bowl 3PM-9PM @Grille
DESCRIPTION:Teriyaki Chicken Bowl served with white rice\, oriental veggies\, and pork egg roll.\n$8.99 with card\, $14.99 without card
URL:https://bluewater-casino-resort.com/event/teriyaki-chicken-bowl-3pm-9pm-grille/2024-06-04/
ATTACH;FMTTYPE=image/jpeg:https://bluewater-casino-resort.com/wp-content/uploads/2024/05/Tuesday.jpg
END:VEVENT
BEGIN:VEVENT
DTSTART;VALUE=DATE:20240604
DTEND;VALUE=DATE:20240605
DTSTAMP:20260419T133116
CREATED:20240529T211451Z
LAST-MODIFIED:20240529T211451Z
UID:10000895-1717459200-1717545599@bluewater-casino-resort.com
SUMMARY:Summer Beach Ball Kiosk Promo
DESCRIPTION:Tuesdays – June 4\, 11\, 18\, & 25; 2024\nPatrons must earn 150 Base Points during the promotional period (12:01am – 11:59pm) to play the Summer\nBeach Ball kiosk game for a chance to instantly win $30\, $20\, $10\, or $0 in Restricted Free Slot Play\, up to three\n(3) plays per day.
URL:https://bluewater-casino-resort.com/event/summer-beach-ball-kiosk-promo/2024-06-04/
ATTACH;FMTTYPE=image/jpeg:https://bluewater-casino-resort.com/wp-content/uploads/2024/04/Summer-Beach-Ball-Promo-Web.jpg
END:VEVENT
END:VCALENDAR