BEGIN:VCALENDAR
VERSION:2.0
PRODID:-//Blue Water Resort &amp; Casino - ECPv6.15.20//NONSGML v1.0//EN
CALSCALE:GREGORIAN
METHOD:PUBLISH
X-WR-CALNAME:Blue Water Resort &amp; Casino
X-ORIGINAL-URL:https://bluewater-casino-resort.com
X-WR-CALDESC:Events for Blue Water Resort &amp; Casino
REFRESH-INTERVAL;VALUE=DURATION:PT1H
X-Robots-Tag:noindex
X-PUBLISHED-TTL:PT1H
BEGIN:VTIMEZONE
TZID:America/Phoenix
BEGIN:STANDARD
TZOFFSETFROM:-0700
TZOFFSETTO:-0700
TZNAME:MST
DTSTART:20230101T000000
END:STANDARD
END:VTIMEZONE
BEGIN:VEVENT
DTSTART;TZID=America/Phoenix:20240303T070000
DTEND;TZID=America/Phoenix:20240303T130000
DTSTAMP:20260422T184222
CREATED:20240216T232325Z
LAST-MODIFIED:20260319T205654Z
UID:10000037-1709449200-1709470800@bluewater-casino-resort.com
SUMMARY:Breakfast Buffet 7AM-1PM
DESCRIPTION:Breakfast Buffet 7am to 1pm\n$14.99 with card and $25.99 without card.
URL:https://bluewater-casino-resort.com/event/breakfast-buffet-7am-1pm/2024-03-03/
ATTACH;FMTTYPE=image/jpeg:https://bluewater-casino-resort.com/wp-content/uploads/2024/02/Breakfast-Buffet-1591x751-1.jpg
END:VEVENT
BEGIN:VEVENT
DTSTART;TZID=America/Phoenix:20240302T210000
DTEND;TZID=America/Phoenix:20240303T010000
DTSTAMP:20260422T184222
CREATED:20240216T234200Z
LAST-MODIFIED:20240227T214027Z
UID:10000079-1709413200-1709427600@bluewater-casino-resort.com
SUMMARY:DJ ALVI 9PM-1AM
DESCRIPTION:The Dig Line-up
URL:https://bluewater-casino-resort.com/event/dj-alvi-9pm-1am/2024-03-02/
END:VEVENT
BEGIN:VEVENT
DTSTART;TZID=America/Phoenix:20240302T180000
DTEND;TZID=America/Phoenix:20240302T220000
DTSTAMP:20260422T184222
CREATED:20240216T235144Z
LAST-MODIFIED:20240220T220604Z
UID:10000093-1709402400-1709416800@bluewater-casino-resort.com
SUMMARY:St Patty's Payouts Virtual Drawings
DESCRIPTION:6PM-10PM Saturdays
URL:https://bluewater-casino-resort.com/event/st-pattys-payouts-virtual-drawings/2024-03-02/
ATTACH;FMTTYPE=image/jpeg:https://bluewater-casino-resort.com/wp-content/uploads/2024/02/St.-Pattrys-Payouts-Web.jpg
END:VEVENT
BEGIN:VEVENT
DTSTART;TZID=America/Phoenix:20240301T210000
DTEND;TZID=America/Phoenix:20240302T010000
DTSTAMP:20260422T184222
CREATED:20240216T234200Z
LAST-MODIFIED:20240227T214027Z
UID:10000078-1709326800-1709341200@bluewater-casino-resort.com
SUMMARY:DJ ALVI 9PM-1AM
DESCRIPTION:The Dig Line-up
URL:https://bluewater-casino-resort.com/event/dj-alvi-9pm-1am/2024-03-01/
END:VEVENT
BEGIN:VEVENT
DTSTART;TZID=America/Phoenix:20240301T150000
DTEND;TZID=America/Phoenix:20240301T210000
DTSTAMP:20260422T184222
CREATED:20240216T232152Z
LAST-MODIFIED:20240424T224024Z
UID:10000032-1709305200-1709326800@bluewater-casino-resort.com
SUMMARY:Shrimp Sandwich 3PM-9PM @ Grille
DESCRIPTION:
URL:https://bluewater-casino-resort.com/event/shrimp-sandwich-3pm-9pm-grille/2024-03-01/
ATTACH;FMTTYPE=image/jpeg:https://bluewater-casino-resort.com/wp-content/uploads/2024/02/Shrimp-Sandwich-1591x751-1.jpg
END:VEVENT
BEGIN:VEVENT
DTSTART;TZID=America/Phoenix:20240301T120000
DTEND;TZID=America/Phoenix:20240301T200000
DTSTAMP:20260422T184222
CREATED:20240216T235007Z
LAST-MODIFIED:20240216T235007Z
UID:10000088-1709294400-1709323200@bluewater-casino-resort.com
SUMMARY:Cash Clovers Hot Seat Drawings
DESCRIPTION:12PM-8PM Fridays
URL:https://bluewater-casino-resort.com/event/cash-clovers-hot-seat-drawings/2024-03-01/
ATTACH;FMTTYPE=image/jpeg:https://bluewater-casino-resort.com/wp-content/uploads/2024/02/Cash-Clover-Promo-Web-803x452px.jpg
END:VEVENT
BEGIN:VEVENT
DTSTART;TZID=America/Phoenix:20240301T070000
DTEND;TZID=America/Phoenix:20240301T110000
DTSTAMP:20260422T184222
CREATED:20240216T231842Z
LAST-MODIFIED:20260319T205607Z
UID:10000011-1709276400-1709290800@bluewater-casino-resort.com
SUMMARY:Breakfast Special 7AM-11AM
DESCRIPTION:1-2-3-4 Breakfast Special\n$4.00 with card\, $8.99 without card.
URL:https://bluewater-casino-resort.com/event/breakfast-special-7am-11am/2024-03-01/
ATTACH;FMTTYPE=image/jpeg:https://bluewater-casino-resort.com/wp-content/uploads/2024/02/Breakfast-Special-4.00-1591x751-1.jpg
END:VEVENT
END:VCALENDAR