BEGIN:VCALENDAR
VERSION:2.0
PRODID:-//Blue Water Resort &amp; Casino - ECPv6.15.20//NONSGML v1.0//EN
CALSCALE:GREGORIAN
METHOD:PUBLISH
X-WR-CALNAME:Blue Water Resort &amp; Casino
X-ORIGINAL-URL:https://bluewater-casino-resort.com
X-WR-CALDESC:Events for Blue Water Resort &amp; Casino
REFRESH-INTERVAL;VALUE=DURATION:PT1H
X-Robots-Tag:noindex
X-PUBLISHED-TTL:PT1H
BEGIN:VTIMEZONE
TZID:America/Phoenix
BEGIN:STANDARD
TZOFFSETFROM:-0700
TZOFFSETTO:-0700
TZNAME:MST
DTSTART:20240101T000000
END:STANDARD
END:VTIMEZONE
BEGIN:VEVENT
DTSTART;TZID=America/Phoenix:20250606T070000
DTEND;TZID=America/Phoenix:20250606T110000
DTSTAMP:20260419T102954
CREATED:20240216T231842Z
LAST-MODIFIED:20260319T205607Z
UID:10002389-1749193200-1749207600@bluewater-casino-resort.com
SUMMARY:Breakfast Special 7AM-11AM
DESCRIPTION:1-2-3-4 Breakfast Special\n$4.00 with card\, $8.99 without card.
URL:https://bluewater-casino-resort.com/event/breakfast-special-7am-11am/2025-06-06/
ATTACH;FMTTYPE=image/jpeg:https://bluewater-casino-resort.com/wp-content/uploads/2024/02/Breakfast-Special-4.00-1591x751-1.jpg
END:VEVENT
BEGIN:VEVENT
DTSTART;TZID=America/Phoenix:20250605T150000
DTEND;TZID=America/Phoenix:20250605T220000
DTSTAMP:20260419T102954
CREATED:20250516T214841Z
LAST-MODIFIED:20250811T195107Z
UID:10002454-1749135600-1749160800@bluewater-casino-resort.com
SUMMARY:Baja Fish Tacos 3PM-10PM @ Grille
DESCRIPTION:Baja Fish Tacos (3) with a Mango Salsa. \nSide of tortilla chips with Salsa and Guacamole. . \n$12.99 with card\, $18.99 without card.
URL:https://bluewater-casino-resort.com/event/baja-fish-tacos-3pm-10pm-grille-2/2025-06-05/
ATTACH;FMTTYPE=image/png:https://bluewater-casino-resort.com/wp-content/uploads/2025/05/Baja-fish-tacos-Promo-Web.png
END:VEVENT
BEGIN:VEVENT
DTSTART;TZID=America/Phoenix:20250605T110000
DTEND;TZID=America/Phoenix:20250605T150000
DTSTAMP:20260419T102954
CREATED:20250516T214619Z
LAST-MODIFIED:20250811T194449Z
UID:10002463-1749121200-1749135600@bluewater-casino-resort.com
SUMMARY:Local Lunch Special - Monday thru Thursday 11AM-3PM
DESCRIPTION:Monday – Thursday 1pm to 3pm; all specials $6.99 with card\, $12.99 without card. \nMonday – Stacker Deluxe Sandwich with roast beef\, turkey\, ham\, bacon\, Swiss and cheddar cheese\, slice tomatoes with a bistro sauce. \nTuesday – Po Boy 6-inch\, popcorn shrimp with green leaf tomato remoulade sauce. \nWednesday – Grilled Chicken Deluxe served with Parmesan crusted sourdough bread\, grilled chicken\, bacon\, tomato\, avocado\, spring mix\, prepper jack\, provolone\, with a pesto aioli. \nThursday – Tea Egg Sandwich\, two (2) crustless triangle egg salad sandwich on white bread\, topped with gherkins.
URL:https://bluewater-casino-resort.com/event/local-lunch-special-monday-thru-thursday-11am-3pm/2025-06-05/
ATTACH;FMTTYPE=image/jpeg:https://bluewater-casino-resort.com/wp-content/uploads/2025/05/Local-Specials-Web-.jpg
END:VEVENT
BEGIN:VEVENT
DTSTART;TZID=America/Phoenix:20250605T080000
DTEND;TZID=America/Phoenix:20250605T200000
DTSTAMP:20260419T102954
CREATED:20250516T212136Z
LAST-MODIFIED:20250604T195236Z
UID:10002373-1749110400-1749153600@bluewater-casino-resort.com
SUMMARY:Summer Select Slot Tournaments
DESCRIPTION:Thursdays – June 5\, 12\, 19\, 26 \nParticipants must sign up/register on promotional Thursdays starting at 8:01am and ending at 7:45pm\, to be eligible to play in the slot tournament. Top 3 scores at the end of each day win cash prizes ($300\, $200\, $100).
URL:https://bluewater-casino-resort.com/event/summer-select/2025-06-05/
ATTACH;FMTTYPE=image/jpeg:https://bluewater-casino-resort.com/wp-content/uploads/2025/06/Summer-Select-Slot-Tournament-Promo-Web-.jpg
END:VEVENT
BEGIN:VEVENT
DTSTART;TZID=America/Phoenix:20250605T070000
DTEND;TZID=America/Phoenix:20250605T110000
DTSTAMP:20260419T102954
CREATED:20240216T233138Z
LAST-MODIFIED:20260319T205537Z
UID:10002414-1749106800-1749121200@bluewater-casino-resort.com
SUMMARY:Trucker Special 7AM-11AM
DESCRIPTION:Trucker Special – 4 oz Top Sirloin served with hash browns\, 2 eggs any style and your choice of toast.\n$4.99 with card\, $11.99 without card.
URL:https://bluewater-casino-resort.com/event/trucker-special-7am-11am/2025-06-05/
ATTACH;FMTTYPE=image/jpeg:https://bluewater-casino-resort.com/wp-content/uploads/2024/02/Trucker-Special-1591x751-1.jpg
END:VEVENT
BEGIN:VEVENT
DTSTART;TZID=America/Phoenix:20250605T070000
DTEND;TZID=America/Phoenix:20250605T110000
DTSTAMP:20260419T102954
CREATED:20240216T231842Z
LAST-MODIFIED:20260319T205607Z
UID:10002388-1749106800-1749121200@bluewater-casino-resort.com
SUMMARY:Breakfast Special 7AM-11AM
DESCRIPTION:1-2-3-4 Breakfast Special\n$4.00 with card\, $8.99 without card.
URL:https://bluewater-casino-resort.com/event/breakfast-special-7am-11am/2025-06-05/
ATTACH;FMTTYPE=image/jpeg:https://bluewater-casino-resort.com/wp-content/uploads/2024/02/Breakfast-Special-4.00-1591x751-1.jpg
END:VEVENT
BEGIN:VEVENT
DTSTART;TZID=America/Phoenix:20250604T150000
DTEND;TZID=America/Phoenix:20250604T220000
DTSTAMP:20260419T102954
CREATED:20250516T213633Z
LAST-MODIFIED:20250811T194858Z
UID:10002443-1749049200-1749074400@bluewater-casino-resort.com
SUMMARY:Pulled Pork Nachos 3PM-10PM @ Grille
DESCRIPTION:Pulled Pork Nachos with tomato\, red onions\, fresh cilantro\, jalapenos\, sour cream\, and a southwestern white cheddar cheese sauce. \n$12.99 with card\, $18.99 without card.
URL:https://bluewater-casino-resort.com/event/pulled-pork-nachos-3pm-10pm-grille/2025-06-04/
ATTACH;FMTTYPE=image/png:https://bluewater-casino-resort.com/wp-content/uploads/2025/05/Pulled-Pork-Nachos-Promo-Web.png
END:VEVENT
BEGIN:VEVENT
DTSTART;TZID=America/Phoenix:20250604T110000
DTEND;TZID=America/Phoenix:20250604T150000
DTSTAMP:20260419T102954
CREATED:20250516T214619Z
LAST-MODIFIED:20250811T194449Z
UID:10002462-1749034800-1749049200@bluewater-casino-resort.com
SUMMARY:Local Lunch Special - Monday thru Thursday 11AM-3PM
DESCRIPTION:Monday – Thursday 1pm to 3pm; all specials $6.99 with card\, $12.99 without card. \nMonday – Stacker Deluxe Sandwich with roast beef\, turkey\, ham\, bacon\, Swiss and cheddar cheese\, slice tomatoes with a bistro sauce. \nTuesday – Po Boy 6-inch\, popcorn shrimp with green leaf tomato remoulade sauce. \nWednesday – Grilled Chicken Deluxe served with Parmesan crusted sourdough bread\, grilled chicken\, bacon\, tomato\, avocado\, spring mix\, prepper jack\, provolone\, with a pesto aioli. \nThursday – Tea Egg Sandwich\, two (2) crustless triangle egg salad sandwich on white bread\, topped with gherkins.
URL:https://bluewater-casino-resort.com/event/local-lunch-special-monday-thru-thursday-11am-3pm/2025-06-04/
ATTACH;FMTTYPE=image/jpeg:https://bluewater-casino-resort.com/wp-content/uploads/2025/05/Local-Specials-Web-.jpg
END:VEVENT
BEGIN:VEVENT
DTSTART;TZID=America/Phoenix:20250604T080000
DTEND;TZID=America/Phoenix:20250604T230000
DTSTAMP:20260419T102954
CREATED:20250516T211638Z
LAST-MODIFIED:20250516T211638Z
UID:10002369-1749024000-1749078000@bluewater-casino-resort.com
SUMMARY:$50 For $40
DESCRIPTION:Wednesdays – June 4\, 11\, 18\, 25 \nClub members will purchase a $40 promotional voucher from the cashier’s cage and redeem at THEclub for $50 in Restricted Free Slot Play\, starting at 8am to 11pm. Participants can only redeem one (1) promotional voucher per promotional day.
URL:https://bluewater-casino-resort.com/event/50-for-40-7/2025-06-04/
ATTACH;FMTTYPE=image/gif:https://bluewater-casino-resort.com/wp-content/uploads/2025/05/50-for-40-Promo-Web.gif
END:VEVENT
BEGIN:VEVENT
DTSTART;TZID=America/Phoenix:20250604T070000
DTEND;TZID=America/Phoenix:20250604T110000
DTSTAMP:20260419T102954
CREATED:20240216T233138Z
LAST-MODIFIED:20260319T205537Z
UID:10002413-1749020400-1749034800@bluewater-casino-resort.com
SUMMARY:Trucker Special 7AM-11AM
DESCRIPTION:Trucker Special – 4 oz Top Sirloin served with hash browns\, 2 eggs any style and your choice of toast.\n$4.99 with card\, $11.99 without card.
URL:https://bluewater-casino-resort.com/event/trucker-special-7am-11am/2025-06-04/
ATTACH;FMTTYPE=image/jpeg:https://bluewater-casino-resort.com/wp-content/uploads/2024/02/Trucker-Special-1591x751-1.jpg
END:VEVENT
BEGIN:VEVENT
DTSTART;TZID=America/Phoenix:20250604T070000
DTEND;TZID=America/Phoenix:20250604T110000
DTSTAMP:20260419T102954
CREATED:20240216T231842Z
LAST-MODIFIED:20260319T205607Z
UID:10002387-1749020400-1749034800@bluewater-casino-resort.com
SUMMARY:Breakfast Special 7AM-11AM
DESCRIPTION:1-2-3-4 Breakfast Special\n$4.00 with card\, $8.99 without card.
URL:https://bluewater-casino-resort.com/event/breakfast-special-7am-11am/2025-06-04/
ATTACH;FMTTYPE=image/jpeg:https://bluewater-casino-resort.com/wp-content/uploads/2024/02/Breakfast-Special-4.00-1591x751-1.jpg
END:VEVENT
BEGIN:VEVENT
DTSTART;TZID=America/Phoenix:20250603T150000
DTEND;TZID=America/Phoenix:20250603T220000
DTSTAMP:20260419T102954
CREATED:20250516T213436Z
LAST-MODIFIED:20250811T194648Z
UID:10002484-1748962800-1748988000@bluewater-casino-resort.com
SUMMARY:Southwest Avocado 1/2 LB Burger 3PM-10PM @ Grille
DESCRIPTION:Southwest Avocado 1/2 LB Burger\, pepper jack cheese\, sliced avocado\, chipotle mayo \nServed with fries \n$12.99 with card\, $18.99 without card
URL:https://bluewater-casino-resort.com/event/southwest-avocado-1-2-lb-burger-3pm-10pm-grille/2025-06-03/
ATTACH;FMTTYPE=image/png:https://bluewater-casino-resort.com/wp-content/uploads/2025/05/southwest-avocado-burger-Web-Promo.png
END:VEVENT
BEGIN:VEVENT
DTSTART;TZID=America/Phoenix:20250603T110000
DTEND;TZID=America/Phoenix:20250603T150000
DTSTAMP:20260419T102954
CREATED:20250516T214619Z
LAST-MODIFIED:20250811T194449Z
UID:10002461-1748948400-1748962800@bluewater-casino-resort.com
SUMMARY:Local Lunch Special - Monday thru Thursday 11AM-3PM
DESCRIPTION:Monday – Thursday 1pm to 3pm; all specials $6.99 with card\, $12.99 without card. \nMonday – Stacker Deluxe Sandwich with roast beef\, turkey\, ham\, bacon\, Swiss and cheddar cheese\, slice tomatoes with a bistro sauce. \nTuesday – Po Boy 6-inch\, popcorn shrimp with green leaf tomato remoulade sauce. \nWednesday – Grilled Chicken Deluxe served with Parmesan crusted sourdough bread\, grilled chicken\, bacon\, tomato\, avocado\, spring mix\, prepper jack\, provolone\, with a pesto aioli. \nThursday – Tea Egg Sandwich\, two (2) crustless triangle egg salad sandwich on white bread\, topped with gherkins.
URL:https://bluewater-casino-resort.com/event/local-lunch-special-monday-thru-thursday-11am-3pm/2025-06-03/
ATTACH;FMTTYPE=image/jpeg:https://bluewater-casino-resort.com/wp-content/uploads/2025/05/Local-Specials-Web-.jpg
END:VEVENT
BEGIN:VEVENT
DTSTART;TZID=America/Phoenix:20250603T070000
DTEND;TZID=America/Phoenix:20250603T110000
DTSTAMP:20260419T102954
CREATED:20240216T233138Z
LAST-MODIFIED:20260319T205537Z
UID:10002412-1748934000-1748948400@bluewater-casino-resort.com
SUMMARY:Trucker Special 7AM-11AM
DESCRIPTION:Trucker Special – 4 oz Top Sirloin served with hash browns\, 2 eggs any style and your choice of toast.\n$4.99 with card\, $11.99 without card.
URL:https://bluewater-casino-resort.com/event/trucker-special-7am-11am/2025-06-03/
ATTACH;FMTTYPE=image/jpeg:https://bluewater-casino-resort.com/wp-content/uploads/2024/02/Trucker-Special-1591x751-1.jpg
END:VEVENT
BEGIN:VEVENT
DTSTART;TZID=America/Phoenix:20250603T070000
DTEND;TZID=America/Phoenix:20250603T110000
DTSTAMP:20260419T102954
CREATED:20240216T231842Z
LAST-MODIFIED:20260319T205607Z
UID:10002386-1748934000-1748948400@bluewater-casino-resort.com
SUMMARY:Breakfast Special 7AM-11AM
DESCRIPTION:1-2-3-4 Breakfast Special\n$4.00 with card\, $8.99 without card.
URL:https://bluewater-casino-resort.com/event/breakfast-special-7am-11am/2025-06-03/
ATTACH;FMTTYPE=image/jpeg:https://bluewater-casino-resort.com/wp-content/uploads/2024/02/Breakfast-Special-4.00-1591x751-1.jpg
END:VEVENT
BEGIN:VEVENT
DTSTART;VALUE=DATE:20250603
DTEND;VALUE=DATE:20250604
DTSTAMP:20260419T102954
CREATED:20250516T211503Z
LAST-MODIFIED:20250516T211503Z
UID:10002365-1748908800-1748995199@bluewater-casino-resort.com
SUMMARY:Summer Beach Ball Kiosk Promo
DESCRIPTION:Tuesdays – June 3\, 10\, 17\, 24 \nPatrons must earn 150 Base Points during the promotional period (12:01am – 11:59pm) to play the Summer Beach Ball kiosk game for a chance to instantly win $30\, $20\, $10\, or $0 in Restricted Free Slot Play\, up to three (3) plays per day.
URL:https://bluewater-casino-resort.com/event/summer-beach-ball-kiosk-promo-2/2025-06-03/
ATTACH;FMTTYPE=image/jpeg:https://bluewater-casino-resort.com/wp-content/uploads/2025/05/Summer-Beach-Ball-Promo-Web-1.jpg
END:VEVENT
BEGIN:VEVENT
DTSTART;TZID=America/Phoenix:20250602T150000
DTEND;TZID=America/Phoenix:20250602T220000
DTSTAMP:20260419T102954
CREATED:20240216T233452Z
LAST-MODIFIED:20260414T220854Z
UID:10002406-1748876400-1748901600@bluewater-casino-resort.com
SUMMARY:New York Steak 3PM-10PM @ Grille
DESCRIPTION:New York Steak Special\n$12.99 with card\, $18.99 without card.
URL:https://bluewater-casino-resort.com/event/new-york-steak-3pm-9pm-grille/2025-06-02/
ATTACH;FMTTYPE=image/jpeg:https://bluewater-casino-resort.com/wp-content/uploads/2025/09/New-York-Grille-SpecialsPromo-Web-2.jpg
END:VEVENT
BEGIN:VEVENT
DTSTART;TZID=America/Phoenix:20250602T110000
DTEND;TZID=America/Phoenix:20250602T150000
DTSTAMP:20260419T102954
CREATED:20250516T214619Z
LAST-MODIFIED:20250811T194449Z
UID:10002460-1748862000-1748876400@bluewater-casino-resort.com
SUMMARY:Local Lunch Special - Monday thru Thursday 11AM-3PM
DESCRIPTION:Monday – Thursday 1pm to 3pm; all specials $6.99 with card\, $12.99 without card. \nMonday – Stacker Deluxe Sandwich with roast beef\, turkey\, ham\, bacon\, Swiss and cheddar cheese\, slice tomatoes with a bistro sauce. \nTuesday – Po Boy 6-inch\, popcorn shrimp with green leaf tomato remoulade sauce. \nWednesday – Grilled Chicken Deluxe served with Parmesan crusted sourdough bread\, grilled chicken\, bacon\, tomato\, avocado\, spring mix\, prepper jack\, provolone\, with a pesto aioli. \nThursday – Tea Egg Sandwich\, two (2) crustless triangle egg salad sandwich on white bread\, topped with gherkins.
URL:https://bluewater-casino-resort.com/event/local-lunch-special-monday-thru-thursday-11am-3pm/2025-06-02/
ATTACH;FMTTYPE=image/jpeg:https://bluewater-casino-resort.com/wp-content/uploads/2025/05/Local-Specials-Web-.jpg
END:VEVENT
BEGIN:VEVENT
DTSTART;TZID=America/Phoenix:20250602T070000
DTEND;TZID=America/Phoenix:20250602T110000
DTSTAMP:20260419T102954
CREATED:20240216T233138Z
LAST-MODIFIED:20260319T205537Z
UID:10002411-1748847600-1748862000@bluewater-casino-resort.com
SUMMARY:Trucker Special 7AM-11AM
DESCRIPTION:Trucker Special – 4 oz Top Sirloin served with hash browns\, 2 eggs any style and your choice of toast.\n$4.99 with card\, $11.99 without card.
URL:https://bluewater-casino-resort.com/event/trucker-special-7am-11am/2025-06-02/
ATTACH;FMTTYPE=image/jpeg:https://bluewater-casino-resort.com/wp-content/uploads/2024/02/Trucker-Special-1591x751-1.jpg
END:VEVENT
BEGIN:VEVENT
DTSTART;TZID=America/Phoenix:20250602T070000
DTEND;TZID=America/Phoenix:20250602T110000
DTSTAMP:20260419T102954
CREATED:20240216T231842Z
LAST-MODIFIED:20260319T205607Z
UID:10002385-1748847600-1748862000@bluewater-casino-resort.com
SUMMARY:Breakfast Special 7AM-11AM
DESCRIPTION:1-2-3-4 Breakfast Special\n$4.00 with card\, $8.99 without card.
URL:https://bluewater-casino-resort.com/event/breakfast-special-7am-11am/2025-06-02/
ATTACH;FMTTYPE=image/jpeg:https://bluewater-casino-resort.com/wp-content/uploads/2024/02/Breakfast-Special-4.00-1591x751-1.jpg
END:VEVENT
BEGIN:VEVENT
DTSTART;VALUE=DATE:20250602
DTEND;VALUE=DATE:20250603
DTSTAMP:20260419T102954
CREATED:20250516T211340Z
LAST-MODIFIED:20250516T211340Z
UID:10002360-1748822400-1748908799@bluewater-casino-resort.com
SUMMARY:Monday Multiplier (2X Points)
DESCRIPTION:Mondays – June 2\, 9\, 16\, 23\, 30 \nParticipants must be playing with their club card properly inserted into any slot machine from 12:01am to 11:59pm\, the Patron Management system will automatically multiply by 2X (two times) any points earned on all machines during the promotional period.
URL:https://bluewater-casino-resort.com/event/monday-multiplier-2x-points-7/2025-06-02/
ATTACH;FMTTYPE=image/jpeg:https://bluewater-casino-resort.com/wp-content/uploads/2025/05/Point-Multiplier-2x-Promo-Web-4.jpg
END:VEVENT
BEGIN:VEVENT
DTSTART;TZID=America/Phoenix:20250601T150000
DTEND;TZID=America/Phoenix:20250601T220000
DTSTAMP:20260419T102954
CREATED:20240216T232507Z
LAST-MODIFIED:20260414T220820Z
UID:10002433-1748790000-1748815200@bluewater-casino-resort.com
SUMMARY:Prime Rib 3PM-10PM @Grille
DESCRIPTION:Prime Rib Dinner served with corn on the cob\, baked potato\, and dinner roll.\n$18.99 with card\, $24.99 without card.
URL:https://bluewater-casino-resort.com/event/prime-rib-3pm-9pm-grille/2025-06-01/
ATTACH;FMTTYPE=image/jpeg:https://bluewater-casino-resort.com/wp-content/uploads/2025/05/Prime-Rib-Grille-Special-Promo-Web-1.jpg
END:VEVENT
BEGIN:VEVENT
DTSTART;TZID=America/Phoenix:20250601T070000
DTEND;TZID=America/Phoenix:20250601T130000
DTSTAMP:20260419T102954
CREATED:20240216T232325Z
LAST-MODIFIED:20260319T205654Z
UID:10002011-1748761200-1748782800@bluewater-casino-resort.com
SUMMARY:Breakfast Buffet 7AM-1PM
DESCRIPTION:Breakfast Buffet 7am to 1pm\n$14.99 with card and $25.99 without card.
URL:https://bluewater-casino-resort.com/event/breakfast-buffet-7am-1pm/2025-06-01/
ATTACH;FMTTYPE=image/jpeg:https://bluewater-casino-resort.com/wp-content/uploads/2024/02/Breakfast-Buffet-1591x751-1.jpg
END:VEVENT
BEGIN:VEVENT
DTSTART;TZID=America/Phoenix:20250531T180000
DTEND;TZID=America/Phoenix:20250531T220000
DTSTAMP:20260419T102954
CREATED:20250408T202633Z
LAST-MODIFIED:20250408T202633Z
UID:10002349-1748714400-1748728800@bluewater-casino-resort.com
SUMMARY:Spin & Win Virtual Drawings
DESCRIPTION:Saturdays – May 3\, 10\, 17\, 24\, 31 \nVirtual Drawings held 6pm – 10pm. Starting May 1 through May 31\, participants can start earning entries to participate in the Spin & Win virtual drawings. One (1) winner every 30 minutes will be selected for chance to win cash prizes of $500; $250; and $100\, or $100 in FSP! There will be a bonus $75 Free Slot Play if winning patron is wearing the promotional “Wear To Win’ BlueWater tshirt.
URL:https://bluewater-casino-resort.com/event/spin-win-virtual-drawings-2/2025-05-31/
ATTACH;FMTTYPE=image/jpeg:https://bluewater-casino-resort.com/wp-content/uploads/2025/04/Spin-WinPromo-Web.jpg
END:VEVENT
BEGIN:VEVENT
DTSTART;TZID=America/Phoenix:20250531T150000
DTEND;TZID=America/Phoenix:20250531T220000
DTSTAMP:20260419T102954
CREATED:20250117T232213Z
LAST-MODIFIED:20250714T220814Z
UID:10002316-1748703600-1748728800@bluewater-casino-resort.com
SUMMARY:Chef Special @ Grille
DESCRIPTION:Chef Special changed weekly at BlueWater Grille.
URL:https://bluewater-casino-resort.com/event/chef-special-grille/2025-05-31/
ATTACH;FMTTYPE=image/jpeg:https://bluewater-casino-resort.com/wp-content/uploads/2025/01/Chef-SpecialWebPromo.jpg
END:VEVENT
BEGIN:VEVENT
DTSTART;TZID=America/Phoenix:20250530T210000
DTEND;TZID=America/Phoenix:20250531T010000
DTSTAMP:20260419T102954
CREATED:20250219T220048Z
LAST-MODIFIED:20250408T193828Z
UID:10002237-1748638800-1748653200@bluewater-casino-resort.com
SUMMARY:Live Entertainment @ Dig Lounge
DESCRIPTION:
URL:https://bluewater-casino-resort.com/event/live-entertainment-dig-lounge/2025-05-30/
END:VEVENT
BEGIN:VEVENT
DTSTART;TZID=America/Phoenix:20250530T150000
DTEND;TZID=America/Phoenix:20250530T210000
DTSTAMP:20260419T102954
CREATED:20250117T232041Z
LAST-MODIFIED:20250408T194532Z
UID:10002311-1748617200-1748638800@bluewater-casino-resort.com
SUMMARY:Chicken Marsala @ Grille
DESCRIPTION:Chicken Marsala with Garlic Mash and Seasonal Veggies. \n$8.99 with card\, $14.99 without card.
URL:https://bluewater-casino-resort.com/event/chicken-marsala-grille/2025-05-30/
ATTACH;FMTTYPE=image/jpeg:https://bluewater-casino-resort.com/wp-content/uploads/2025/01/Chicken-Marsala-Grille-Special-Promo-Web.jpg
END:VEVENT
BEGIN:VEVENT
DTSTART;TZID=America/Phoenix:20250530T120000
DTEND;TZID=America/Phoenix:20250530T200000
DTSTAMP:20260419T102954
CREATED:20250408T202441Z
LAST-MODIFIED:20250408T202441Z
UID:10002344-1748606400-1748635200@bluewater-casino-resort.com
SUMMARY:Fiesta Fridays Hot Seat Drawings
DESCRIPTION:Fridays – May 2\, 9\, 16\, 23\, 30 \nSeventeen (1) $100 Cash Prize Drawings held from 12pm to 8pm! Participants must be actively playing with their club card to participate\, one (1) winner every half hour! Participants can only win once per day.
URL:https://bluewater-casino-resort.com/event/fiesta-fridays-hot-seat-drawings-2/2025-05-30/
ATTACH;FMTTYPE=image/jpeg:https://bluewater-casino-resort.com/wp-content/uploads/2025/04/Fiesta-Friday-Hot-Seats-Web.jpg
END:VEVENT
BEGIN:VEVENT
DTSTART;TZID=America/Phoenix:20250530T070000
DTEND;TZID=America/Phoenix:20250530T110000
DTSTAMP:20260419T102954
CREATED:20240216T233138Z
LAST-MODIFIED:20260319T205537Z
UID:10002267-1748588400-1748602800@bluewater-casino-resort.com
SUMMARY:Trucker Special 7AM-11AM
DESCRIPTION:Trucker Special – 4 oz Top Sirloin served with hash browns\, 2 eggs any style and your choice of toast.\n$4.99 with card\, $11.99 without card.
URL:https://bluewater-casino-resort.com/event/trucker-special-7am-11am/2025-05-30/
ATTACH;FMTTYPE=image/jpeg:https://bluewater-casino-resort.com/wp-content/uploads/2024/02/Trucker-Special-1591x751-1.jpg
END:VEVENT
BEGIN:VEVENT
DTSTART;TZID=America/Phoenix:20250530T070000
DTEND;TZID=America/Phoenix:20250530T110000
DTSTAMP:20260419T102954
CREATED:20240216T231842Z
LAST-MODIFIED:20260319T205607Z
UID:10002289-1748588400-1748602800@bluewater-casino-resort.com
SUMMARY:Breakfast Special 7AM-11AM
DESCRIPTION:1-2-3-4 Breakfast Special\n$4.00 with card\, $8.99 without card.
URL:https://bluewater-casino-resort.com/event/breakfast-special-7am-11am/2025-05-30/
ATTACH;FMTTYPE=image/jpeg:https://bluewater-casino-resort.com/wp-content/uploads/2024/02/Breakfast-Special-4.00-1591x751-1.jpg
END:VEVENT
END:VCALENDAR