BEGIN:VCALENDAR
VERSION:2.0
PRODID:-//Blue Water Resort &amp; Casino - ECPv6.15.20//NONSGML v1.0//EN
CALSCALE:GREGORIAN
METHOD:PUBLISH
X-WR-CALNAME:Blue Water Resort &amp; Casino
X-ORIGINAL-URL:https://bluewater-casino-resort.com
X-WR-CALDESC:Events for Blue Water Resort &amp; Casino
REFRESH-INTERVAL;VALUE=DURATION:PT1H
X-Robots-Tag:noindex
X-PUBLISHED-TTL:PT1H
BEGIN:VTIMEZONE
TZID:America/Phoenix
BEGIN:STANDARD
TZOFFSETFROM:-0700
TZOFFSETTO:-0700
TZNAME:MST
DTSTART:20240101T000000
END:STANDARD
END:VTIMEZONE
BEGIN:VEVENT
DTSTART;TZID=America/Phoenix:20250212T130000
DTEND;TZID=America/Phoenix:20250212T170000
DTSTAMP:20260419T103638
CREATED:20250117T232438Z
LAST-MODIFIED:20250117T232438Z
UID:10001954-1739365200-1739379600@bluewater-casino-resort.com
SUMMARY:Early Bird Dinner @ Grille
DESCRIPTION:Early Bird Dinner at BlueWater Grille
URL:https://bluewater-casino-resort.com/event/early-bird-dinner-grille/2025-02-12/
ATTACH;FMTTYPE=image/jpeg:https://bluewater-casino-resort.com/wp-content/uploads/2025/01/Early-Bird-Dinner-Web-.jpg
END:VEVENT
BEGIN:VEVENT
DTSTART;TZID=America/Phoenix:20250212T080000
DTEND;TZID=America/Phoenix:20250212T230000
DTSTAMP:20260419T103638
CREATED:20250117T222817Z
LAST-MODIFIED:20250117T222817Z
UID:10001912-1739347200-1739401200@bluewater-casino-resort.com
SUMMARY:$50 For $40
DESCRIPTION:Wednesdays – February 5\, 12\, 19\, & 26\, 2025 \nClub members will purchase a $40 promotional voucher from the cashier’s cage and redeem at THEclub for $50 in Restricted Free Slot Play\, starting at 8am to 11pm. Participants can only redeem one (1) promotional voucher per promotional day.
URL:https://bluewater-casino-resort.com/event/50-for-40-3/2025-02-12/
ATTACH;FMTTYPE=image/jpeg:https://bluewater-casino-resort.com/wp-content/uploads/2025/01/50-for-40-Promo-Web-3.jpg
END:VEVENT
BEGIN:VEVENT
DTSTART;TZID=America/Phoenix:20250212T070000
DTEND;TZID=America/Phoenix:20250212T110000
DTSTAMP:20260419T103638
CREATED:20240216T233138Z
LAST-MODIFIED:20260319T205537Z
UID:10001890-1739343600-1739358000@bluewater-casino-resort.com
SUMMARY:Trucker Special 7AM-11AM
DESCRIPTION:Trucker Special – 4 oz Top Sirloin served with hash browns\, 2 eggs any style and your choice of toast.\n$4.99 with card\, $11.99 without card.
URL:https://bluewater-casino-resort.com/event/trucker-special-7am-11am/2025-02-12/
ATTACH;FMTTYPE=image/jpeg:https://bluewater-casino-resort.com/wp-content/uploads/2024/02/Trucker-Special-1591x751-1.jpg
END:VEVENT
BEGIN:VEVENT
DTSTART;TZID=America/Phoenix:20250212T070000
DTEND;TZID=America/Phoenix:20250212T110000
DTSTAMP:20260419T103638
CREATED:20240216T231842Z
LAST-MODIFIED:20260319T205607Z
UID:10001871-1739343600-1739358000@bluewater-casino-resort.com
SUMMARY:Breakfast Special 7AM-11AM
DESCRIPTION:1-2-3-4 Breakfast Special\n$4.00 with card\, $8.99 without card.
URL:https://bluewater-casino-resort.com/event/breakfast-special-7am-11am/2025-02-12/
ATTACH;FMTTYPE=image/jpeg:https://bluewater-casino-resort.com/wp-content/uploads/2024/02/Breakfast-Special-4.00-1591x751-1.jpg
END:VEVENT
BEGIN:VEVENT
DTSTART;TZID=America/Phoenix:20250211T150000
DTEND;TZID=America/Phoenix:20250211T210000
DTSTAMP:20260419T103638
CREATED:20250117T231357Z
LAST-MODIFIED:20250408T194405Z
UID:10001929-1739286000-1739307600@bluewater-casino-resort.com
SUMMARY:Chicken Cordon Bleu @ Grille
DESCRIPTION:Chicken Cordon Bleu with a Southwestern White Cheddar Cheese Sauce\, Rice Pilaf\, and Seasoned Vegetables. \n$10.99 with card\, $16.99 without card
URL:https://bluewater-casino-resort.com/event/chicken-cordon-bleu-grille/2025-02-11/
ATTACH;FMTTYPE=image/jpeg:https://bluewater-casino-resort.com/wp-content/uploads/2025/01/Chicken-Cordon-Bleu-Grille-Special-Web-Promo-.jpg
END:VEVENT
BEGIN:VEVENT
DTSTART;TZID=America/Phoenix:20250211T130000
DTEND;TZID=America/Phoenix:20250211T170000
DTSTAMP:20260419T103638
CREATED:20250117T232438Z
LAST-MODIFIED:20250117T232438Z
UID:10001953-1739278800-1739293200@bluewater-casino-resort.com
SUMMARY:Early Bird Dinner @ Grille
DESCRIPTION:Early Bird Dinner at BlueWater Grille
URL:https://bluewater-casino-resort.com/event/early-bird-dinner-grille/2025-02-11/
ATTACH;FMTTYPE=image/jpeg:https://bluewater-casino-resort.com/wp-content/uploads/2025/01/Early-Bird-Dinner-Web-.jpg
END:VEVENT
BEGIN:VEVENT
DTSTART;TZID=America/Phoenix:20250211T070000
DTEND;TZID=America/Phoenix:20250211T110000
DTSTAMP:20260419T103638
CREATED:20240216T233138Z
LAST-MODIFIED:20260319T205537Z
UID:10001889-1739257200-1739271600@bluewater-casino-resort.com
SUMMARY:Trucker Special 7AM-11AM
DESCRIPTION:Trucker Special – 4 oz Top Sirloin served with hash browns\, 2 eggs any style and your choice of toast.\n$4.99 with card\, $11.99 without card.
URL:https://bluewater-casino-resort.com/event/trucker-special-7am-11am/2025-02-11/
ATTACH;FMTTYPE=image/jpeg:https://bluewater-casino-resort.com/wp-content/uploads/2024/02/Trucker-Special-1591x751-1.jpg
END:VEVENT
BEGIN:VEVENT
DTSTART;TZID=America/Phoenix:20250211T070000
DTEND;TZID=America/Phoenix:20250211T110000
DTSTAMP:20260419T103638
CREATED:20240216T231842Z
LAST-MODIFIED:20260319T205607Z
UID:10001870-1739257200-1739271600@bluewater-casino-resort.com
SUMMARY:Breakfast Special 7AM-11AM
DESCRIPTION:1-2-3-4 Breakfast Special\n$4.00 with card\, $8.99 without card.
URL:https://bluewater-casino-resort.com/event/breakfast-special-7am-11am/2025-02-11/
ATTACH;FMTTYPE=image/jpeg:https://bluewater-casino-resort.com/wp-content/uploads/2024/02/Breakfast-Special-4.00-1591x751-1.jpg
END:VEVENT
BEGIN:VEVENT
DTSTART;VALUE=DATE:20250211
DTEND;VALUE=DATE:20250212
DTSTAMP:20260419T103638
CREATED:20250117T222637Z
LAST-MODIFIED:20250117T222637Z
UID:10001908-1739232000-1739318399@bluewater-casino-resort.com
SUMMARY:Mardi Gras Kiosk Promo
DESCRIPTION:Tuesdays – February 4\, 11\, 18\, & 25\, 2025 \nPatrons must earn 150 Base Points during the promotional period (12:01am – 11:59pm) to play the Mardi Gras kiosk game for a chance to instantly win $30\, $20\, $10\, or $0 in Restricted Free Slot Play\, up to three (3) plays per day.
URL:https://bluewater-casino-resort.com/event/mardi-gras-kiosk-promo/2025-02-11/
ATTACH;FMTTYPE=image/jpeg:https://bluewater-casino-resort.com/wp-content/uploads/2025/01/Mardi-GrasPromo-Web.jpg
END:VEVENT
BEGIN:VEVENT
DTSTART;TZID=America/Phoenix:20250210T150000
DTEND;TZID=America/Phoenix:20250210T220000
DTSTAMP:20260419T103638
CREATED:20240216T233452Z
LAST-MODIFIED:20260414T220854Z
UID:10001860-1739199600-1739224800@bluewater-casino-resort.com
SUMMARY:New York Steak 3PM-10PM @ Grille
DESCRIPTION:New York Steak Special\n$12.99 with card\, $18.99 without card.
URL:https://bluewater-casino-resort.com/event/new-york-steak-3pm-9pm-grille/2025-02-10/
ATTACH;FMTTYPE=image/jpeg:https://bluewater-casino-resort.com/wp-content/uploads/2025/09/New-York-Grille-SpecialsPromo-Web-2.jpg
END:VEVENT
BEGIN:VEVENT
DTSTART;TZID=America/Phoenix:20250210T130000
DTEND;TZID=America/Phoenix:20250210T170000
DTSTAMP:20260419T103638
CREATED:20250117T232438Z
LAST-MODIFIED:20250117T232438Z
UID:10001952-1739192400-1739206800@bluewater-casino-resort.com
SUMMARY:Early Bird Dinner @ Grille
DESCRIPTION:Early Bird Dinner at BlueWater Grille
URL:https://bluewater-casino-resort.com/event/early-bird-dinner-grille/2025-02-10/
ATTACH;FMTTYPE=image/jpeg:https://bluewater-casino-resort.com/wp-content/uploads/2025/01/Early-Bird-Dinner-Web-.jpg
END:VEVENT
BEGIN:VEVENT
DTSTART;TZID=America/Phoenix:20250210T070000
DTEND;TZID=America/Phoenix:20250210T110000
DTSTAMP:20260419T103638
CREATED:20240216T233138Z
LAST-MODIFIED:20260319T205537Z
UID:10001888-1739170800-1739185200@bluewater-casino-resort.com
SUMMARY:Trucker Special 7AM-11AM
DESCRIPTION:Trucker Special – 4 oz Top Sirloin served with hash browns\, 2 eggs any style and your choice of toast.\n$4.99 with card\, $11.99 without card.
URL:https://bluewater-casino-resort.com/event/trucker-special-7am-11am/2025-02-10/
ATTACH;FMTTYPE=image/jpeg:https://bluewater-casino-resort.com/wp-content/uploads/2024/02/Trucker-Special-1591x751-1.jpg
END:VEVENT
BEGIN:VEVENT
DTSTART;TZID=America/Phoenix:20250210T070000
DTEND;TZID=America/Phoenix:20250210T110000
DTSTAMP:20260419T103638
CREATED:20240216T231842Z
LAST-MODIFIED:20260319T205607Z
UID:10001869-1739170800-1739185200@bluewater-casino-resort.com
SUMMARY:Breakfast Special 7AM-11AM
DESCRIPTION:1-2-3-4 Breakfast Special\n$4.00 with card\, $8.99 without card.
URL:https://bluewater-casino-resort.com/event/breakfast-special-7am-11am/2025-02-10/
ATTACH;FMTTYPE=image/jpeg:https://bluewater-casino-resort.com/wp-content/uploads/2024/02/Breakfast-Special-4.00-1591x751-1.jpg
END:VEVENT
BEGIN:VEVENT
DTSTART;VALUE=DATE:20250210
DTEND;VALUE=DATE:20250211
DTSTAMP:20260419T103638
CREATED:20250117T222433Z
LAST-MODIFIED:20250117T222433Z
UID:10001904-1739145600-1739231999@bluewater-casino-resort.com
SUMMARY:Monday Multiplier (2X Points)
DESCRIPTION:Mondays – February 3\, 10\, 17\, & 24\, 2025 \nParticipants must be playing with their club card properly inserted into any slot machine from 12:01am to 11:59pm\, the Patron Management system will automatically multiply by 2X (two times) any points earned on all machines during the promotional period.
URL:https://bluewater-casino-resort.com/event/monday-multiplier-2x-points-3/2025-02-10/
ATTACH;FMTTYPE=image/jpeg:https://bluewater-casino-resort.com/wp-content/uploads/2025/01/Point-Multiplier-2x-Promo-Web.jpg
END:VEVENT
BEGIN:VEVENT
DTSTART;TZID=America/Phoenix:20250209T150000
DTEND;TZID=America/Phoenix:20250209T220000
DTSTAMP:20260419T103638
CREATED:20240216T232507Z
LAST-MODIFIED:20260414T220820Z
UID:10001856-1739113200-1739138400@bluewater-casino-resort.com
SUMMARY:Prime Rib 3PM-10PM @Grille
DESCRIPTION:Prime Rib Dinner served with corn on the cob\, baked potato\, and dinner roll.\n$18.99 with card\, $24.99 without card.
URL:https://bluewater-casino-resort.com/event/prime-rib-3pm-9pm-grille/2025-02-09/
ATTACH;FMTTYPE=image/jpeg:https://bluewater-casino-resort.com/wp-content/uploads/2025/05/Prime-Rib-Grille-Special-Promo-Web-1.jpg
END:VEVENT
BEGIN:VEVENT
DTSTART;TZID=America/Phoenix:20250209T070000
DTEND;TZID=America/Phoenix:20250209T130000
DTSTAMP:20260419T103638
CREATED:20240216T232325Z
LAST-MODIFIED:20260319T205654Z
UID:10001455-1739084400-1739106000@bluewater-casino-resort.com
SUMMARY:Breakfast Buffet 7AM-1PM
DESCRIPTION:Breakfast Buffet 7am to 1pm\n$14.99 with card and $25.99 without card.
URL:https://bluewater-casino-resort.com/event/breakfast-buffet-7am-1pm/2025-02-09/
ATTACH;FMTTYPE=image/jpeg:https://bluewater-casino-resort.com/wp-content/uploads/2024/02/Breakfast-Buffet-1591x751-1.jpg
END:VEVENT
BEGIN:VEVENT
DTSTART;TZID=America/Phoenix:20250208T180000
DTEND;TZID=America/Phoenix:20250208T220000
DTSTAMP:20260419T103638
CREATED:20250117T223444Z
LAST-MODIFIED:20250117T223444Z
UID:10001924-1739037600-1739052000@bluewater-casino-resort.com
SUMMARY:Lucky Love Cash Giveaways
DESCRIPTION:Saturdays – February 1\, 8\, 15\, & 22\, 2025 \nVirtual Drawings held 6pm – 10pm. Starting February 1 through February 22\, participants can start earning entries to participate in the Lucky Love Cash Giveaways. One (1) winner every 30 mins will be selected for a chance to win cash prizes of $300. 
URL:https://bluewater-casino-resort.com/event/lucky-love-cash-giveaways/2025-02-08/
ATTACH;FMTTYPE=image/jpeg:https://bluewater-casino-resort.com/wp-content/uploads/2025/01/Lucky-Love-Cash-Giveaway-Promo-Web.jpg
END:VEVENT
BEGIN:VEVENT
DTSTART;TZID=America/Phoenix:20250208T150000
DTEND;TZID=America/Phoenix:20250208T220000
DTSTAMP:20260419T103638
CREATED:20250117T232213Z
LAST-MODIFIED:20250714T220814Z
UID:10001945-1739026800-1739052000@bluewater-casino-resort.com
SUMMARY:Chef Special @ Grille
DESCRIPTION:Chef Special changed weekly at BlueWater Grille.
URL:https://bluewater-casino-resort.com/event/chef-special-grille/2025-02-08/
ATTACH;FMTTYPE=image/jpeg:https://bluewater-casino-resort.com/wp-content/uploads/2025/01/Chef-SpecialWebPromo.jpg
END:VEVENT
BEGIN:VEVENT
DTSTART;TZID=America/Phoenix:20250207T210000
DTEND;TZID=America/Phoenix:20250208T010000
DTSTAMP:20260419T103638
CREATED:20250219T220048Z
LAST-MODIFIED:20250408T193828Z
UID:10002096-1738962000-1738976400@bluewater-casino-resort.com
SUMMARY:Live Entertainment @ Dig Lounge
DESCRIPTION:
URL:https://bluewater-casino-resort.com/event/live-entertainment-dig-lounge/2025-02-07/
END:VEVENT
BEGIN:VEVENT
DTSTART;TZID=America/Phoenix:20250207T150000
DTEND;TZID=America/Phoenix:20250207T210000
DTSTAMP:20260419T103638
CREATED:20250117T232041Z
LAST-MODIFIED:20250408T194532Z
UID:10001940-1738940400-1738962000@bluewater-casino-resort.com
SUMMARY:Chicken Marsala @ Grille
DESCRIPTION:Chicken Marsala with Garlic Mash and Seasonal Veggies. \n$8.99 with card\, $14.99 without card.
URL:https://bluewater-casino-resort.com/event/chicken-marsala-grille/2025-02-07/
ATTACH;FMTTYPE=image/jpeg:https://bluewater-casino-resort.com/wp-content/uploads/2025/01/Chicken-Marsala-Grille-Special-Promo-Web.jpg
END:VEVENT
BEGIN:VEVENT
DTSTART;TZID=America/Phoenix:20250207T100000
DTEND;TZID=America/Phoenix:20250207T220000
DTSTAMP:20260419T103638
CREATED:20250117T223305Z
LAST-MODIFIED:20250117T223305Z
UID:10001919-1738922400-1738965600@bluewater-casino-resort.com
SUMMARY:Twice As Nice Hot Seat Drawings
DESCRIPTION:Fridays – February 7\, 14\, 21\, & 28\, 2025 \nEighteen (1) $100 Cash Prize Drawings held in two sessions\, 10am – 2pm & 6pm – 10pm! Participants must be actively playing with their club card to participate\, one (1) winner every half hour! Participants can only win once per day. 
URL:https://bluewater-casino-resort.com/event/twice-as-nice-hot-seat-drawings-3/2025-02-07/
ATTACH;FMTTYPE=image/gif:https://bluewater-casino-resort.com/wp-content/uploads/2025/01/Twice-as-Nice-Web-2.gif
END:VEVENT
BEGIN:VEVENT
DTSTART;TZID=America/Phoenix:20250207T070000
DTEND;TZID=America/Phoenix:20250207T110000
DTSTAMP:20260419T103638
CREATED:20240216T233138Z
LAST-MODIFIED:20260319T205537Z
UID:10001887-1738911600-1738926000@bluewater-casino-resort.com
SUMMARY:Trucker Special 7AM-11AM
DESCRIPTION:Trucker Special – 4 oz Top Sirloin served with hash browns\, 2 eggs any style and your choice of toast.\n$4.99 with card\, $11.99 without card.
URL:https://bluewater-casino-resort.com/event/trucker-special-7am-11am/2025-02-07/
ATTACH;FMTTYPE=image/jpeg:https://bluewater-casino-resort.com/wp-content/uploads/2024/02/Trucker-Special-1591x751-1.jpg
END:VEVENT
BEGIN:VEVENT
DTSTART;TZID=America/Phoenix:20250207T070000
DTEND;TZID=America/Phoenix:20250207T110000
DTSTAMP:20260419T103638
CREATED:20240216T231842Z
LAST-MODIFIED:20260319T205607Z
UID:10001868-1738911600-1738926000@bluewater-casino-resort.com
SUMMARY:Breakfast Special 7AM-11AM
DESCRIPTION:1-2-3-4 Breakfast Special\n$4.00 with card\, $8.99 without card.
URL:https://bluewater-casino-resort.com/event/breakfast-special-7am-11am/2025-02-07/
ATTACH;FMTTYPE=image/jpeg:https://bluewater-casino-resort.com/wp-content/uploads/2024/02/Breakfast-Special-4.00-1591x751-1.jpg
END:VEVENT
BEGIN:VEVENT
DTSTART;TZID=America/Phoenix:20250206T150000
DTEND;TZID=America/Phoenix:20250206T220000
DTSTAMP:20260419T103638
CREATED:20250117T231825Z
LAST-MODIFIED:20250516T214740Z
UID:10001936-1738854000-1738879200@bluewater-casino-resort.com
SUMMARY:Shrimp Basket @ Grille
DESCRIPTION:Shrimp Basket with Coleslaw and Cajun Fries. \n$12.99 with card\, $18.99 without card.
URL:https://bluewater-casino-resort.com/event/shrimp-basket-grille/2025-02-06/
ATTACH;FMTTYPE=image/jpeg:https://bluewater-casino-resort.com/wp-content/uploads/2025/01/Shrimp-Basket-Grille-SpecialPromo-Web.jpg
END:VEVENT
BEGIN:VEVENT
DTSTART;TZID=America/Phoenix:20250206T130000
DTEND;TZID=America/Phoenix:20250206T170000
DTSTAMP:20260419T103638
CREATED:20250117T232438Z
LAST-MODIFIED:20250117T232438Z
UID:10001951-1738846800-1738861200@bluewater-casino-resort.com
SUMMARY:Early Bird Dinner @ Grille
DESCRIPTION:Early Bird Dinner at BlueWater Grille
URL:https://bluewater-casino-resort.com/event/early-bird-dinner-grille/2025-02-06/
ATTACH;FMTTYPE=image/jpeg:https://bluewater-casino-resort.com/wp-content/uploads/2025/01/Early-Bird-Dinner-Web-.jpg
END:VEVENT
BEGIN:VEVENT
DTSTART;TZID=America/Phoenix:20250206T080000
DTEND;TZID=America/Phoenix:20250206T194500
DTSTAMP:20260419T103638
CREATED:20250117T223105Z
LAST-MODIFIED:20250117T223105Z
UID:10001915-1738828800-1738871100@bluewater-casino-resort.com
SUMMARY:Cash Crush Slot Tournaments
DESCRIPTION:Thursdays – February 6\, 13\, 20\, & 27\, 2025 \nParticipants must sign up/register on promotional Wednesdays starting at 8:01am and ending at 7:45pm\, to be eligible to play in the slot tournament.  Top 3 scores at end of each day win cash prizes ($300\, $200\, $100). Slot tournament participants who score highest in their session receive $75 Restricted Free Slot Play. 
URL:https://bluewater-casino-resort.com/event/cash-crush-slot-tournaments/2025-02-06/
ATTACH;FMTTYPE=image/jpeg:https://bluewater-casino-resort.com/wp-content/uploads/2025/01/Cash-Crush-Slot-Tournament-Promo-Web.jpg
END:VEVENT
BEGIN:VEVENT
DTSTART;TZID=America/Phoenix:20250206T070000
DTEND;TZID=America/Phoenix:20250206T110000
DTSTAMP:20260419T103638
CREATED:20240216T233138Z
LAST-MODIFIED:20260319T205537Z
UID:10001886-1738825200-1738839600@bluewater-casino-resort.com
SUMMARY:Trucker Special 7AM-11AM
DESCRIPTION:Trucker Special – 4 oz Top Sirloin served with hash browns\, 2 eggs any style and your choice of toast.\n$4.99 with card\, $11.99 without card.
URL:https://bluewater-casino-resort.com/event/trucker-special-7am-11am/2025-02-06/
ATTACH;FMTTYPE=image/jpeg:https://bluewater-casino-resort.com/wp-content/uploads/2024/02/Trucker-Special-1591x751-1.jpg
END:VEVENT
BEGIN:VEVENT
DTSTART;TZID=America/Phoenix:20250206T070000
DTEND;TZID=America/Phoenix:20250206T110000
DTSTAMP:20260419T103638
CREATED:20240216T231842Z
LAST-MODIFIED:20260319T205607Z
UID:10001867-1738825200-1738839600@bluewater-casino-resort.com
SUMMARY:Breakfast Special 7AM-11AM
DESCRIPTION:1-2-3-4 Breakfast Special\n$4.00 with card\, $8.99 without card.
URL:https://bluewater-casino-resort.com/event/breakfast-special-7am-11am/2025-02-06/
ATTACH;FMTTYPE=image/jpeg:https://bluewater-casino-resort.com/wp-content/uploads/2024/02/Breakfast-Special-4.00-1591x751-1.jpg
END:VEVENT
BEGIN:VEVENT
DTSTART;TZID=America/Phoenix:20250205T150000
DTEND;TZID=America/Phoenix:20250205T210000
DTSTAMP:20260419T103638
CREATED:20250117T231617Z
LAST-MODIFIED:20250408T194434Z
UID:10001932-1738767600-1738789200@bluewater-casino-resort.com
SUMMARY:Beef Fajitas @ Grille
DESCRIPTION:Beef Fajitas with Spanish Rice and Refried Beans\, and two (2) Tortillas. \n$12.99 with card\, $18.99 without card.
URL:https://bluewater-casino-resort.com/event/beef-fajitas-grille/2025-02-05/
ATTACH;FMTTYPE=image/jpeg:https://bluewater-casino-resort.com/wp-content/uploads/2025/01/Beef-Fajitas-Grille-SpecialPromo-Web.jpg
END:VEVENT
BEGIN:VEVENT
DTSTART;TZID=America/Phoenix:20250205T130000
DTEND;TZID=America/Phoenix:20250205T170000
DTSTAMP:20260419T103638
CREATED:20250117T232438Z
LAST-MODIFIED:20250117T232438Z
UID:10001950-1738760400-1738774800@bluewater-casino-resort.com
SUMMARY:Early Bird Dinner @ Grille
DESCRIPTION:Early Bird Dinner at BlueWater Grille
URL:https://bluewater-casino-resort.com/event/early-bird-dinner-grille/2025-02-05/
ATTACH;FMTTYPE=image/jpeg:https://bluewater-casino-resort.com/wp-content/uploads/2025/01/Early-Bird-Dinner-Web-.jpg
END:VEVENT
END:VCALENDAR