BEGIN:VCALENDAR
VERSION:2.0
PRODID:-//Blue Water Resort &amp; Casino - ECPv6.15.20//NONSGML v1.0//EN
CALSCALE:GREGORIAN
METHOD:PUBLISH
X-ORIGINAL-URL:https://bluewater-casino-resort.com
X-WR-CALDESC:Events for Blue Water Resort &amp; Casino
REFRESH-INTERVAL;VALUE=DURATION:PT1H
X-Robots-Tag:noindex
X-PUBLISHED-TTL:PT1H
BEGIN:VTIMEZONE
TZID:America/Phoenix
BEGIN:STANDARD
TZOFFSETFROM:-0700
TZOFFSETTO:-0700
TZNAME:MST
DTSTART:20240101T000000
END:STANDARD
END:VTIMEZONE
BEGIN:VEVENT
DTSTART;TZID=America/Phoenix:20251004T150000
DTEND;TZID=America/Phoenix:20251004T220000
DTSTAMP:20260419T210738
CREATED:20250915T204826Z
LAST-MODIFIED:20260414T221152Z
UID:10003010-1759590000-1759615200@bluewater-casino-resort.com
SUMMARY:Chef's Special 3PM-10PM @ Grille
DESCRIPTION:Chef’s Special \n$12.99 with card\, $18.99 without card.
URL:https://bluewater-casino-resort.com/event/chefs-special-3pm-10pm-grille/2025-10-04/
ATTACH;FMTTYPE=image/jpeg:https://bluewater-casino-resort.com/wp-content/uploads/2025/09/Chef-SpecialWebPromo-2.jpg
END:VEVENT
BEGIN:VEVENT
DTSTART;TZID=America/Phoenix:20251004T180000
DTEND;TZID=America/Phoenix:20251004T220000
DTSTAMP:20260419T210738
CREATED:20250915T210209Z
LAST-MODIFIED:20250915T210209Z
UID:10003041-1759600800-1759615200@bluewater-casino-resort.com
SUMMARY:Spooky Spins Virtual Drawings
DESCRIPTION:Saturdays – October 4\, 11\, 18\, 25 \nVirtual Drawings held 6pm – 10pm. Starting October 1 through October 25\, participants can start earning entries to participate in the Spooky Spins virtual drawings. One (1) winner every 30 minutes will be selected for chance to win cash prizes of $500; $250; and $100\, or $100 in FSP! There will be a bonus $75 Free Slot Play if winning patron is wearing the promotional “Wear To Win’ BlueWater tshirt.
URL:https://bluewater-casino-resort.com/event/spooky-spins-virtual-drawings/2025-10-04/
ATTACH;FMTTYPE=image/jpeg:https://bluewater-casino-resort.com/wp-content/uploads/2025/09/Spooky-Spins-Virtual-Drawings-Promo-Web.jpg
END:VEVENT
BEGIN:VEVENT
DTSTART;TZID=America/Phoenix:20251005T000000
DTEND;TZID=America/Phoenix:20251005T230000
DTSTAMP:20260419T210738
CREATED:20250915T205252Z
LAST-MODIFIED:20250915T205252Z
UID:10003014-1759622400-1759705200@bluewater-casino-resort.com
SUMMARY:Comfy & Cozy Gift Giveaways
DESCRIPTION:Club members must earn 300 base points each Sunday between the hours of 12:01am and 11pm during the promotional period. Limit of one (1) gift item per promotional day. 200 gift items per promotional day. \n\nOctober 5 – Amy Miller Velvet Throw\nOctober 12 – Amy Miller Queen Sheet Set\nOctober 19 – Amy Miller 2-Pack Jumbo Pillow\nOctober 26 – Amy Miller Reversible Comforter
URL:https://bluewater-casino-resort.com/event/comfy-cozy-gift-giveaways/2025-10-05/
ATTACH;FMTTYPE=image/jpeg:https://bluewater-casino-resort.com/wp-content/uploads/2025/09/Comfy-Cozy-Gift-Giveaway-Promo-Web.jpg
END:VEVENT
BEGIN:VEVENT
DTSTART;VALUE=DATE:20251005
DTEND;VALUE=DATE:20251006
DTSTAMP:20260419T210738
CREATED:20250811T205745Z
LAST-MODIFIED:20250811T205932Z
UID:10002914-1759622400-1759708799@bluewater-casino-resort.com
SUMMARY:The Season – NFL Pick-Em Kiosk Game
DESCRIPTION:Starting Tuesday\, September 2\, 2025 through January 4\, 2026; Participants can choose their NFL picks at the promotional kiosk each week during the promotional period. Top 3 Scores of each week will win cash prizes of $75\, $50 and $25. Participants may only play one (1) time per week.
URL:https://bluewater-casino-resort.com/event/the-season-nfl-pick-em-kiosk-game/2025-10-05/
ATTACH;FMTTYPE=image/jpeg:https://bluewater-casino-resort.com/wp-content/uploads/2025/08/The-Season-Picksem-Promo-Web.jpg
END:VEVENT
BEGIN:VEVENT
DTSTART;TZID=America/Phoenix:20251005T070000
DTEND;TZID=America/Phoenix:20251005T130000
DTSTAMP:20260419T210738
CREATED:20240216T232325Z
LAST-MODIFIED:20260319T205654Z
UID:10002812-1759647600-1759669200@bluewater-casino-resort.com
SUMMARY:Breakfast Buffet 7AM-1PM
DESCRIPTION:Breakfast Buffet 7am to 1pm\n$14.99 with card and $25.99 without card.
URL:https://bluewater-casino-resort.com/event/breakfast-buffet-7am-1pm/2025-10-05/
ATTACH;FMTTYPE=image/jpeg:https://bluewater-casino-resort.com/wp-content/uploads/2024/02/Breakfast-Buffet-1591x751-1.jpg
END:VEVENT
BEGIN:VEVENT
DTSTART;TZID=America/Phoenix:20251005T150000
DTEND;TZID=America/Phoenix:20251005T220000
DTSTAMP:20260419T210738
CREATED:20240216T232507Z
LAST-MODIFIED:20260414T220820Z
UID:10002833-1759676400-1759701600@bluewater-casino-resort.com
SUMMARY:Prime Rib 3PM-10PM @Grille
DESCRIPTION:Prime Rib Dinner served with corn on the cob\, baked potato\, and dinner roll.\n$18.99 with card\, $24.99 without card.
URL:https://bluewater-casino-resort.com/event/prime-rib-3pm-9pm-grille/2025-10-05/
ATTACH;FMTTYPE=image/jpeg:https://bluewater-casino-resort.com/wp-content/uploads/2025/05/Prime-Rib-Grille-Special-Promo-Web-1.jpg
END:VEVENT
BEGIN:VEVENT
DTSTART;VALUE=DATE:20251006
DTEND;VALUE=DATE:20251007
DTSTAMP:20260419T210738
CREATED:20250915T205410Z
LAST-MODIFIED:20250915T205410Z
UID:10003018-1759708800-1759795199@bluewater-casino-resort.com
SUMMARY:Monday Multiplier (2X Points)
DESCRIPTION:Mondays – October 6\, 13\, 20\, 27 \nParticipants must be playing with their club card properly inserted into any slot machine from 12:01am to 11:59pm\, the Patron Management system will automatically multiply by 2X (two times) any points earned on all machines during the promotional period.
URL:https://bluewater-casino-resort.com/event/monday-multiplier-2x-points-11/2025-10-06/
ATTACH;FMTTYPE=image/jpeg:https://bluewater-casino-resort.com/wp-content/uploads/2025/09/2x-Point-Multiplier-Promo-Web.jpg
END:VEVENT
BEGIN:VEVENT
DTSTART;TZID=America/Phoenix:20251006T070000
DTEND;TZID=America/Phoenix:20251006T110000
DTSTAMP:20260419T210738
CREATED:20240216T231842Z
LAST-MODIFIED:20260319T205607Z
UID:10002944-1759734000-1759748400@bluewater-casino-resort.com
SUMMARY:Breakfast Special 7AM-11AM
DESCRIPTION:1-2-3-4 Breakfast Special\n$4.00 with card\, $8.99 without card.
URL:https://bluewater-casino-resort.com/event/breakfast-special-7am-11am/2025-10-06/
ATTACH;FMTTYPE=image/jpeg:https://bluewater-casino-resort.com/wp-content/uploads/2024/02/Breakfast-Special-4.00-1591x751-1.jpg
END:VEVENT
BEGIN:VEVENT
DTSTART;TZID=America/Phoenix:20251006T070000
DTEND;TZID=America/Phoenix:20251006T110000
DTSTAMP:20260419T210738
CREATED:20240216T233138Z
LAST-MODIFIED:20260319T205537Z
UID:10002966-1759734000-1759748400@bluewater-casino-resort.com
SUMMARY:Trucker Special 7AM-11AM
DESCRIPTION:Trucker Special – 4 oz Top Sirloin served with hash browns\, 2 eggs any style and your choice of toast.\n$4.99 with card\, $11.99 without card.
URL:https://bluewater-casino-resort.com/event/trucker-special-7am-11am/2025-10-06/
ATTACH;FMTTYPE=image/jpeg:https://bluewater-casino-resort.com/wp-content/uploads/2024/02/Trucker-Special-1591x751-1.jpg
END:VEVENT
BEGIN:VEVENT
DTSTART;TZID=America/Phoenix:20251006T150000
DTEND;TZID=America/Phoenix:20251006T220000
DTSTAMP:20260419T210738
CREATED:20240216T233452Z
LAST-MODIFIED:20260414T220854Z
UID:10002987-1759762800-1759788000@bluewater-casino-resort.com
SUMMARY:New York Steak 3PM-10PM @ Grille
DESCRIPTION:New York Steak Special\n$12.99 with card\, $18.99 without card.
URL:https://bluewater-casino-resort.com/event/new-york-steak-3pm-9pm-grille/2025-10-06/
ATTACH;FMTTYPE=image/jpeg:https://bluewater-casino-resort.com/wp-content/uploads/2025/09/New-York-Grille-SpecialsPromo-Web-2.jpg
END:VEVENT
BEGIN:VEVENT
DTSTART;VALUE=DATE:20251007
DTEND;VALUE=DATE:20251008
DTSTAMP:20260419T210738
CREATED:20250915T205528Z
LAST-MODIFIED:20250915T205528Z
UID:10003022-1759795200-1759881599@bluewater-casino-resort.com
SUMMARY:HalloWIN Kiosk Promo
DESCRIPTION:Tuesdays – October 7\, 14\, 21\, 28 \nPatrons must earn 150 Base Points during the promotional period (12:01am – 11:59pm) to play the HalloWIN kiosk game for a chance to instantly win $30\, $20\, $10\, or $0 in Restricted Free Slot Play\, up to three (3) plays per day.
URL:https://bluewater-casino-resort.com/event/hallowin-kiosk-promo/2025-10-07/
ATTACH;FMTTYPE=image/jpeg:https://bluewater-casino-resort.com/wp-content/uploads/2025/09/HalloWIN-Kiosk-Promo-Web.jpg
END:VEVENT
BEGIN:VEVENT
DTSTART;TZID=America/Phoenix:20251007T070000
DTEND;TZID=America/Phoenix:20251007T110000
DTSTAMP:20260419T210738
CREATED:20240216T231842Z
LAST-MODIFIED:20260319T205607Z
UID:10002945-1759820400-1759834800@bluewater-casino-resort.com
SUMMARY:Breakfast Special 7AM-11AM
DESCRIPTION:1-2-3-4 Breakfast Special\n$4.00 with card\, $8.99 without card.
URL:https://bluewater-casino-resort.com/event/breakfast-special-7am-11am/2025-10-07/
ATTACH;FMTTYPE=image/jpeg:https://bluewater-casino-resort.com/wp-content/uploads/2024/02/Breakfast-Special-4.00-1591x751-1.jpg
END:VEVENT
BEGIN:VEVENT
DTSTART;TZID=America/Phoenix:20251007T070000
DTEND;TZID=America/Phoenix:20251007T110000
DTSTAMP:20260419T210738
CREATED:20240216T233138Z
LAST-MODIFIED:20260319T205537Z
UID:10002967-1759820400-1759834800@bluewater-casino-resort.com
SUMMARY:Trucker Special 7AM-11AM
DESCRIPTION:Trucker Special – 4 oz Top Sirloin served with hash browns\, 2 eggs any style and your choice of toast.\n$4.99 with card\, $11.99 without card.
URL:https://bluewater-casino-resort.com/event/trucker-special-7am-11am/2025-10-07/
ATTACH;FMTTYPE=image/jpeg:https://bluewater-casino-resort.com/wp-content/uploads/2024/02/Trucker-Special-1591x751-1.jpg
END:VEVENT
BEGIN:VEVENT
DTSTART;TZID=America/Phoenix:20251007T150000
DTEND;TZID=America/Phoenix:20251007T220000
DTSTAMP:20260419T210738
CREATED:20250915T203958Z
LAST-MODIFIED:20260116T222938Z
UID:10002991-1759849200-1759874400@bluewater-casino-resort.com
SUMMARY:Open Face Beef 3PM-10PM @ Grille
DESCRIPTION:Hot Beef served with mashed potatoes and buttery\, corn kernels. \n$12.99 with card\, $18.99 without card.
URL:https://bluewater-casino-resort.com/event/open-face-beef-3pm-10pm-grille/2025-10-07/
ATTACH;FMTTYPE=image/jpeg:https://bluewater-casino-resort.com/wp-content/uploads/2025/09/Open-Face-Beef-Promo-Web.jpg
END:VEVENT
BEGIN:VEVENT
DTSTART;TZID=America/Phoenix:20251008T070000
DTEND;TZID=America/Phoenix:20251008T110000
DTSTAMP:20260419T210738
CREATED:20240216T231842Z
LAST-MODIFIED:20260319T205607Z
UID:10002946-1759906800-1759921200@bluewater-casino-resort.com
SUMMARY:Breakfast Special 7AM-11AM
DESCRIPTION:1-2-3-4 Breakfast Special\n$4.00 with card\, $8.99 without card.
URL:https://bluewater-casino-resort.com/event/breakfast-special-7am-11am/2025-10-08/
ATTACH;FMTTYPE=image/jpeg:https://bluewater-casino-resort.com/wp-content/uploads/2024/02/Breakfast-Special-4.00-1591x751-1.jpg
END:VEVENT
BEGIN:VEVENT
DTSTART;TZID=America/Phoenix:20251008T070000
DTEND;TZID=America/Phoenix:20251008T110000
DTSTAMP:20260419T210738
CREATED:20240216T233138Z
LAST-MODIFIED:20260319T205537Z
UID:10002968-1759906800-1759921200@bluewater-casino-resort.com
SUMMARY:Trucker Special 7AM-11AM
DESCRIPTION:Trucker Special – 4 oz Top Sirloin served with hash browns\, 2 eggs any style and your choice of toast.\n$4.99 with card\, $11.99 without card.
URL:https://bluewater-casino-resort.com/event/trucker-special-7am-11am/2025-10-08/
ATTACH;FMTTYPE=image/jpeg:https://bluewater-casino-resort.com/wp-content/uploads/2024/02/Trucker-Special-1591x751-1.jpg
END:VEVENT
BEGIN:VEVENT
DTSTART;TZID=America/Phoenix:20251008T080000
DTEND;TZID=America/Phoenix:20251008T230000
DTSTAMP:20260419T210738
CREATED:20250915T205644Z
LAST-MODIFIED:20250915T205644Z
UID:10003027-1759910400-1759964400@bluewater-casino-resort.com
SUMMARY:$50 for $40
DESCRIPTION:Wednesdays – October 1\, 8\, 15\, 22\, 29 \nClub members will purchase a $40 promotional voucher from the cashier’s cage and redeem at THEclub for $50 in Restricted Free Slot Play\, starting at 8am to 11pm. Participants can only redeem one (1) promotional voucher per promotional day.
URL:https://bluewater-casino-resort.com/event/50-for-40-11/2025-10-08/
ATTACH;FMTTYPE=image/jpeg:https://bluewater-casino-resort.com/wp-content/uploads/2025/09/50-for-40Promo-Wbe.jpg
END:VEVENT
BEGIN:VEVENT
DTSTART;TZID=America/Phoenix:20251008T150000
DTEND;TZID=America/Phoenix:20251008T220000
DTSTAMP:20260419T210738
CREATED:20250915T204209Z
LAST-MODIFIED:20260414T221003Z
UID:10002996-1759935600-1759960800@bluewater-casino-resort.com
SUMMARY:Seafood Trio Basket 3PM-10PM @ Grille
DESCRIPTION:Seafood Trio Basket – one piece of cod\, 3 Panko breaded shrimp\, and 6 Calamari rings with French fries and 2 hush puppies. \n$12.99 with card\, $18.99 without card.
URL:https://bluewater-casino-resort.com/event/seafood-trio-basket-3pm-10pm-grille/2025-10-08/
ATTACH;FMTTYPE=image/jpeg:https://bluewater-casino-resort.com/wp-content/uploads/2025/09/Seafood-Trio-Basket-Wed-PromoWeb.jpg
END:VEVENT
BEGIN:VEVENT
DTSTART;TZID=America/Phoenix:20251009T070000
DTEND;TZID=America/Phoenix:20251009T110000
DTSTAMP:20260419T210738
CREATED:20240216T231842Z
LAST-MODIFIED:20260319T205607Z
UID:10002947-1759993200-1760007600@bluewater-casino-resort.com
SUMMARY:Breakfast Special 7AM-11AM
DESCRIPTION:1-2-3-4 Breakfast Special\n$4.00 with card\, $8.99 without card.
URL:https://bluewater-casino-resort.com/event/breakfast-special-7am-11am/2025-10-09/
ATTACH;FMTTYPE=image/jpeg:https://bluewater-casino-resort.com/wp-content/uploads/2024/02/Breakfast-Special-4.00-1591x751-1.jpg
END:VEVENT
BEGIN:VEVENT
DTSTART;TZID=America/Phoenix:20251009T070000
DTEND;TZID=America/Phoenix:20251009T110000
DTSTAMP:20260419T210738
CREATED:20240216T233138Z
LAST-MODIFIED:20260319T205537Z
UID:10002969-1759993200-1760007600@bluewater-casino-resort.com
SUMMARY:Trucker Special 7AM-11AM
DESCRIPTION:Trucker Special – 4 oz Top Sirloin served with hash browns\, 2 eggs any style and your choice of toast.\n$4.99 with card\, $11.99 without card.
URL:https://bluewater-casino-resort.com/event/trucker-special-7am-11am/2025-10-09/
ATTACH;FMTTYPE=image/jpeg:https://bluewater-casino-resort.com/wp-content/uploads/2024/02/Trucker-Special-1591x751-1.jpg
END:VEVENT
BEGIN:VEVENT
DTSTART;TZID=America/Phoenix:20251009T080000
DTEND;TZID=America/Phoenix:20251009T194500
DTSTAMP:20260419T210738
CREATED:20250915T205850Z
LAST-MODIFIED:20250915T205850Z
UID:10003032-1759996800-1760039100@bluewater-casino-resort.com
SUMMARY:Jack-Pot Slot Tournaments
DESCRIPTION:Thursdays – October 2\, 9\, 16\, 23\, 30 \nParticipants must sign up/register on promotional Thursdays starting at 8:01am and ending at 7:45pm\, to be eligible to play in the slot tournament.  Top 3 scores at end of each day win cash prizes ($500\, $300\, $150). Slot tournament participants who score highest in their session receive $75 Restricted Free Slot Play. 
URL:https://bluewater-casino-resort.com/event/jack-pot-slot-tournaments-2/2025-10-09/
ATTACH;FMTTYPE=image/jpeg:https://bluewater-casino-resort.com/wp-content/uploads/2025/09/Jack-Pot-Slot-tournament-Promo-Web.jpg
END:VEVENT
BEGIN:VEVENT
DTSTART;TZID=America/Phoenix:20251009T150000
DTEND;TZID=America/Phoenix:20251009T220000
DTSTAMP:20260419T210738
CREATED:20250915T204415Z
LAST-MODIFIED:20260116T223139Z
UID:10003001-1760022000-1760047200@bluewater-casino-resort.com
SUMMARY:Smoked Ribs & Jalapeno Cheddar Sausage 3PM-10PM @ Grille
DESCRIPTION:Smoked Ribs & Jalapeno cheddar sausage\, baked mac and cheese\, with corn bread \n$18.99 with card\, $24.99 without card.
URL:https://bluewater-casino-resort.com/event/smoked-ribs-jalapeno-cheddar-sausage-3pm-10pm-grille/2025-10-09/
ATTACH;FMTTYPE=image/jpeg:https://bluewater-casino-resort.com/wp-content/uploads/2025/09/Smoke-Ribs-Jalapeno-Sausage-Promo-Web.jpg
END:VEVENT
BEGIN:VEVENT
DTSTART;TZID=America/Phoenix:20251010T070000
DTEND;TZID=America/Phoenix:20251010T110000
DTSTAMP:20260419T210738
CREATED:20240216T231842Z
LAST-MODIFIED:20260319T205607Z
UID:10002948-1760079600-1760094000@bluewater-casino-resort.com
SUMMARY:Breakfast Special 7AM-11AM
DESCRIPTION:1-2-3-4 Breakfast Special\n$4.00 with card\, $8.99 without card.
URL:https://bluewater-casino-resort.com/event/breakfast-special-7am-11am/2025-10-10/
ATTACH;FMTTYPE=image/jpeg:https://bluewater-casino-resort.com/wp-content/uploads/2024/02/Breakfast-Special-4.00-1591x751-1.jpg
END:VEVENT
BEGIN:VEVENT
DTSTART;TZID=America/Phoenix:20251010T070000
DTEND;TZID=America/Phoenix:20251010T110000
DTSTAMP:20260419T210738
CREATED:20240216T233138Z
LAST-MODIFIED:20260319T205537Z
UID:10002970-1760079600-1760094000@bluewater-casino-resort.com
SUMMARY:Trucker Special 7AM-11AM
DESCRIPTION:Trucker Special – 4 oz Top Sirloin served with hash browns\, 2 eggs any style and your choice of toast.\n$4.99 with card\, $11.99 without card.
URL:https://bluewater-casino-resort.com/event/trucker-special-7am-11am/2025-10-10/
ATTACH;FMTTYPE=image/jpeg:https://bluewater-casino-resort.com/wp-content/uploads/2024/02/Trucker-Special-1591x751-1.jpg
END:VEVENT
BEGIN:VEVENT
DTSTART;TZID=America/Phoenix:20251010T100000
DTEND;TZID=America/Phoenix:20251010T220000
DTSTAMP:20260419T210738
CREATED:20250915T210047Z
LAST-MODIFIED:20250915T210047Z
UID:10003037-1760090400-1760133600@bluewater-casino-resort.com
SUMMARY:Twice As Nice Hot Seat Drawings
DESCRIPTION:Fridays – October 3\, 10\, 17\, 24\, 31 \nEighteen (18) $100 Cash Prize Drawings held from 10am-2pm and 6pm-10pm! Participants must be actively playing with their club card to participate\, one (1) winner every half hour! Participants can only win once per day.
URL:https://bluewater-casino-resort.com/event/twice-as-nice-hot-seat-drawings-4/2025-10-10/
ATTACH;FMTTYPE=image/jpeg:https://bluewater-casino-resort.com/wp-content/uploads/2025/09/Twice-as-Nice-Promo-Web.jpg
END:VEVENT
BEGIN:VEVENT
DTSTART;TZID=America/Phoenix:20251010T150000
DTEND;TZID=America/Phoenix:20251010T220000
DTSTAMP:20260419T210738
CREATED:20250915T204617Z
LAST-MODIFIED:20260116T223236Z
UID:10003006-1760108400-1760133600@bluewater-casino-resort.com
SUMMARY:Cajun Chicken 3PM-10PM @ Grille
DESCRIPTION:Cajun Chicken & broccoli alfredo served on a bed of penne with garlic bread. \n$12.99 with card\, $18.99 without card.
URL:https://bluewater-casino-resort.com/event/cajun-chicken-3pm-10pm-grille/2025-10-10/
ATTACH;FMTTYPE=image/jpeg:https://bluewater-casino-resort.com/wp-content/uploads/2025/09/Cajun-Chicken-Broccoli-Alfredo-Promo-Web.jpg
END:VEVENT
BEGIN:VEVENT
DTSTART;TZID=America/Phoenix:20251010T200000
DTEND;TZID=America/Phoenix:20251010T220000
DTSTAMP:20260419T210738
CREATED:20250625T194715Z
LAST-MODIFIED:20250625T194715Z
UID:10002627-1760126400-1760133600@bluewater-casino-resort.com
SUMMARY:Sara Evans @ Showroom (Doors at 7PM\, Show at 8PM)
DESCRIPTION:TICKET PRICES CURRENTLY AVAILABLE\nVIP: $85.00\nGA: $58.75 \nTICKET SALE DATES\nVIP / GA Public Onsale: June 25\, 2025 9:13 AM to October 9\, 2025 11:59 PM \nPERFORMANCE DESCRIPTION \nMulti-platinum entertainer SARA EVANS is at the top of her game. As the fifth most-played female artist at country radio in nearly the last two decades — she’s notched over 20 top 15 singles\, including her five No. 1 singles “No Place That Far”\, “A Real Fine Place To Start”\, “Born to Fly”\, “Suds In The Bucket”\, and “A Little Bit Stronger”. The last two songs spent 2 weeks in the top spot and were certified platinum by the R.I.A.A. — Sara thrills audiences across the U.S. playing close to 100 shows each year. Sara’s “stunning\, country voice” (Rolling Stone) has earned her the prestigious Academy of Country Music Top Female vocalist accolade as well as numerous American Music Awards\, Billboard Music Awards\, Country Music Association\, CMT and Grammy Awards nominations. In addition\, the CMA awarded Video of the Year honors for her hit chart-topping single & Born to Fly & from her double-platinum album of the same name. Evans’ discography also includes the platinum-selling studio albums Real Fine Place and Restless as well as the gold-certified projects Stronger and No Place That Far.
URL:https://bluewater-casino-resort.com/event/sara-evans-showroom-doors-at-7pm-show-at-8pm/
ATTACH;FMTTYPE=image/jpeg:https://bluewater-casino-resort.com/wp-content/uploads/2025/06/Sara-Evans-Unboke-Tour-scaled.jpg
END:VEVENT
BEGIN:VEVENT
DTSTART;TZID=America/Phoenix:20251010T220000
DTEND;TZID=America/Phoenix:20251010T235900
DTSTAMP:20260419T210738
CREATED:20250915T210408Z
LAST-MODIFIED:20250915T210408Z
UID:10003045-1760133600-1760140740@bluewater-casino-resort.com
SUMMARY:After Show Hot Seat Drawings – October 10th & 25th
DESCRIPTION:Following the concert events in October\, five (5) $300 Cash Prize Drawings held from 10pm to 12am! Participants must be actively playing with their club card to participate\, one (1) winner every half hour! Participants can only win once per day.
URL:https://bluewater-casino-resort.com/event/after-show-hot-seat-drawings-october-10th-25th/2025-10-10/
ATTACH;FMTTYPE=image/jpeg:https://bluewater-casino-resort.com/wp-content/uploads/2025/09/After-Show-Hot-seats.Promo-Webjpg.jpg
END:VEVENT
BEGIN:VEVENT
DTSTART;TZID=America/Phoenix:20251011T150000
DTEND;TZID=America/Phoenix:20251011T220000
DTSTAMP:20260419T210738
CREATED:20250915T204826Z
LAST-MODIFIED:20260414T221152Z
UID:10003011-1760194800-1760220000@bluewater-casino-resort.com
SUMMARY:Chef's Special 3PM-10PM @ Grille
DESCRIPTION:Chef’s Special \n$12.99 with card\, $18.99 without card.
URL:https://bluewater-casino-resort.com/event/chefs-special-3pm-10pm-grille/2025-10-11/
ATTACH;FMTTYPE=image/jpeg:https://bluewater-casino-resort.com/wp-content/uploads/2025/09/Chef-SpecialWebPromo-2.jpg
END:VEVENT
BEGIN:VEVENT
DTSTART;TZID=America/Phoenix:20251011T180000
DTEND;TZID=America/Phoenix:20251011T220000
DTSTAMP:20260419T210738
CREATED:20250915T210209Z
LAST-MODIFIED:20250915T210209Z
UID:10003042-1760205600-1760220000@bluewater-casino-resort.com
SUMMARY:Spooky Spins Virtual Drawings
DESCRIPTION:Saturdays – October 4\, 11\, 18\, 25 \nVirtual Drawings held 6pm – 10pm. Starting October 1 through October 25\, participants can start earning entries to participate in the Spooky Spins virtual drawings. One (1) winner every 30 minutes will be selected for chance to win cash prizes of $500; $250; and $100\, or $100 in FSP! There will be a bonus $75 Free Slot Play if winning patron is wearing the promotional “Wear To Win’ BlueWater tshirt.
URL:https://bluewater-casino-resort.com/event/spooky-spins-virtual-drawings/2025-10-11/
ATTACH;FMTTYPE=image/jpeg:https://bluewater-casino-resort.com/wp-content/uploads/2025/09/Spooky-Spins-Virtual-Drawings-Promo-Web.jpg
END:VEVENT
END:VCALENDAR