BEGIN:VCALENDAR
VERSION:2.0
PRODID:-//Blue Water Resort &amp; Casino - ECPv6.15.20//NONSGML v1.0//EN
CALSCALE:GREGORIAN
METHOD:PUBLISH
X-WR-CALNAME:Blue Water Resort &amp; Casino
X-ORIGINAL-URL:https://bluewater-casino-resort.com
X-WR-CALDESC:Events for Blue Water Resort &amp; Casino
REFRESH-INTERVAL;VALUE=DURATION:PT1H
X-Robots-Tag:noindex
X-PUBLISHED-TTL:PT1H
BEGIN:VTIMEZONE
TZID:America/Phoenix
BEGIN:STANDARD
TZOFFSETFROM:-0700
TZOFFSETTO:-0700
TZNAME:MST
DTSTART:20240101T000000
END:STANDARD
END:VTIMEZONE
BEGIN:VEVENT
DTSTART;TZID=America/Phoenix:20250903T190000
DTEND;TZID=America/Phoenix:20250903T210000
DTSTAMP:20260425T092851
CREATED:20250811T205107Z
LAST-MODIFIED:20250811T205107Z
UID:10002901-1756926000-1756933200@bluewater-casino-resort.com
SUMMARY:Wednesday Winners Virtual Drawings
DESCRIPTION:Wednesdays – September 3\, 10\, 17\, & 24; 2025 \nVirtual Drawings held 7pm – 9pm. Starting September 1 through September 24\, participants can start earning entries to participate in the Wednesday Winners virtual drawings. One (1) winner every 30 mins will be selected for a chance to win cash prizes of $500.
URL:https://bluewater-casino-resort.com/event/wednesday-winners-virtual-drawings-2/2025-09-03/
ATTACH;FMTTYPE=image/jpeg:https://bluewater-casino-resort.com/wp-content/uploads/2025/08/Wednesday-Winners-Virtual-Drawings-Promo-Web-1.jpg
END:VEVENT
BEGIN:VEVENT
DTSTART;TZID=America/Phoenix:20250903T150000
DTEND;TZID=America/Phoenix:20250903T220000
DTSTAMP:20260425T092851
CREATED:20250516T213633Z
LAST-MODIFIED:20250811T194858Z
UID:10002794-1756911600-1756936800@bluewater-casino-resort.com
SUMMARY:Pulled Pork Nachos 3PM-10PM @ Grille
DESCRIPTION:Pulled Pork Nachos with tomato\, red onions\, fresh cilantro\, jalapenos\, sour cream\, and a southwestern white cheddar cheese sauce. \n$12.99 with card\, $18.99 without card.
URL:https://bluewater-casino-resort.com/event/pulled-pork-nachos-3pm-10pm-grille/2025-09-03/
ATTACH;FMTTYPE=image/png:https://bluewater-casino-resort.com/wp-content/uploads/2025/05/Pulled-Pork-Nachos-Promo-Web.png
END:VEVENT
BEGIN:VEVENT
DTSTART;TZID=America/Phoenix:20250903T110000
DTEND;TZID=America/Phoenix:20250903T150000
DTSTAMP:20260425T092851
CREATED:20250516T214619Z
LAST-MODIFIED:20250811T194449Z
UID:10002768-1756897200-1756911600@bluewater-casino-resort.com
SUMMARY:Local Lunch Special - Monday thru Thursday 11AM-3PM
DESCRIPTION:Monday – Thursday 1pm to 3pm; all specials $6.99 with card\, $12.99 without card. \nMonday – Stacker Deluxe Sandwich with roast beef\, turkey\, ham\, bacon\, Swiss and cheddar cheese\, slice tomatoes with a bistro sauce. \nTuesday – Po Boy 6-inch\, popcorn shrimp with green leaf tomato remoulade sauce. \nWednesday – Grilled Chicken Deluxe served with Parmesan crusted sourdough bread\, grilled chicken\, bacon\, tomato\, avocado\, spring mix\, prepper jack\, provolone\, with a pesto aioli. \nThursday – Tea Egg Sandwich\, two (2) crustless triangle egg salad sandwich on white bread\, topped with gherkins.
URL:https://bluewater-casino-resort.com/event/local-lunch-special-monday-thru-thursday-11am-3pm/2025-09-03/
ATTACH;FMTTYPE=image/jpeg:https://bluewater-casino-resort.com/wp-content/uploads/2025/05/Local-Specials-Web-.jpg
END:VEVENT
BEGIN:VEVENT
DTSTART;TZID=America/Phoenix:20250903T080000
DTEND;TZID=America/Phoenix:20250903T230000
DTSTAMP:20260425T092851
CREATED:20250811T204906Z
LAST-MODIFIED:20250811T204906Z
UID:10002897-1756886400-1756940400@bluewater-casino-resort.com
SUMMARY:$50 For $40
DESCRIPTION:Wednesdays – September 3\, 10\, 17\, & 24; 2025 \nClub members will purchase a $40 promotional voucher from the cashier’s cage and redeem at THEclub for $50 in Restricted Free Slot Play\, starting at 8am to 11pm. Participants can only redeem one (1) promotional voucher per promotional day.
URL:https://bluewater-casino-resort.com/event/50-for-40-10/2025-09-03/
ATTACH;FMTTYPE=image/jpeg:https://bluewater-casino-resort.com/wp-content/uploads/2025/08/50-for-40-Promo-Web.jpg
END:VEVENT
BEGIN:VEVENT
DTSTART;TZID=America/Phoenix:20250903T070000
DTEND;TZID=America/Phoenix:20250903T110000
DTSTAMP:20260425T092851
CREATED:20240216T233138Z
LAST-MODIFIED:20260319T205537Z
UID:10002860-1756882800-1756897200@bluewater-casino-resort.com
SUMMARY:Trucker Special 7AM-11AM
DESCRIPTION:Trucker Special – 4 oz Top Sirloin served with hash browns\, 2 eggs any style and your choice of toast.\n$4.99 with card\, $11.99 without card.
URL:https://bluewater-casino-resort.com/event/trucker-special-7am-11am/2025-09-03/
ATTACH;FMTTYPE=image/jpeg:https://bluewater-casino-resort.com/wp-content/uploads/2024/02/Trucker-Special-1591x751-1.jpg
END:VEVENT
BEGIN:VEVENT
DTSTART;TZID=America/Phoenix:20250903T070000
DTEND;TZID=America/Phoenix:20250903T110000
DTSTAMP:20260425T092851
CREATED:20240216T231842Z
LAST-MODIFIED:20260319T205607Z
UID:10002839-1756882800-1756897200@bluewater-casino-resort.com
SUMMARY:Breakfast Special 7AM-11AM
DESCRIPTION:1-2-3-4 Breakfast Special\n$4.00 with card\, $8.99 without card.
URL:https://bluewater-casino-resort.com/event/breakfast-special-7am-11am/2025-09-03/
ATTACH;FMTTYPE=image/jpeg:https://bluewater-casino-resort.com/wp-content/uploads/2024/02/Breakfast-Special-4.00-1591x751-1.jpg
END:VEVENT
BEGIN:VEVENT
DTSTART;TZID=America/Phoenix:20250902T150000
DTEND;TZID=America/Phoenix:20250902T220000
DTSTAMP:20260425T092851
CREATED:20250516T213436Z
LAST-MODIFIED:20250811T194648Z
UID:10002789-1756825200-1756850400@bluewater-casino-resort.com
SUMMARY:Southwest Avocado 1/2 LB Burger 3PM-10PM @ Grille
DESCRIPTION:Southwest Avocado 1/2 LB Burger\, pepper jack cheese\, sliced avocado\, chipotle mayo \nServed with fries \n$12.99 with card\, $18.99 without card
URL:https://bluewater-casino-resort.com/event/southwest-avocado-1-2-lb-burger-3pm-10pm-grille/2025-09-02/
ATTACH;FMTTYPE=image/png:https://bluewater-casino-resort.com/wp-content/uploads/2025/05/southwest-avocado-burger-Web-Promo.png
END:VEVENT
BEGIN:VEVENT
DTSTART;TZID=America/Phoenix:20250902T110000
DTEND;TZID=America/Phoenix:20250902T150000
DTSTAMP:20260425T092851
CREATED:20250516T214619Z
LAST-MODIFIED:20250811T194449Z
UID:10002767-1756810800-1756825200@bluewater-casino-resort.com
SUMMARY:Local Lunch Special - Monday thru Thursday 11AM-3PM
DESCRIPTION:Monday – Thursday 1pm to 3pm; all specials $6.99 with card\, $12.99 without card. \nMonday – Stacker Deluxe Sandwich with roast beef\, turkey\, ham\, bacon\, Swiss and cheddar cheese\, slice tomatoes with a bistro sauce. \nTuesday – Po Boy 6-inch\, popcorn shrimp with green leaf tomato remoulade sauce. \nWednesday – Grilled Chicken Deluxe served with Parmesan crusted sourdough bread\, grilled chicken\, bacon\, tomato\, avocado\, spring mix\, prepper jack\, provolone\, with a pesto aioli. \nThursday – Tea Egg Sandwich\, two (2) crustless triangle egg salad sandwich on white bread\, topped with gherkins.
URL:https://bluewater-casino-resort.com/event/local-lunch-special-monday-thru-thursday-11am-3pm/2025-09-02/
ATTACH;FMTTYPE=image/jpeg:https://bluewater-casino-resort.com/wp-content/uploads/2025/05/Local-Specials-Web-.jpg
END:VEVENT
BEGIN:VEVENT
DTSTART;TZID=America/Phoenix:20250902T080000
DTEND;TZID=America/Phoenix:20250902T170000
DTSTAMP:20260425T092851
CREATED:20250811T204723Z
LAST-MODIFIED:20250902T221850Z
UID:10002892-1756800000-1756832400@bluewater-casino-resort.com
SUMMARY:O’Snap Kiosk Promo
DESCRIPTION:Tuesdays – September 2\, 9\, 16\, 23\, & 30; 2025 \nPatrons must earn 150 Base Points during the promotional period (12:01am – 11:59pm) to play the O’Snap kiosk game for a chance to instantly win $30\, $20\, $10\, or $0 in Restricted Free Slot Play\, up to three (3) plays per day.
URL:https://bluewater-casino-resort.com/event/osnap-kiosk-promo/2025-09-02/
ATTACH;FMTTYPE=image/jpeg:https://bluewater-casino-resort.com/wp-content/uploads/2025/09/OSnap-Kiosk-Promo-Web-2.jpg
END:VEVENT
BEGIN:VEVENT
DTSTART;TZID=America/Phoenix:20250902T070000
DTEND;TZID=America/Phoenix:20250902T110000
DTSTAMP:20260425T092851
CREATED:20240216T233138Z
LAST-MODIFIED:20260319T205537Z
UID:10002859-1756796400-1756810800@bluewater-casino-resort.com
SUMMARY:Trucker Special 7AM-11AM
DESCRIPTION:Trucker Special – 4 oz Top Sirloin served with hash browns\, 2 eggs any style and your choice of toast.\n$4.99 with card\, $11.99 without card.
URL:https://bluewater-casino-resort.com/event/trucker-special-7am-11am/2025-09-02/
ATTACH;FMTTYPE=image/jpeg:https://bluewater-casino-resort.com/wp-content/uploads/2024/02/Trucker-Special-1591x751-1.jpg
END:VEVENT
BEGIN:VEVENT
DTSTART;TZID=America/Phoenix:20250902T070000
DTEND;TZID=America/Phoenix:20250902T110000
DTSTAMP:20260425T092851
CREATED:20240216T231842Z
LAST-MODIFIED:20260319T205607Z
UID:10002838-1756796400-1756810800@bluewater-casino-resort.com
SUMMARY:Breakfast Special 7AM-11AM
DESCRIPTION:1-2-3-4 Breakfast Special\n$4.00 with card\, $8.99 without card.
URL:https://bluewater-casino-resort.com/event/breakfast-special-7am-11am/2025-09-02/
ATTACH;FMTTYPE=image/jpeg:https://bluewater-casino-resort.com/wp-content/uploads/2024/02/Breakfast-Special-4.00-1591x751-1.jpg
END:VEVENT
BEGIN:VEVENT
DTSTART;TZID=America/Phoenix:20250901T150000
DTEND;TZID=America/Phoenix:20250901T220000
DTSTAMP:20260425T092851
CREATED:20240216T233452Z
LAST-MODIFIED:20260414T220854Z
UID:10002784-1756738800-1756764000@bluewater-casino-resort.com
SUMMARY:New York Steak 3PM-10PM @ Grille
DESCRIPTION:New York Steak Special\n$12.99 with card\, $18.99 without card.
URL:https://bluewater-casino-resort.com/event/new-york-steak-3pm-9pm-grille/2025-09-01/
ATTACH;FMTTYPE=image/jpeg:https://bluewater-casino-resort.com/wp-content/uploads/2025/09/New-York-Grille-SpecialsPromo-Web-2.jpg
END:VEVENT
BEGIN:VEVENT
DTSTART;TZID=America/Phoenix:20250901T110000
DTEND;TZID=America/Phoenix:20250901T150000
DTSTAMP:20260425T092851
CREATED:20250516T214619Z
LAST-MODIFIED:20250811T194449Z
UID:10002766-1756724400-1756738800@bluewater-casino-resort.com
SUMMARY:Local Lunch Special - Monday thru Thursday 11AM-3PM
DESCRIPTION:Monday – Thursday 1pm to 3pm; all specials $6.99 with card\, $12.99 without card. \nMonday – Stacker Deluxe Sandwich with roast beef\, turkey\, ham\, bacon\, Swiss and cheddar cheese\, slice tomatoes with a bistro sauce. \nTuesday – Po Boy 6-inch\, popcorn shrimp with green leaf tomato remoulade sauce. \nWednesday – Grilled Chicken Deluxe served with Parmesan crusted sourdough bread\, grilled chicken\, bacon\, tomato\, avocado\, spring mix\, prepper jack\, provolone\, with a pesto aioli. \nThursday – Tea Egg Sandwich\, two (2) crustless triangle egg salad sandwich on white bread\, topped with gherkins.
URL:https://bluewater-casino-resort.com/event/local-lunch-special-monday-thru-thursday-11am-3pm/2025-09-01/
ATTACH;FMTTYPE=image/jpeg:https://bluewater-casino-resort.com/wp-content/uploads/2025/05/Local-Specials-Web-.jpg
END:VEVENT
BEGIN:VEVENT
DTSTART;TZID=America/Phoenix:20250901T070000
DTEND;TZID=America/Phoenix:20250901T110000
DTSTAMP:20260425T092851
CREATED:20240216T233138Z
LAST-MODIFIED:20260319T205537Z
UID:10002679-1756710000-1756724400@bluewater-casino-resort.com
SUMMARY:Trucker Special 7AM-11AM
DESCRIPTION:Trucker Special – 4 oz Top Sirloin served with hash browns\, 2 eggs any style and your choice of toast.\n$4.99 with card\, $11.99 without card.
URL:https://bluewater-casino-resort.com/event/trucker-special-7am-11am/2025-09-01/
ATTACH;FMTTYPE=image/jpeg:https://bluewater-casino-resort.com/wp-content/uploads/2024/02/Trucker-Special-1591x751-1.jpg
END:VEVENT
BEGIN:VEVENT
DTSTART;TZID=America/Phoenix:20250901T070000
DTEND;TZID=America/Phoenix:20250901T110000
DTSTAMP:20260425T092851
CREATED:20240216T231842Z
LAST-MODIFIED:20260319T205607Z
UID:10002837-1756710000-1756724400@bluewater-casino-resort.com
SUMMARY:Breakfast Special 7AM-11AM
DESCRIPTION:1-2-3-4 Breakfast Special\n$4.00 with card\, $8.99 without card.
URL:https://bluewater-casino-resort.com/event/breakfast-special-7am-11am/2025-09-01/
ATTACH;FMTTYPE=image/jpeg:https://bluewater-casino-resort.com/wp-content/uploads/2024/02/Breakfast-Special-4.00-1591x751-1.jpg
END:VEVENT
BEGIN:VEVENT
DTSTART;VALUE=DATE:20250901
DTEND;VALUE=DATE:20250902
DTSTAMP:20260425T092851
CREATED:20250811T203957Z
LAST-MODIFIED:20250811T203957Z
UID:10002887-1756684800-1756771199@bluewater-casino-resort.com
SUMMARY:Monday Multiplier (2X Points)
DESCRIPTION:Mondays – September 1\, 8\, 15\, 22\, & 29; 2025 \nParticipants must be playing with their club card properly inserted into any slot machine from 12:01am to 11:59pm\, the Patron Management system will automatically multiply by 2X (two times) any points earned on all machines during the promotional period.
URL:https://bluewater-casino-resort.com/event/monday-multiplier-2x-points-10/2025-09-01/
ATTACH;FMTTYPE=image/jpeg:https://bluewater-casino-resort.com/wp-content/uploads/2025/08/Point-Multiplier-2x-Promo-Web-7.jpg
END:VEVENT
BEGIN:VEVENT
DTSTART;TZID=America/Phoenix:20250831T150000
DTEND;TZID=America/Phoenix:20250831T220000
DTSTAMP:20260425T092851
CREATED:20240216T232507Z
LAST-MODIFIED:20260414T220820Z
UID:10002637-1756652400-1756677600@bluewater-casino-resort.com
SUMMARY:Prime Rib 3PM-10PM @Grille
DESCRIPTION:Prime Rib Dinner served with corn on the cob\, baked potato\, and dinner roll.\n$18.99 with card\, $24.99 without card.
URL:https://bluewater-casino-resort.com/event/prime-rib-3pm-9pm-grille/2025-08-31/
ATTACH;FMTTYPE=image/jpeg:https://bluewater-casino-resort.com/wp-content/uploads/2025/05/Prime-Rib-Grille-Special-Promo-Web-1.jpg
END:VEVENT
BEGIN:VEVENT
DTSTART;TZID=America/Phoenix:20250831T070000
DTEND;TZID=America/Phoenix:20250831T130000
DTSTAMP:20260425T092851
CREATED:20240216T232325Z
LAST-MODIFIED:20260319T205654Z
UID:10002629-1756623600-1756645200@bluewater-casino-resort.com
SUMMARY:Breakfast Buffet 7AM-1PM
DESCRIPTION:Breakfast Buffet 7am to 1pm\n$14.99 with card and $25.99 without card.
URL:https://bluewater-casino-resort.com/event/breakfast-buffet-7am-1pm/2025-08-31/
ATTACH;FMTTYPE=image/jpeg:https://bluewater-casino-resort.com/wp-content/uploads/2024/02/Breakfast-Buffet-1591x751-1.jpg
END:VEVENT
BEGIN:VEVENT
DTSTART;TZID=America/Phoenix:20250831T000000
DTEND;TZID=America/Phoenix:20250831T230000
DTSTAMP:20260425T092851
CREATED:20250710T200420Z
LAST-MODIFIED:20250710T200420Z
UID:10002688-1756598400-1756681200@bluewater-casino-resort.com
SUMMARY:Summer Stash Gift Giveaways
DESCRIPTION:Sundays – August 3\, 10\, 17\, 24\, 31 \nClub members must earn 150 base points each Sunday between the hours of 12:01am and 11pm during the promotional period. Limit of one (1) gift item per promotional day. 150 gift items per promotional day. Gift items include over stock from previous gift giveaways.
URL:https://bluewater-casino-resort.com/event/summer-stash-gift-giveaways/2025-08-31/
ATTACH;FMTTYPE=image/jpeg:https://bluewater-casino-resort.com/wp-content/uploads/2025/07/Summer-Stash-Gift-Giveaways-Promo-Web.jpg
END:VEVENT
BEGIN:VEVENT
DTSTART;TZID=America/Phoenix:20250830T183000
DTEND;TZID=America/Phoenix:20250830T203000
DTSTAMP:20260425T092851
CREATED:20250714T221158Z
LAST-MODIFIED:20250714T221158Z
UID:10002761-1756578600-1756585800@bluewater-casino-resort.com
SUMMARY:Big Money Blackjack
DESCRIPTION:Fridays & Saturdays  \nWin up to $500 on Fridays and Saturdays from 6:30PM to 8:30PM. See the Blackjack Table for full details. 
URL:https://bluewater-casino-resort.com/event/big-money-blackjack/2025-08-30/
ATTACH;FMTTYPE=image/jpeg:https://bluewater-casino-resort.com/wp-content/uploads/2025/07/Big-Money-Blackjack-Promo-Web.jpg
END:VEVENT
BEGIN:VEVENT
DTSTART;TZID=America/Phoenix:20250830T150000
DTEND;TZID=America/Phoenix:20250830T210000
DTSTAMP:20260425T092851
CREATED:20250714T221001Z
LAST-MODIFIED:20250811T195350Z
UID:10002751-1756566000-1756587600@bluewater-casino-resort.com
SUMMARY:BBQ Trio
DESCRIPTION:Chef Special – BBQ Trio\, Brisket\, Airline Chicken Breast\, Ribs\, Baked Beans\, Coleslaw.  \n$12.99 with card\, $18.99 without card. 
URL:https://bluewater-casino-resort.com/event/bbq-trio/2025-08-30/
ATTACH;FMTTYPE=image/jpeg:https://bluewater-casino-resort.com/wp-content/uploads/2025/07/BBQ-Trio-Brisket-Special-promo-web.jpg
END:VEVENT
BEGIN:VEVENT
DTSTART;TZID=America/Phoenix:20250829T183000
DTEND;TZID=America/Phoenix:20250829T203000
DTSTAMP:20260425T092851
CREATED:20250714T221158Z
LAST-MODIFIED:20250714T221158Z
UID:10002760-1756492200-1756499400@bluewater-casino-resort.com
SUMMARY:Big Money Blackjack
DESCRIPTION:Fridays & Saturdays  \nWin up to $500 on Fridays and Saturdays from 6:30PM to 8:30PM. See the Blackjack Table for full details. 
URL:https://bluewater-casino-resort.com/event/big-money-blackjack/2025-08-29/
ATTACH;FMTTYPE=image/jpeg:https://bluewater-casino-resort.com/wp-content/uploads/2025/07/Big-Money-Blackjack-Promo-Web.jpg
END:VEVENT
BEGIN:VEVENT
DTSTART;TZID=America/Phoenix:20250829T150000
DTEND;TZID=America/Phoenix:20250829T220000
DTSTAMP:20260425T092851
CREATED:20250516T215444Z
LAST-MODIFIED:20250811T195244Z
UID:10002802-1756479600-1756504800@bluewater-casino-resort.com
SUMMARY:Diablo Sandwich 3PM-10PM @ Grille
DESCRIPTION:Smoked brisket\, grilled chicken\, sauteed white onions\, grilled jalapenos\, pepper jack cheese. \nHouse made Carolina reaper hot BBQ sauce. \nServed with fries.
URL:https://bluewater-casino-resort.com/event/diablo-sandwich-3pm-10pm-grille/2025-08-29/
ATTACH;FMTTYPE=image/png:https://bluewater-casino-resort.com/wp-content/uploads/2025/05/Diablo-Sandwich-Web-Promo.png
END:VEVENT
BEGIN:VEVENT
DTSTART;TZID=America/Phoenix:20250829T120000
DTEND;TZID=America/Phoenix:20250829T200000
DTSTAMP:20260425T092851
CREATED:20250710T201429Z
LAST-MODIFIED:20250710T201429Z
UID:10002705-1756468800-1756497600@bluewater-casino-resort.com
SUMMARY:Cool Cash Hot Seat Drawings
DESCRIPTION:Fridays – August 1\, 8\, 15\, 22\, & 29 \nSeventeen (1) $100 Cash Prize Drawings held from 12pm to 8pm! Participants must be actively playing with their club card to participate\, one (1) winner every half hour! Participants can only win once per day. \n 
URL:https://bluewater-casino-resort.com/event/cool-cash-hot-seat-drawings/2025-08-29/
ATTACH;FMTTYPE=image/jpeg:https://bluewater-casino-resort.com/wp-content/uploads/2025/07/Cool-Cash-Hot-Seats-Promo-Web.jpg
END:VEVENT
BEGIN:VEVENT
DTSTART;TZID=America/Phoenix:20250829T070000
DTEND;TZID=America/Phoenix:20250829T110000
DTSTAMP:20260425T092851
CREATED:20240216T233138Z
LAST-MODIFIED:20260319T205537Z
UID:10002678-1756450800-1756465200@bluewater-casino-resort.com
SUMMARY:Trucker Special 7AM-11AM
DESCRIPTION:Trucker Special – 4 oz Top Sirloin served with hash browns\, 2 eggs any style and your choice of toast.\n$4.99 with card\, $11.99 without card.
URL:https://bluewater-casino-resort.com/event/trucker-special-7am-11am/2025-08-29/
ATTACH;FMTTYPE=image/jpeg:https://bluewater-casino-resort.com/wp-content/uploads/2024/02/Trucker-Special-1591x751-1.jpg
END:VEVENT
BEGIN:VEVENT
DTSTART;TZID=America/Phoenix:20250829T070000
DTEND;TZID=America/Phoenix:20250829T110000
DTSTAMP:20260425T092851
CREATED:20240216T231842Z
LAST-MODIFIED:20260319T205607Z
UID:10002658-1756450800-1756465200@bluewater-casino-resort.com
SUMMARY:Breakfast Special 7AM-11AM
DESCRIPTION:1-2-3-4 Breakfast Special\n$4.00 with card\, $8.99 without card.
URL:https://bluewater-casino-resort.com/event/breakfast-special-7am-11am/2025-08-29/
ATTACH;FMTTYPE=image/jpeg:https://bluewater-casino-resort.com/wp-content/uploads/2024/02/Breakfast-Special-4.00-1591x751-1.jpg
END:VEVENT
BEGIN:VEVENT
DTSTART;TZID=America/Phoenix:20250828T150000
DTEND;TZID=America/Phoenix:20250828T220000
DTSTAMP:20260425T092851
CREATED:20250516T214841Z
LAST-MODIFIED:20250811T195107Z
UID:10002738-1756393200-1756418400@bluewater-casino-resort.com
SUMMARY:Baja Fish Tacos 3PM-10PM @ Grille
DESCRIPTION:Baja Fish Tacos (3) with a Mango Salsa. \nSide of tortilla chips with Salsa and Guacamole. . \n$12.99 with card\, $18.99 without card.
URL:https://bluewater-casino-resort.com/event/baja-fish-tacos-3pm-10pm-grille-2/2025-08-28/
ATTACH;FMTTYPE=image/png:https://bluewater-casino-resort.com/wp-content/uploads/2025/05/Baja-fish-tacos-Promo-Web.png
END:VEVENT
BEGIN:VEVENT
DTSTART;TZID=America/Phoenix:20250828T110000
DTEND;TZID=America/Phoenix:20250828T150000
DTSTAMP:20260425T092851
CREATED:20250516T214619Z
LAST-MODIFIED:20250811T194449Z
UID:10002726-1756378800-1756393200@bluewater-casino-resort.com
SUMMARY:Local Lunch Special - Monday thru Thursday 11AM-3PM
DESCRIPTION:Monday – Thursday 1pm to 3pm; all specials $6.99 with card\, $12.99 without card. \nMonday – Stacker Deluxe Sandwich with roast beef\, turkey\, ham\, bacon\, Swiss and cheddar cheese\, slice tomatoes with a bistro sauce. \nTuesday – Po Boy 6-inch\, popcorn shrimp with green leaf tomato remoulade sauce. \nWednesday – Grilled Chicken Deluxe served with Parmesan crusted sourdough bread\, grilled chicken\, bacon\, tomato\, avocado\, spring mix\, prepper jack\, provolone\, with a pesto aioli. \nThursday – Tea Egg Sandwich\, two (2) crustless triangle egg salad sandwich on white bread\, topped with gherkins.
URL:https://bluewater-casino-resort.com/event/local-lunch-special-monday-thru-thursday-11am-3pm/2025-08-28/
ATTACH;FMTTYPE=image/jpeg:https://bluewater-casino-resort.com/wp-content/uploads/2025/05/Local-Specials-Web-.jpg
END:VEVENT
BEGIN:VEVENT
DTSTART;TZID=America/Phoenix:20250828T070000
DTEND;TZID=America/Phoenix:20250828T110000
DTSTAMP:20260425T092851
CREATED:20240216T233138Z
LAST-MODIFIED:20260319T205537Z
UID:10002677-1756364400-1756378800@bluewater-casino-resort.com
SUMMARY:Trucker Special 7AM-11AM
DESCRIPTION:Trucker Special – 4 oz Top Sirloin served with hash browns\, 2 eggs any style and your choice of toast.\n$4.99 with card\, $11.99 without card.
URL:https://bluewater-casino-resort.com/event/trucker-special-7am-11am/2025-08-28/
ATTACH;FMTTYPE=image/jpeg:https://bluewater-casino-resort.com/wp-content/uploads/2024/02/Trucker-Special-1591x751-1.jpg
END:VEVENT
BEGIN:VEVENT
DTSTART;TZID=America/Phoenix:20250828T070000
DTEND;TZID=America/Phoenix:20250828T110000
DTSTAMP:20260425T092851
CREATED:20240216T231842Z
LAST-MODIFIED:20260319T205607Z
UID:10002657-1756364400-1756378800@bluewater-casino-resort.com
SUMMARY:Breakfast Special 7AM-11AM
DESCRIPTION:1-2-3-4 Breakfast Special\n$4.00 with card\, $8.99 without card.
URL:https://bluewater-casino-resort.com/event/breakfast-special-7am-11am/2025-08-28/
ATTACH;FMTTYPE=image/jpeg:https://bluewater-casino-resort.com/wp-content/uploads/2024/02/Breakfast-Special-4.00-1591x751-1.jpg
END:VEVENT
END:VCALENDAR