BEGIN:VCALENDAR
VERSION:2.0
PRODID:-//Blue Water Resort &amp; Casino - ECPv6.15.20//NONSGML v1.0//EN
CALSCALE:GREGORIAN
METHOD:PUBLISH
X-WR-CALNAME:Blue Water Resort &amp; Casino
X-ORIGINAL-URL:https://bluewater-casino-resort.com
X-WR-CALDESC:Events for Blue Water Resort &amp; Casino
REFRESH-INTERVAL;VALUE=DURATION:PT1H
X-Robots-Tag:noindex
X-PUBLISHED-TTL:PT1H
BEGIN:VTIMEZONE
TZID:America/Phoenix
BEGIN:STANDARD
TZOFFSETFROM:-0700
TZOFFSETTO:-0700
TZNAME:MST
DTSTART:20240101T000000
END:STANDARD
END:VTIMEZONE
BEGIN:VEVENT
DTSTART;TZID=America/Phoenix:20250430T080000
DTEND;TZID=America/Phoenix:20250430T230000
DTSTAMP:20260420T074326
CREATED:20250318T201014Z
LAST-MODIFIED:20250318T201014Z
UID:10002133-1746000000-1746054000@bluewater-casino-resort.com
SUMMARY:$50 For $40
DESCRIPTION:Wednesdays – April 2\, 9\, 16\, 23\, & 30 \nClub members will purchase a $40 promotional voucher from the cashier’s cage and redeem at THEclub for $50 in Restricted Free Slot Play\, starting at 8am to 11pm. Participants can only redeem one (1) promotional voucher per promotional day.
URL:https://bluewater-casino-resort.com/event/50-for-40-5/2025-04-30/
ATTACH;FMTTYPE=image/jpeg:https://bluewater-casino-resort.com/wp-content/uploads/2025/03/50-for-40-Promo-Web-5.jpg
END:VEVENT
BEGIN:VEVENT
DTSTART;TZID=America/Phoenix:20250430T070000
DTEND;TZID=America/Phoenix:20250430T110000
DTSTAMP:20260420T074326
CREATED:20240216T233138Z
LAST-MODIFIED:20260319T205537Z
UID:10002167-1745996400-1746010800@bluewater-casino-resort.com
SUMMARY:Trucker Special 7AM-11AM
DESCRIPTION:Trucker Special – 4 oz Top Sirloin served with hash browns\, 2 eggs any style and your choice of toast.\n$4.99 with card\, $11.99 without card.
URL:https://bluewater-casino-resort.com/event/trucker-special-7am-11am/2025-04-30/
ATTACH;FMTTYPE=image/jpeg:https://bluewater-casino-resort.com/wp-content/uploads/2024/02/Trucker-Special-1591x751-1.jpg
END:VEVENT
BEGIN:VEVENT
DTSTART;TZID=America/Phoenix:20250430T070000
DTEND;TZID=America/Phoenix:20250430T110000
DTSTAMP:20260420T074326
CREATED:20240216T231842Z
LAST-MODIFIED:20260319T205607Z
UID:10002189-1745996400-1746010800@bluewater-casino-resort.com
SUMMARY:Breakfast Special 7AM-11AM
DESCRIPTION:1-2-3-4 Breakfast Special\n$4.00 with card\, $8.99 without card.
URL:https://bluewater-casino-resort.com/event/breakfast-special-7am-11am/2025-04-30/
ATTACH;FMTTYPE=image/jpeg:https://bluewater-casino-resort.com/wp-content/uploads/2024/02/Breakfast-Special-4.00-1591x751-1.jpg
END:VEVENT
BEGIN:VEVENT
DTSTART;TZID=America/Phoenix:20250429T150000
DTEND;TZID=America/Phoenix:20250429T210000
DTSTAMP:20260420T074326
CREATED:20250117T231357Z
LAST-MODIFIED:20250408T194405Z
UID:10002198-1745938800-1745960400@bluewater-casino-resort.com
SUMMARY:Chicken Cordon Bleu @ Grille
DESCRIPTION:Chicken Cordon Bleu with a Southwestern White Cheddar Cheese Sauce\, Rice Pilaf\, and Seasoned Vegetables. \n$10.99 with card\, $16.99 without card
URL:https://bluewater-casino-resort.com/event/chicken-cordon-bleu-grille/2025-04-29/
ATTACH;FMTTYPE=image/jpeg:https://bluewater-casino-resort.com/wp-content/uploads/2025/01/Chicken-Cordon-Bleu-Grille-Special-Web-Promo-.jpg
END:VEVENT
BEGIN:VEVENT
DTSTART;TZID=America/Phoenix:20250429T070000
DTEND;TZID=America/Phoenix:20250429T110000
DTSTAMP:20260420T074326
CREATED:20240216T233138Z
LAST-MODIFIED:20260319T205537Z
UID:10002166-1745910000-1745924400@bluewater-casino-resort.com
SUMMARY:Trucker Special 7AM-11AM
DESCRIPTION:Trucker Special – 4 oz Top Sirloin served with hash browns\, 2 eggs any style and your choice of toast.\n$4.99 with card\, $11.99 without card.
URL:https://bluewater-casino-resort.com/event/trucker-special-7am-11am/2025-04-29/
ATTACH;FMTTYPE=image/jpeg:https://bluewater-casino-resort.com/wp-content/uploads/2024/02/Trucker-Special-1591x751-1.jpg
END:VEVENT
BEGIN:VEVENT
DTSTART;TZID=America/Phoenix:20250429T070000
DTEND;TZID=America/Phoenix:20250429T110000
DTSTAMP:20260420T074326
CREATED:20240216T231842Z
LAST-MODIFIED:20260319T205607Z
UID:10002188-1745910000-1745924400@bluewater-casino-resort.com
SUMMARY:Breakfast Special 7AM-11AM
DESCRIPTION:1-2-3-4 Breakfast Special\n$4.00 with card\, $8.99 without card.
URL:https://bluewater-casino-resort.com/event/breakfast-special-7am-11am/2025-04-29/
ATTACH;FMTTYPE=image/jpeg:https://bluewater-casino-resort.com/wp-content/uploads/2024/02/Breakfast-Special-4.00-1591x751-1.jpg
END:VEVENT
BEGIN:VEVENT
DTSTART;VALUE=DATE:20250429
DTEND;VALUE=DATE:20250430
DTSTAMP:20260420T074326
CREATED:20250318T200851Z
LAST-MODIFIED:20250318T200851Z
UID:10002128-1745884800-1745971199@bluewater-casino-resort.com
SUMMARY:Spring Bloom Kiosk Promo
DESCRIPTION:Tuesdays – April 1\, 8\, 15\, 22\, & 29 \nPatrons must earn 150 Base Points during the promotional period (12:01am – 11:59pm) to play the Spring Bloom kiosk game for a chance to instantly win $30\, $20\, $10\, or $0 in Restricted Free Slot Play\, up to three (3) plays per day.
URL:https://bluewater-casino-resort.com/event/spring-bloom-kiosk-promo/2025-04-29/
ATTACH;FMTTYPE=image/jpeg:https://bluewater-casino-resort.com/wp-content/uploads/2025/03/Spring-Bloom-Promo-Web.jpg
END:VEVENT
BEGIN:VEVENT
DTSTART;TZID=America/Phoenix:20250428T150000
DTEND;TZID=America/Phoenix:20250428T220000
DTSTAMP:20260420T074326
CREATED:20240216T233452Z
LAST-MODIFIED:20260414T220854Z
UID:10002193-1745852400-1745877600@bluewater-casino-resort.com
SUMMARY:New York Steak 3PM-10PM @ Grille
DESCRIPTION:New York Steak Special\n$12.99 with card\, $18.99 without card.
URL:https://bluewater-casino-resort.com/event/new-york-steak-3pm-9pm-grille/2025-04-28/
ATTACH;FMTTYPE=image/jpeg:https://bluewater-casino-resort.com/wp-content/uploads/2025/09/New-York-Grille-SpecialsPromo-Web-2.jpg
END:VEVENT
BEGIN:VEVENT
DTSTART;TZID=America/Phoenix:20250428T070000
DTEND;TZID=America/Phoenix:20250428T110000
DTSTAMP:20260420T074326
CREATED:20240216T233138Z
LAST-MODIFIED:20260319T205537Z
UID:10002165-1745823600-1745838000@bluewater-casino-resort.com
SUMMARY:Trucker Special 7AM-11AM
DESCRIPTION:Trucker Special – 4 oz Top Sirloin served with hash browns\, 2 eggs any style and your choice of toast.\n$4.99 with card\, $11.99 without card.
URL:https://bluewater-casino-resort.com/event/trucker-special-7am-11am/2025-04-28/
ATTACH;FMTTYPE=image/jpeg:https://bluewater-casino-resort.com/wp-content/uploads/2024/02/Trucker-Special-1591x751-1.jpg
END:VEVENT
BEGIN:VEVENT
DTSTART;TZID=America/Phoenix:20250428T070000
DTEND;TZID=America/Phoenix:20250428T110000
DTSTAMP:20260420T074326
CREATED:20240216T231842Z
LAST-MODIFIED:20260319T205607Z
UID:10002187-1745823600-1745838000@bluewater-casino-resort.com
SUMMARY:Breakfast Special 7AM-11AM
DESCRIPTION:1-2-3-4 Breakfast Special\n$4.00 with card\, $8.99 without card.
URL:https://bluewater-casino-resort.com/event/breakfast-special-7am-11am/2025-04-28/
ATTACH;FMTTYPE=image/jpeg:https://bluewater-casino-resort.com/wp-content/uploads/2024/02/Breakfast-Special-4.00-1591x751-1.jpg
END:VEVENT
BEGIN:VEVENT
DTSTART;VALUE=DATE:20250428
DTEND;VALUE=DATE:20250429
DTSTAMP:20260420T074326
CREATED:20250318T200310Z
LAST-MODIFIED:20250318T200559Z
UID:10002120-1745798400-1745884799@bluewater-casino-resort.com
SUMMARY:Monday Multiplier (2X Points)
DESCRIPTION:Mondays – April 7\, 14\, 21\, & 28 \nParticipants must be playing with their club card properly inserted into any slot machine from 12:01am to 11:59pm\, the Patron Management system will automatically multiply by 2X (two times) any points earned on all machines during the promotional period.
URL:https://bluewater-casino-resort.com/event/monday-multiplier-2x-points-5/2025-04-28/
ATTACH;FMTTYPE=image/jpeg:https://bluewater-casino-resort.com/wp-content/uploads/2025/03/Point-Multiplier-2x-Promo-Web-2.jpg
END:VEVENT
BEGIN:VEVENT
DTSTART;TZID=America/Phoenix:20250427T150000
DTEND;TZID=America/Phoenix:20250427T220000
DTSTAMP:20260420T074326
CREATED:20240216T232507Z
LAST-MODIFIED:20260414T220820Z
UID:10002219-1745766000-1745791200@bluewater-casino-resort.com
SUMMARY:Prime Rib 3PM-10PM @Grille
DESCRIPTION:Prime Rib Dinner served with corn on the cob\, baked potato\, and dinner roll.\n$18.99 with card\, $24.99 without card.
URL:https://bluewater-casino-resort.com/event/prime-rib-3pm-9pm-grille/2025-04-27/
ATTACH;FMTTYPE=image/jpeg:https://bluewater-casino-resort.com/wp-content/uploads/2025/05/Prime-Rib-Grille-Special-Promo-Web-1.jpg
END:VEVENT
BEGIN:VEVENT
DTSTART;TZID=America/Phoenix:20250427T070000
DTEND;TZID=America/Phoenix:20250427T130000
DTSTAMP:20260420T074326
CREATED:20240216T232325Z
LAST-MODIFIED:20260319T205654Z
UID:10001851-1745737200-1745758800@bluewater-casino-resort.com
SUMMARY:Breakfast Buffet 7AM-1PM
DESCRIPTION:Breakfast Buffet 7am to 1pm\n$14.99 with card and $25.99 without card.
URL:https://bluewater-casino-resort.com/event/breakfast-buffet-7am-1pm/2025-04-27/
ATTACH;FMTTYPE=image/jpeg:https://bluewater-casino-resort.com/wp-content/uploads/2024/02/Breakfast-Buffet-1591x751-1.jpg
END:VEVENT
BEGIN:VEVENT
DTSTART;TZID=America/Phoenix:20250427T000000
DTEND;TZID=America/Phoenix:20250427T230000
DTSTAMP:20260420T074326
CREATED:20250318T200354Z
LAST-MODIFIED:20250318T200519Z
UID:10002123-1745712000-1745794800@bluewater-casino-resort.com
SUMMARY:BlueWater Bakeware Gift Giveaways
DESCRIPTION:Club members must earn 300 base points each Sunday between the hours of 12:01am and 11pm during the promotional period. Limit of one (1) gift item per promotional day. 200 gift items per promotional day. \n\nApril 6 Gift Item – Elise Stoneware Rectangular Baker\nApril 13 Gift Item – Elise Stoneware Loaf Dish\nApril 20 Gift Item – Elise Stoneware Square Baker\nApril 27 Gift Item – Elise Stoneware Round Casserole
URL:https://bluewater-casino-resort.com/event/bluewater-bakeware-gift-giveaways-2/2025-04-27/
ATTACH;FMTTYPE=image/jpeg:https://bluewater-casino-resort.com/wp-content/uploads/2025/03/Gift-Giveaway-Promo-Web-copy.jpg
END:VEVENT
BEGIN:VEVENT
DTSTART;TZID=America/Phoenix:20250426T180000
DTEND;TZID=America/Phoenix:20250426T220000
DTSTAMP:20260420T074326
CREATED:20250318T202240Z
LAST-MODIFIED:20250318T202240Z
UID:10002145-1745690400-1745704800@bluewater-casino-resort.com
SUMMARY:Raining Riches Cash Giveaways
DESCRIPTION:Saturdays – April 5\, 12\, 19\, & 26 \nVirtual Drawings held 6pm – 10pm. Starting April 1 through April 26\, participants can start earning entries to participate in the Raining Riches Cash Giveaways. One (1) winner every 30 mins will be selected for a chance to win cash prizes of $300. 
URL:https://bluewater-casino-resort.com/event/raining-riches-cash-giveaways/2025-04-26/
ATTACH;FMTTYPE=image/jpeg:https://bluewater-casino-resort.com/wp-content/uploads/2025/03/Raining-Riches-Promo-Web.jpg
END:VEVENT
BEGIN:VEVENT
DTSTART;TZID=America/Phoenix:20250426T150000
DTEND;TZID=America/Phoenix:20250426T220000
DTSTAMP:20260420T074326
CREATED:20250117T232213Z
LAST-MODIFIED:20250714T220814Z
UID:10002215-1745679600-1745704800@bluewater-casino-resort.com
SUMMARY:Chef Special @ Grille
DESCRIPTION:Chef Special changed weekly at BlueWater Grille.
URL:https://bluewater-casino-resort.com/event/chef-special-grille/2025-04-26/
ATTACH;FMTTYPE=image/jpeg:https://bluewater-casino-resort.com/wp-content/uploads/2025/01/Chef-SpecialWebPromo.jpg
END:VEVENT
BEGIN:VEVENT
DTSTART;TZID=America/Phoenix:20250425T210000
DTEND;TZID=America/Phoenix:20250426T010000
DTSTAMP:20260420T074326
CREATED:20250219T220048Z
LAST-MODIFIED:20250408T193828Z
UID:10002223-1745614800-1745629200@bluewater-casino-resort.com
SUMMARY:Live Entertainment @ Dig Lounge
DESCRIPTION:
URL:https://bluewater-casino-resort.com/event/live-entertainment-dig-lounge/2025-04-25/
END:VEVENT
BEGIN:VEVENT
DTSTART;TZID=America/Phoenix:20250425T150000
DTEND;TZID=America/Phoenix:20250425T210000
DTSTAMP:20260420T074326
CREATED:20250117T232041Z
LAST-MODIFIED:20250408T194532Z
UID:10002211-1745593200-1745614800@bluewater-casino-resort.com
SUMMARY:Chicken Marsala @ Grille
DESCRIPTION:Chicken Marsala with Garlic Mash and Seasonal Veggies. \n$8.99 with card\, $14.99 without card.
URL:https://bluewater-casino-resort.com/event/chicken-marsala-grille/2025-04-25/
ATTACH;FMTTYPE=image/jpeg:https://bluewater-casino-resort.com/wp-content/uploads/2025/01/Chicken-Marsala-Grille-Special-Promo-Web.jpg
END:VEVENT
BEGIN:VEVENT
DTSTART;TZID=America/Phoenix:20250425T120000
DTEND;TZID=America/Phoenix:20250425T200000
DTSTAMP:20260420T074326
CREATED:20250318T201717Z
LAST-MODIFIED:20250318T201717Z
UID:10002141-1745582400-1745611200@bluewater-casino-resort.com
SUMMARY:Cash Hunt Hot Seat Drawings
DESCRIPTION:Fridays – April 4\, 11\, 18\, & 25 \nSeventeen (1) $100 Cash Prize Drawings held from 12pm to 8pm! Participants must be actively playing with their club card to participate\, one (1) winner every half hour! Participants can only win once per day.
URL:https://bluewater-casino-resort.com/event/cash-hunt-hot-seat-drawings/2025-04-25/
ATTACH;FMTTYPE=image/jpeg:https://bluewater-casino-resort.com/wp-content/uploads/2025/03/Cash-Hunt-promo-web.jpg
END:VEVENT
BEGIN:VEVENT
DTSTART;TZID=America/Phoenix:20250425T070000
DTEND;TZID=America/Phoenix:20250425T110000
DTSTAMP:20260420T074326
CREATED:20240216T233138Z
LAST-MODIFIED:20260319T205537Z
UID:10002164-1745564400-1745578800@bluewater-casino-resort.com
SUMMARY:Trucker Special 7AM-11AM
DESCRIPTION:Trucker Special – 4 oz Top Sirloin served with hash browns\, 2 eggs any style and your choice of toast.\n$4.99 with card\, $11.99 without card.
URL:https://bluewater-casino-resort.com/event/trucker-special-7am-11am/2025-04-25/
ATTACH;FMTTYPE=image/jpeg:https://bluewater-casino-resort.com/wp-content/uploads/2024/02/Trucker-Special-1591x751-1.jpg
END:VEVENT
BEGIN:VEVENT
DTSTART;TZID=America/Phoenix:20250425T070000
DTEND;TZID=America/Phoenix:20250425T110000
DTSTAMP:20260420T074326
CREATED:20240216T231842Z
LAST-MODIFIED:20260319T205607Z
UID:10002186-1745564400-1745578800@bluewater-casino-resort.com
SUMMARY:Breakfast Special 7AM-11AM
DESCRIPTION:1-2-3-4 Breakfast Special\n$4.00 with card\, $8.99 without card.
URL:https://bluewater-casino-resort.com/event/breakfast-special-7am-11am/2025-04-25/
ATTACH;FMTTYPE=image/jpeg:https://bluewater-casino-resort.com/wp-content/uploads/2024/02/Breakfast-Special-4.00-1591x751-1.jpg
END:VEVENT
BEGIN:VEVENT
DTSTART;TZID=America/Phoenix:20250424T150000
DTEND;TZID=America/Phoenix:20250424T220000
DTSTAMP:20260420T074326
CREATED:20250117T231825Z
LAST-MODIFIED:20250516T214740Z
UID:10002207-1745506800-1745532000@bluewater-casino-resort.com
SUMMARY:Shrimp Basket @ Grille
DESCRIPTION:Shrimp Basket with Coleslaw and Cajun Fries. \n$12.99 with card\, $18.99 without card.
URL:https://bluewater-casino-resort.com/event/shrimp-basket-grille/2025-04-24/
ATTACH;FMTTYPE=image/jpeg:https://bluewater-casino-resort.com/wp-content/uploads/2025/01/Shrimp-Basket-Grille-SpecialPromo-Web.jpg
END:VEVENT
BEGIN:VEVENT
DTSTART;TZID=America/Phoenix:20250424T080000
DTEND;TZID=America/Phoenix:20250424T200000
DTSTAMP:20260420T074326
CREATED:20250318T201541Z
LAST-MODIFIED:20250318T201541Z
UID:10002137-1745481600-1745524800@bluewater-casino-resort.com
SUMMARY:Fool’s Play Slot Tournaments
DESCRIPTION:Thursdays – April 3\, 10\, 17\, & 24 \nParticipants must sign up/register on promotional Wednesdays starting at 8:01am and ending at 7:45pm\, to be eligible to play in the slot tournament.  Top 3 scores at end of each day win cash prizes ($300\, $200\, $100). Slot tournament participants who score highest in their session receive $75 Restricted Free Slot Play.
URL:https://bluewater-casino-resort.com/event/fools-play-slot-tournaments/2025-04-24/
ATTACH;FMTTYPE=image/jpeg:https://bluewater-casino-resort.com/wp-content/uploads/2025/03/Fools-Play-Promo-Web.jpg
END:VEVENT
BEGIN:VEVENT
DTSTART;TZID=America/Phoenix:20250424T070000
DTEND;TZID=America/Phoenix:20250424T110000
DTSTAMP:20260420T074326
CREATED:20240216T233138Z
LAST-MODIFIED:20260319T205537Z
UID:10002163-1745478000-1745492400@bluewater-casino-resort.com
SUMMARY:Trucker Special 7AM-11AM
DESCRIPTION:Trucker Special – 4 oz Top Sirloin served with hash browns\, 2 eggs any style and your choice of toast.\n$4.99 with card\, $11.99 without card.
URL:https://bluewater-casino-resort.com/event/trucker-special-7am-11am/2025-04-24/
ATTACH;FMTTYPE=image/jpeg:https://bluewater-casino-resort.com/wp-content/uploads/2024/02/Trucker-Special-1591x751-1.jpg
END:VEVENT
BEGIN:VEVENT
DTSTART;TZID=America/Phoenix:20250424T070000
DTEND;TZID=America/Phoenix:20250424T110000
DTSTAMP:20260420T074326
CREATED:20240216T231842Z
LAST-MODIFIED:20260319T205607Z
UID:10002185-1745478000-1745492400@bluewater-casino-resort.com
SUMMARY:Breakfast Special 7AM-11AM
DESCRIPTION:1-2-3-4 Breakfast Special\n$4.00 with card\, $8.99 without card.
URL:https://bluewater-casino-resort.com/event/breakfast-special-7am-11am/2025-04-24/
ATTACH;FMTTYPE=image/jpeg:https://bluewater-casino-resort.com/wp-content/uploads/2024/02/Breakfast-Special-4.00-1591x751-1.jpg
END:VEVENT
BEGIN:VEVENT
DTSTART;TZID=America/Phoenix:20250423T150000
DTEND;TZID=America/Phoenix:20250423T210000
DTSTAMP:20260420T074326
CREATED:20250117T231617Z
LAST-MODIFIED:20250408T194434Z
UID:10002202-1745420400-1745442000@bluewater-casino-resort.com
SUMMARY:Beef Fajitas @ Grille
DESCRIPTION:Beef Fajitas with Spanish Rice and Refried Beans\, and two (2) Tortillas. \n$12.99 with card\, $18.99 without card.
URL:https://bluewater-casino-resort.com/event/beef-fajitas-grille/2025-04-23/
ATTACH;FMTTYPE=image/jpeg:https://bluewater-casino-resort.com/wp-content/uploads/2025/01/Beef-Fajitas-Grille-SpecialPromo-Web.jpg
END:VEVENT
BEGIN:VEVENT
DTSTART;TZID=America/Phoenix:20250423T080000
DTEND;TZID=America/Phoenix:20250423T230000
DTSTAMP:20260420T074326
CREATED:20250318T201014Z
LAST-MODIFIED:20250318T201014Z
UID:10002132-1745395200-1745449200@bluewater-casino-resort.com
SUMMARY:$50 For $40
DESCRIPTION:Wednesdays – April 2\, 9\, 16\, 23\, & 30 \nClub members will purchase a $40 promotional voucher from the cashier’s cage and redeem at THEclub for $50 in Restricted Free Slot Play\, starting at 8am to 11pm. Participants can only redeem one (1) promotional voucher per promotional day.
URL:https://bluewater-casino-resort.com/event/50-for-40-5/2025-04-23/
ATTACH;FMTTYPE=image/jpeg:https://bluewater-casino-resort.com/wp-content/uploads/2025/03/50-for-40-Promo-Web-5.jpg
END:VEVENT
BEGIN:VEVENT
DTSTART;TZID=America/Phoenix:20250423T070000
DTEND;TZID=America/Phoenix:20250423T110000
DTSTAMP:20260420T074326
CREATED:20240216T233138Z
LAST-MODIFIED:20260319T205537Z
UID:10002162-1745391600-1745406000@bluewater-casino-resort.com
SUMMARY:Trucker Special 7AM-11AM
DESCRIPTION:Trucker Special – 4 oz Top Sirloin served with hash browns\, 2 eggs any style and your choice of toast.\n$4.99 with card\, $11.99 without card.
URL:https://bluewater-casino-resort.com/event/trucker-special-7am-11am/2025-04-23/
ATTACH;FMTTYPE=image/jpeg:https://bluewater-casino-resort.com/wp-content/uploads/2024/02/Trucker-Special-1591x751-1.jpg
END:VEVENT
BEGIN:VEVENT
DTSTART;TZID=America/Phoenix:20250423T070000
DTEND;TZID=America/Phoenix:20250423T110000
DTSTAMP:20260420T074326
CREATED:20240216T231842Z
LAST-MODIFIED:20260319T205607Z
UID:10002184-1745391600-1745406000@bluewater-casino-resort.com
SUMMARY:Breakfast Special 7AM-11AM
DESCRIPTION:1-2-3-4 Breakfast Special\n$4.00 with card\, $8.99 without card.
URL:https://bluewater-casino-resort.com/event/breakfast-special-7am-11am/2025-04-23/
ATTACH;FMTTYPE=image/jpeg:https://bluewater-casino-resort.com/wp-content/uploads/2024/02/Breakfast-Special-4.00-1591x751-1.jpg
END:VEVENT
BEGIN:VEVENT
DTSTART;TZID=America/Phoenix:20250422T150000
DTEND;TZID=America/Phoenix:20250422T210000
DTSTAMP:20260420T074326
CREATED:20250117T231357Z
LAST-MODIFIED:20250408T194405Z
UID:10002197-1745334000-1745355600@bluewater-casino-resort.com
SUMMARY:Chicken Cordon Bleu @ Grille
DESCRIPTION:Chicken Cordon Bleu with a Southwestern White Cheddar Cheese Sauce\, Rice Pilaf\, and Seasoned Vegetables. \n$10.99 with card\, $16.99 without card
URL:https://bluewater-casino-resort.com/event/chicken-cordon-bleu-grille/2025-04-22/
ATTACH;FMTTYPE=image/jpeg:https://bluewater-casino-resort.com/wp-content/uploads/2025/01/Chicken-Cordon-Bleu-Grille-Special-Web-Promo-.jpg
END:VEVENT
END:VCALENDAR