BEGIN:VCALENDAR
VERSION:2.0
PRODID:-//Blue Water Resort &amp; Casino - ECPv6.15.20//NONSGML v1.0//EN
CALSCALE:GREGORIAN
METHOD:PUBLISH
X-WR-CALNAME:Blue Water Resort &amp; Casino
X-ORIGINAL-URL:https://bluewater-casino-resort.com
X-WR-CALDESC:Events for Blue Water Resort &amp; Casino
REFRESH-INTERVAL;VALUE=DURATION:PT1H
X-Robots-Tag:noindex
X-PUBLISHED-TTL:PT1H
BEGIN:VTIMEZONE
TZID:America/Phoenix
BEGIN:STANDARD
TZOFFSETFROM:-0700
TZOFFSETTO:-0700
TZNAME:MST
DTSTART:20240101T000000
END:STANDARD
END:VTIMEZONE
BEGIN:VEVENT
DTSTART;TZID=America/Phoenix:20250306T150000
DTEND;TZID=America/Phoenix:20250306T220000
DTSTAMP:20260421T113020
CREATED:20250117T231825Z
LAST-MODIFIED:20250516T214740Z
UID:10002033-1741273200-1741298400@bluewater-casino-resort.com
SUMMARY:Shrimp Basket @ Grille
DESCRIPTION:Shrimp Basket with Coleslaw and Cajun Fries. \n$12.99 with card\, $18.99 without card.
URL:https://bluewater-casino-resort.com/event/shrimp-basket-grille/2025-03-06/
ATTACH;FMTTYPE=image/jpeg:https://bluewater-casino-resort.com/wp-content/uploads/2025/01/Shrimp-Basket-Grille-SpecialPromo-Web.jpg
END:VEVENT
BEGIN:VEVENT
DTSTART;TZID=America/Phoenix:20250306T130000
DTEND;TZID=America/Phoenix:20250306T170000
DTSTAMP:20260421T113020
CREATED:20250219T210930Z
LAST-MODIFIED:20250219T210930Z
UID:10002055-1741266000-1741280400@bluewater-casino-resort.com
SUMMARY:Early Bird - Thursday
DESCRIPTION:Salisbury Steak with Mushroom & Onions with Mashed Potatoes and Seasoned Vegetables 1pm to 5pm \n$6.99 with card and $12.99 without card.
URL:https://bluewater-casino-resort.com/event/early-bird-thursday/2025-03-06/
ATTACH;FMTTYPE=image/jpeg:https://bluewater-casino-resort.com/wp-content/uploads/2025/02/Early-Bird-Dinner-Web-1.jpg
END:VEVENT
BEGIN:VEVENT
DTSTART;TZID=America/Phoenix:20250306T080000
DTEND;TZID=America/Phoenix:20250306T194500
DTSTAMP:20260421T113020
CREATED:20250219T213235Z
LAST-MODIFIED:20250219T213235Z
UID:10002082-1741248000-1741290300@bluewater-casino-resort.com
SUMMARY:Go For Gold Slot Tournaments
DESCRIPTION:Thursdays – March 6\, 13\, 20\, 27 \nParticipants must sign up/register on promotional Wednesdays starting at 8:01am and ending at 7:45pm\, to be eligible to play in the slot tournament.  Top 3 scores at end of each day win cash prizes ($300\, $200\, $100). Slot tournament participants who score highest in their session receive $75 Free Slot Play. 
URL:https://bluewater-casino-resort.com/event/go-for-gold-slot-tournaments/2025-03-06/
ATTACH;FMTTYPE=image/jpeg:https://bluewater-casino-resort.com/wp-content/uploads/2025/02/Go-for-Gold-slot-Promo-Web.jpg
END:VEVENT
BEGIN:VEVENT
DTSTART;TZID=America/Phoenix:20250306T070000
DTEND;TZID=America/Phoenix:20250306T110000
DTSTAMP:20260421T113020
CREATED:20240216T233138Z
LAST-MODIFIED:20260319T205537Z
UID:10001992-1741244400-1741258800@bluewater-casino-resort.com
SUMMARY:Trucker Special 7AM-11AM
DESCRIPTION:Trucker Special – 4 oz Top Sirloin served with hash browns\, 2 eggs any style and your choice of toast.\n$4.99 with card\, $11.99 without card.
URL:https://bluewater-casino-resort.com/event/trucker-special-7am-11am/2025-03-06/
ATTACH;FMTTYPE=image/jpeg:https://bluewater-casino-resort.com/wp-content/uploads/2024/02/Trucker-Special-1591x751-1.jpg
END:VEVENT
BEGIN:VEVENT
DTSTART;TZID=America/Phoenix:20250306T070000
DTEND;TZID=America/Phoenix:20250306T110000
DTSTAMP:20260421T113020
CREATED:20240216T231842Z
LAST-MODIFIED:20260319T205607Z
UID:10001971-1741244400-1741258800@bluewater-casino-resort.com
SUMMARY:Breakfast Special 7AM-11AM
DESCRIPTION:1-2-3-4 Breakfast Special\n$4.00 with card\, $8.99 without card.
URL:https://bluewater-casino-resort.com/event/breakfast-special-7am-11am/2025-03-06/
ATTACH;FMTTYPE=image/jpeg:https://bluewater-casino-resort.com/wp-content/uploads/2024/02/Breakfast-Special-4.00-1591x751-1.jpg
END:VEVENT
BEGIN:VEVENT
DTSTART;TZID=America/Phoenix:20250305T150000
DTEND;TZID=America/Phoenix:20250305T210000
DTSTAMP:20260421T113020
CREATED:20250117T231617Z
LAST-MODIFIED:20250408T194434Z
UID:10002029-1741186800-1741208400@bluewater-casino-resort.com
SUMMARY:Beef Fajitas @ Grille
DESCRIPTION:Beef Fajitas with Spanish Rice and Refried Beans\, and two (2) Tortillas. \n$12.99 with card\, $18.99 without card.
URL:https://bluewater-casino-resort.com/event/beef-fajitas-grille/2025-03-05/
ATTACH;FMTTYPE=image/jpeg:https://bluewater-casino-resort.com/wp-content/uploads/2025/01/Beef-Fajitas-Grille-SpecialPromo-Web.jpg
END:VEVENT
BEGIN:VEVENT
DTSTART;TZID=America/Phoenix:20250305T130000
DTEND;TZID=America/Phoenix:20250305T170000
DTSTAMP:20260421T113020
CREATED:20250219T210722Z
LAST-MODIFIED:20250219T210722Z
UID:10002051-1741179600-1741194000@bluewater-casino-resort.com
SUMMARY:Early Bird - Wednesday
DESCRIPTION:Beef Tacos with Mashed Spanish Rice & Refried Beans 1pm to 5pm \n$6.99 with card and $12.99 without card.
URL:https://bluewater-casino-resort.com/event/early-bird-wednesday/2025-03-05/
ATTACH;FMTTYPE=image/jpeg:https://bluewater-casino-resort.com/wp-content/uploads/2025/02/Early-Bird-Dinner-Web-1.jpg
END:VEVENT
BEGIN:VEVENT
DTSTART;TZID=America/Phoenix:20250305T080000
DTEND;TZID=America/Phoenix:20250305T230000
DTSTAMP:20260421T113020
CREATED:20250219T213049Z
LAST-MODIFIED:20250219T213049Z
UID:10002078-1741161600-1741215600@bluewater-casino-resort.com
SUMMARY:$50 For $40
DESCRIPTION:Wednesdays – March 5\, 12\, 19\, 26 \nClub members will purchase a $40 promotional voucher from the cashier’s cage and redeem at THEclub for $50 in Restricted Free Slot Play\, starting at 8am to 11pm. Participants can only redeem one (1) promotional voucher per promotional day.
URL:https://bluewater-casino-resort.com/event/50-for-40-4/2025-03-05/
ATTACH;FMTTYPE=image/jpeg:https://bluewater-casino-resort.com/wp-content/uploads/2025/02/50-for-40-Promo-Web-4.jpg
END:VEVENT
BEGIN:VEVENT
DTSTART;TZID=America/Phoenix:20250305T070000
DTEND;TZID=America/Phoenix:20250305T110000
DTSTAMP:20260421T113020
CREATED:20240216T233138Z
LAST-MODIFIED:20260319T205537Z
UID:10001991-1741158000-1741172400@bluewater-casino-resort.com
SUMMARY:Trucker Special 7AM-11AM
DESCRIPTION:Trucker Special – 4 oz Top Sirloin served with hash browns\, 2 eggs any style and your choice of toast.\n$4.99 with card\, $11.99 without card.
URL:https://bluewater-casino-resort.com/event/trucker-special-7am-11am/2025-03-05/
ATTACH;FMTTYPE=image/jpeg:https://bluewater-casino-resort.com/wp-content/uploads/2024/02/Trucker-Special-1591x751-1.jpg
END:VEVENT
BEGIN:VEVENT
DTSTART;TZID=America/Phoenix:20250305T070000
DTEND;TZID=America/Phoenix:20250305T110000
DTSTAMP:20260421T113020
CREATED:20240216T231842Z
LAST-MODIFIED:20260319T205607Z
UID:10001970-1741158000-1741172400@bluewater-casino-resort.com
SUMMARY:Breakfast Special 7AM-11AM
DESCRIPTION:1-2-3-4 Breakfast Special\n$4.00 with card\, $8.99 without card.
URL:https://bluewater-casino-resort.com/event/breakfast-special-7am-11am/2025-03-05/
ATTACH;FMTTYPE=image/jpeg:https://bluewater-casino-resort.com/wp-content/uploads/2024/02/Breakfast-Special-4.00-1591x751-1.jpg
END:VEVENT
BEGIN:VEVENT
DTSTART;TZID=America/Phoenix:20250304T150000
DTEND;TZID=America/Phoenix:20250304T210000
DTSTAMP:20260421T113020
CREATED:20250117T231357Z
LAST-MODIFIED:20250408T194405Z
UID:10002025-1741100400-1741122000@bluewater-casino-resort.com
SUMMARY:Chicken Cordon Bleu @ Grille
DESCRIPTION:Chicken Cordon Bleu with a Southwestern White Cheddar Cheese Sauce\, Rice Pilaf\, and Seasoned Vegetables. \n$10.99 with card\, $16.99 without card
URL:https://bluewater-casino-resort.com/event/chicken-cordon-bleu-grille/2025-03-04/
ATTACH;FMTTYPE=image/jpeg:https://bluewater-casino-resort.com/wp-content/uploads/2025/01/Chicken-Cordon-Bleu-Grille-Special-Web-Promo-.jpg
END:VEVENT
BEGIN:VEVENT
DTSTART;TZID=America/Phoenix:20250304T130000
DTEND;TZID=America/Phoenix:20250304T170000
DTSTAMP:20260421T113020
CREATED:20250219T210434Z
LAST-MODIFIED:20250219T210434Z
UID:10002047-1741093200-1741107600@bluewater-casino-resort.com
SUMMARY:Early Bird - Tuesday
DESCRIPTION:6inc Meatball Sub with fries 1pm to 5pm  \n$6.99 with card and $12.99 without card.
URL:https://bluewater-casino-resort.com/event/early-bird-tuesday/2025-03-04/
ATTACH;FMTTYPE=image/jpeg:https://bluewater-casino-resort.com/wp-content/uploads/2025/02/Early-Bird-Dinner-Web-1.jpg
END:VEVENT
BEGIN:VEVENT
DTSTART;TZID=America/Phoenix:20250304T070000
DTEND;TZID=America/Phoenix:20250304T110000
DTSTAMP:20260421T113020
CREATED:20240216T233138Z
LAST-MODIFIED:20260319T205537Z
UID:10001990-1741071600-1741086000@bluewater-casino-resort.com
SUMMARY:Trucker Special 7AM-11AM
DESCRIPTION:Trucker Special – 4 oz Top Sirloin served with hash browns\, 2 eggs any style and your choice of toast.\n$4.99 with card\, $11.99 without card.
URL:https://bluewater-casino-resort.com/event/trucker-special-7am-11am/2025-03-04/
ATTACH;FMTTYPE=image/jpeg:https://bluewater-casino-resort.com/wp-content/uploads/2024/02/Trucker-Special-1591x751-1.jpg
END:VEVENT
BEGIN:VEVENT
DTSTART;TZID=America/Phoenix:20250304T070000
DTEND;TZID=America/Phoenix:20250304T110000
DTSTAMP:20260421T113020
CREATED:20240216T231842Z
LAST-MODIFIED:20260319T205607Z
UID:10001969-1741071600-1741086000@bluewater-casino-resort.com
SUMMARY:Breakfast Special 7AM-11AM
DESCRIPTION:1-2-3-4 Breakfast Special\n$4.00 with card\, $8.99 without card.
URL:https://bluewater-casino-resort.com/event/breakfast-special-7am-11am/2025-03-04/
ATTACH;FMTTYPE=image/jpeg:https://bluewater-casino-resort.com/wp-content/uploads/2024/02/Breakfast-Special-4.00-1591x751-1.jpg
END:VEVENT
BEGIN:VEVENT
DTSTART;VALUE=DATE:20250304
DTEND;VALUE=DATE:20250305
DTSTAMP:20260421T113020
CREATED:20250219T212922Z
LAST-MODIFIED:20250219T212922Z
UID:10002074-1741046400-1741132799@bluewater-casino-resort.com
SUMMARY:Luck of the Irish Kiosk Promo
DESCRIPTION:Tuesdays – March 4\, 11\, 18\, 25 \nPatrons must earn 150 Base Points during the promotional period (12:01am – 11:59pm) to play the Luck of the Irish kiosk game for a chance to instantly win $30\, $20\, $10\, or $0 in Restricted Free Slot Play\, up to three (3) plays per day.
URL:https://bluewater-casino-resort.com/event/luck-of-the-irish-kiosk-promo/2025-03-04/
ATTACH;FMTTYPE=image/jpeg:https://bluewater-casino-resort.com/wp-content/uploads/2025/02/Luck-of-the-Irish-Promo-Web.jpg
END:VEVENT
BEGIN:VEVENT
DTSTART;TZID=America/Phoenix:20250303T150000
DTEND;TZID=America/Phoenix:20250303T220000
DTSTAMP:20260421T113020
CREATED:20240216T233452Z
LAST-MODIFIED:20260414T220854Z
UID:10002020-1741014000-1741039200@bluewater-casino-resort.com
SUMMARY:New York Steak 3PM-10PM @ Grille
DESCRIPTION:New York Steak Special\n$12.99 with card\, $18.99 without card.
URL:https://bluewater-casino-resort.com/event/new-york-steak-3pm-9pm-grille/2025-03-03/
ATTACH;FMTTYPE=image/jpeg:https://bluewater-casino-resort.com/wp-content/uploads/2025/09/New-York-Grille-SpecialsPromo-Web-2.jpg
END:VEVENT
BEGIN:VEVENT
DTSTART;TZID=America/Phoenix:20250303T130000
DTEND;TZID=America/Phoenix:20250303T170000
DTSTAMP:20260421T113020
CREATED:20250219T210056Z
LAST-MODIFIED:20250219T210134Z
UID:10002042-1741006800-1741021200@bluewater-casino-resort.com
SUMMARY:Early Bird - Monday
DESCRIPTION:Open Face Turkey Served with Mashed Potatoes & Seasoned Vegetables 1pm to 5pm \n$6.99 with card and $12.99 without card
URL:https://bluewater-casino-resort.com/event/early-bird-monday/2025-03-03/
ATTACH;FMTTYPE=image/jpeg:https://bluewater-casino-resort.com/wp-content/uploads/2025/02/Early-Bird-Dinner-Web-1.jpg
END:VEVENT
BEGIN:VEVENT
DTSTART;TZID=America/Phoenix:20250303T070000
DTEND;TZID=America/Phoenix:20250303T110000
DTSTAMP:20260421T113020
CREATED:20240216T233138Z
LAST-MODIFIED:20260319T205537Z
UID:10001989-1740985200-1740999600@bluewater-casino-resort.com
SUMMARY:Trucker Special 7AM-11AM
DESCRIPTION:Trucker Special – 4 oz Top Sirloin served with hash browns\, 2 eggs any style and your choice of toast.\n$4.99 with card\, $11.99 without card.
URL:https://bluewater-casino-resort.com/event/trucker-special-7am-11am/2025-03-03/
ATTACH;FMTTYPE=image/jpeg:https://bluewater-casino-resort.com/wp-content/uploads/2024/02/Trucker-Special-1591x751-1.jpg
END:VEVENT
BEGIN:VEVENT
DTSTART;TZID=America/Phoenix:20250303T070000
DTEND;TZID=America/Phoenix:20250303T110000
DTSTAMP:20260421T113020
CREATED:20240216T231842Z
LAST-MODIFIED:20260319T205607Z
UID:10001968-1740985200-1740999600@bluewater-casino-resort.com
SUMMARY:Breakfast Special 7AM-11AM
DESCRIPTION:1-2-3-4 Breakfast Special\n$4.00 with card\, $8.99 without card.
URL:https://bluewater-casino-resort.com/event/breakfast-special-7am-11am/2025-03-03/
ATTACH;FMTTYPE=image/jpeg:https://bluewater-casino-resort.com/wp-content/uploads/2024/02/Breakfast-Special-4.00-1591x751-1.jpg
END:VEVENT
BEGIN:VEVENT
DTSTART;VALUE=DATE:20250303
DTEND;VALUE=DATE:20250304
DTSTAMP:20260421T113020
CREATED:20250219T212723Z
LAST-MODIFIED:20250219T212723Z
UID:10002069-1740960000-1741046399@bluewater-casino-resort.com
SUMMARY:Monday Multiplier (2X Points)
DESCRIPTION:Mondays – March 3\, 10\, 17\, 24\, 31 \nParticipants must be playing with their club card properly inserted into any slot machine from 12:01am to 11:59pm\, the Patron Management system will automatically multiply by 2X (two times) any points earned on all machines during the promotional period.
URL:https://bluewater-casino-resort.com/event/monday-multiplier-2x-points-4/2025-03-03/
ATTACH;FMTTYPE=image/jpeg:https://bluewater-casino-resort.com/wp-content/uploads/2025/02/Point-Multiplier-2x-Promo-Web-1.jpg
END:VEVENT
BEGIN:VEVENT
DTSTART;TZID=America/Phoenix:20250302T150000
DTEND;TZID=America/Phoenix:20250302T220000
DTSTAMP:20260421T113020
CREATED:20240216T232507Z
LAST-MODIFIED:20260414T220820Z
UID:10002015-1740927600-1740952800@bluewater-casino-resort.com
SUMMARY:Prime Rib 3PM-10PM @Grille
DESCRIPTION:Prime Rib Dinner served with corn on the cob\, baked potato\, and dinner roll.\n$18.99 with card\, $24.99 without card.
URL:https://bluewater-casino-resort.com/event/prime-rib-3pm-9pm-grille/2025-03-02/
ATTACH;FMTTYPE=image/jpeg:https://bluewater-casino-resort.com/wp-content/uploads/2025/05/Prime-Rib-Grille-Special-Promo-Web-1.jpg
END:VEVENT
BEGIN:VEVENT
DTSTART;TZID=America/Phoenix:20250302T070000
DTEND;TZID=America/Phoenix:20250302T130000
DTSTAMP:20260421T113020
CREATED:20240216T232325Z
LAST-MODIFIED:20260319T205654Z
UID:10001700-1740898800-1740920400@bluewater-casino-resort.com
SUMMARY:Breakfast Buffet 7AM-1PM
DESCRIPTION:Breakfast Buffet 7am to 1pm\n$14.99 with card and $25.99 without card.
URL:https://bluewater-casino-resort.com/event/breakfast-buffet-7am-1pm/2025-03-02/
ATTACH;FMTTYPE=image/jpeg:https://bluewater-casino-resort.com/wp-content/uploads/2024/02/Breakfast-Buffet-1591x751-1.jpg
END:VEVENT
BEGIN:VEVENT
DTSTART;TZID=America/Phoenix:20250302T000000
DTEND;TZID=America/Phoenix:20250302T230000
DTSTAMP:20260421T113020
CREATED:20250219T212530Z
LAST-MODIFIED:20250226T215726Z
UID:10002106-1740873600-1740956400@bluewater-casino-resort.com
SUMMARY:Clean in Spring Gift Giveaways
DESCRIPTION:Club members must earn 300 base points each Sunday between the hours of 12:01am and 11pm during the promotional period. Limit of one (1) gift item per promotional day. 180 gift items per promotional day. \n\nMarch 2 Gift Item – Brookstone 3-in-1 Stick Vac\nMarch 9 Gift Item – Brookstone Diffuser w/ LED Light\nMarch 16 Gift Item – Frigidaire Portable Bladeless Fan\nMarch 23 Gift Item – Sharper Image Smart Mop\nMarch 30 Gift Item – Sharper Image Electric Toothbrush\n\n 
URL:https://bluewater-casino-resort.com/event/clean-in-spring-gift-giveaways/2025-03-02/
ATTACH;FMTTYPE=image/jpeg:https://bluewater-casino-resort.com/wp-content/uploads/2025/02/Clean-in-Spring-Promo-Web.jpg
END:VEVENT
BEGIN:VEVENT
DTSTART;TZID=America/Phoenix:20250301T180000
DTEND;TZID=America/Phoenix:20250301T220000
DTSTAMP:20260421T113020
CREATED:20250219T213704Z
LAST-MODIFIED:20250219T213704Z
UID:10002090-1740852000-1740866400@bluewater-casino-resort.com
SUMMARY:Cash Clovers Virtual Drawings
DESCRIPTION:Saturdays – March 1\, 8\, 15\, 22\, 29 \nVirtual Drawings held 6pm – 10pm. Starting March 1 through March 29\, participants can start earning entries to participate in the Lucky Love Cash Giveaways. One (1) winner every 30 mins will be selected for a chance to win cash prizes of $300. 
URL:https://bluewater-casino-resort.com/event/cash-clovers-virtual-drawings/2025-03-01/
ATTACH;FMTTYPE=image/jpeg:https://bluewater-casino-resort.com/wp-content/uploads/2025/02/Cash-Cloves-Promo-Web.jpg
END:VEVENT
BEGIN:VEVENT
DTSTART;TZID=America/Phoenix:20250301T150000
DTEND;TZID=America/Phoenix:20250301T220000
DTSTAMP:20260421T113020
CREATED:20250117T232213Z
LAST-MODIFIED:20250714T220814Z
UID:10002059-1740841200-1740866400@bluewater-casino-resort.com
SUMMARY:Chef Special @ Grille
DESCRIPTION:Chef Special changed weekly at BlueWater Grille.
URL:https://bluewater-casino-resort.com/event/chef-special-grille/2025-03-01/
ATTACH;FMTTYPE=image/jpeg:https://bluewater-casino-resort.com/wp-content/uploads/2025/01/Chef-SpecialWebPromo.jpg
END:VEVENT
BEGIN:VEVENT
DTSTART;TZID=America/Phoenix:20250228T210000
DTEND;TZID=America/Phoenix:20250301T010000
DTSTAMP:20260421T113020
CREATED:20250219T220048Z
LAST-MODIFIED:20250408T193828Z
UID:10002099-1740776400-1740790800@bluewater-casino-resort.com
SUMMARY:Live Entertainment @ Dig Lounge
DESCRIPTION:
URL:https://bluewater-casino-resort.com/event/live-entertainment-dig-lounge/2025-02-28/
END:VEVENT
BEGIN:VEVENT
DTSTART;TZID=America/Phoenix:20250228T150000
DTEND;TZID=America/Phoenix:20250228T210000
DTSTAMP:20260421T113020
CREATED:20250117T232041Z
LAST-MODIFIED:20250408T194532Z
UID:10001943-1740754800-1740776400@bluewater-casino-resort.com
SUMMARY:Chicken Marsala @ Grille
DESCRIPTION:Chicken Marsala with Garlic Mash and Seasonal Veggies. \n$8.99 with card\, $14.99 without card.
URL:https://bluewater-casino-resort.com/event/chicken-marsala-grille/2025-02-28/
ATTACH;FMTTYPE=image/jpeg:https://bluewater-casino-resort.com/wp-content/uploads/2025/01/Chicken-Marsala-Grille-Special-Promo-Web.jpg
END:VEVENT
BEGIN:VEVENT
DTSTART;TZID=America/Phoenix:20250228T100000
DTEND;TZID=America/Phoenix:20250228T220000
DTSTAMP:20260421T113020
CREATED:20250117T223305Z
LAST-MODIFIED:20250117T223305Z
UID:10001922-1740736800-1740780000@bluewater-casino-resort.com
SUMMARY:Twice As Nice Hot Seat Drawings
DESCRIPTION:Fridays – February 7\, 14\, 21\, & 28\, 2025 \nEighteen (1) $100 Cash Prize Drawings held in two sessions\, 10am – 2pm & 6pm – 10pm! Participants must be actively playing with their club card to participate\, one (1) winner every half hour! Participants can only win once per day. 
URL:https://bluewater-casino-resort.com/event/twice-as-nice-hot-seat-drawings-3/2025-02-28/
ATTACH;FMTTYPE=image/gif:https://bluewater-casino-resort.com/wp-content/uploads/2025/01/Twice-as-Nice-Web-2.gif
END:VEVENT
BEGIN:VEVENT
DTSTART;TZID=America/Phoenix:20250228T070000
DTEND;TZID=America/Phoenix:20250228T110000
DTSTAMP:20260421T113020
CREATED:20240216T233138Z
LAST-MODIFIED:20260319T205537Z
UID:10001902-1740726000-1740740400@bluewater-casino-resort.com
SUMMARY:Trucker Special 7AM-11AM
DESCRIPTION:Trucker Special – 4 oz Top Sirloin served with hash browns\, 2 eggs any style and your choice of toast.\n$4.99 with card\, $11.99 without card.
URL:https://bluewater-casino-resort.com/event/trucker-special-7am-11am/2025-02-28/
ATTACH;FMTTYPE=image/jpeg:https://bluewater-casino-resort.com/wp-content/uploads/2024/02/Trucker-Special-1591x751-1.jpg
END:VEVENT
BEGIN:VEVENT
DTSTART;TZID=America/Phoenix:20250228T070000
DTEND;TZID=America/Phoenix:20250228T110000
DTSTAMP:20260421T113020
CREATED:20240216T231842Z
LAST-MODIFIED:20260319T205607Z
UID:10001967-1740726000-1740740400@bluewater-casino-resort.com
SUMMARY:Breakfast Special 7AM-11AM
DESCRIPTION:1-2-3-4 Breakfast Special\n$4.00 with card\, $8.99 without card.
URL:https://bluewater-casino-resort.com/event/breakfast-special-7am-11am/2025-02-28/
ATTACH;FMTTYPE=image/jpeg:https://bluewater-casino-resort.com/wp-content/uploads/2024/02/Breakfast-Special-4.00-1591x751-1.jpg
END:VEVENT
END:VCALENDAR