BEGIN:VCALENDAR
VERSION:2.0
PRODID:-//Blue Water Resort &amp; Casino - ECPv6.15.20//NONSGML v1.0//EN
CALSCALE:GREGORIAN
METHOD:PUBLISH
X-ORIGINAL-URL:https://bluewater-casino-resort.com
X-WR-CALDESC:Events for Blue Water Resort &amp; Casino
REFRESH-INTERVAL;VALUE=DURATION:PT1H
X-Robots-Tag:noindex
X-PUBLISHED-TTL:PT1H
BEGIN:VTIMEZONE
TZID:America/Phoenix
BEGIN:STANDARD
TZOFFSETFROM:-0700
TZOFFSETTO:-0700
TZNAME:MST
DTSTART:20240101T000000
END:STANDARD
END:VTIMEZONE
BEGIN:VEVENT
DTSTART;TZID=America/Phoenix:20251127T070000
DTEND;TZID=America/Phoenix:20251127T110000
DTSTAMP:20260425T155315
CREATED:20240216T231842Z
LAST-MODIFIED:20260319T205607Z
UID:10003067-1764226800-1764241200@bluewater-casino-resort.com
SUMMARY:Breakfast Special 7AM-11AM
DESCRIPTION:1-2-3-4 Breakfast Special\n$4.00 with card\, $8.99 without card.
URL:https://bluewater-casino-resort.com/event/breakfast-special-7am-11am/2025-11-27/
ATTACH;FMTTYPE=image/jpeg:https://bluewater-casino-resort.com/wp-content/uploads/2024/02/Breakfast-Special-4.00-1591x751-1.jpg
END:VEVENT
BEGIN:VEVENT
DTSTART;TZID=America/Phoenix:20251127T070000
DTEND;TZID=America/Phoenix:20251127T110000
DTSTAMP:20260425T155315
CREATED:20240216T233138Z
LAST-MODIFIED:20260319T205537Z
UID:10003091-1764226800-1764241200@bluewater-casino-resort.com
SUMMARY:Trucker Special 7AM-11AM
DESCRIPTION:Trucker Special – 4 oz Top Sirloin served with hash browns\, 2 eggs any style and your choice of toast.\n$4.99 with card\, $11.99 without card.
URL:https://bluewater-casino-resort.com/event/trucker-special-7am-11am/2025-11-27/
ATTACH;FMTTYPE=image/jpeg:https://bluewater-casino-resort.com/wp-content/uploads/2024/02/Trucker-Special-1591x751-1.jpg
END:VEVENT
BEGIN:VEVENT
DTSTART;TZID=America/Phoenix:20251127T080000
DTEND;TZID=America/Phoenix:20251127T194500
DTSTAMP:20260425T155315
CREATED:20251021T200207Z
LAST-MODIFIED:20251021T200207Z
UID:10003141-1764230400-1764272700@bluewater-casino-resort.com
SUMMARY:Cash-Copia Tournaments
DESCRIPTION:Thursdays – November 6\, 13\, 20\, 27 \nParticipants must sign up/register on promotional Thursdays starting at 8:01am and ending at 7:45pm\, to be eligible to play in the slot tournament.  Top 3 scores at end of each day win cash prizes ($500\, $300\, $150). Slot tournament participants who score highest in their session receive $75 Restricted Free Slot Play.
URL:https://bluewater-casino-resort.com/event/cash-copia-tournaments/2025-11-27/
ATTACH;FMTTYPE=image/jpeg:https://bluewater-casino-resort.com/wp-content/uploads/2025/10/Cash-Copia-Slot-social-Promo-Web.jpg
END:VEVENT
BEGIN:VEVENT
DTSTART;TZID=America/Phoenix:20251127T120000
DTEND;TZID=America/Phoenix:20251127T220000
DTSTAMP:20260425T155315
CREATED:20251021T193638Z
LAST-MODIFIED:20251021T193638Z
UID:10003124-1764244800-1764280800@bluewater-casino-resort.com
SUMMARY:Thanksgiving Buffet @ Grille
DESCRIPTION:In the BlueWater Grille \n$24.99 with Club Card\, $34.99 without Club Card \nThursday\, November 27 | 12pm to 10pm \nPrime Rib Carving Station \nSliced Turkey\, Sliced Ham\, Mashed Potatoes\, Turkey Gravy \nCandied Yams\, Stuffing\, Green Bean Casserole \nMac & Cheese\, Collard Greens\, Stuffed Bell Peppers\, Gumbo\, Shepherd’s Pie \nFall Salad Bar \nMixed Salad\, Potato Salad\, Antipasto Salad\, Pistachio Salad \nAmbrosio Salad\, Macaroni Salad\, Broccoli Salad\, Crab Salad \nCharcuterie Board \nDesserts \nCannolis\, Petit Cheesecakes\, Pumpkin Pie\, Dutch Apple Pie\, Banana Creme Pie \nCoconut Cream Pie\, Pecan Pie\, Banana Loafs \nPeppermint Coffee Cake\, Pumpkin Loafs\, Peppermint Bar \nMany Other Delicious Desserts \nSoup \nSoup of the Day; Menudo & Curry Squash Soup
URL:https://bluewater-casino-resort.com/event/thanksgiving-buffet-grille/
ATTACH;FMTTYPE=image/jpeg:https://bluewater-casino-resort.com/wp-content/uploads/2025/10/Thanksgiving-Buffet-Grille-Promo-Web.jpg
END:VEVENT
BEGIN:VEVENT
DTSTART;TZID=America/Phoenix:20251127T150000
DTEND;TZID=America/Phoenix:20251127T220000
DTSTAMP:20260425T155315
CREATED:20250915T204415Z
LAST-MODIFIED:20260116T223139Z
UID:10003114-1764255600-1764280800@bluewater-casino-resort.com
SUMMARY:Smoked Ribs & Jalapeno Cheddar Sausage 3PM-10PM @ Grille
DESCRIPTION:Smoked Ribs & Jalapeno cheddar sausage\, baked mac and cheese\, with corn bread \n$18.99 with card\, $24.99 without card.
URL:https://bluewater-casino-resort.com/event/smoked-ribs-jalapeno-cheddar-sausage-3pm-10pm-grille/2025-11-27/
ATTACH;FMTTYPE=image/jpeg:https://bluewater-casino-resort.com/wp-content/uploads/2025/09/Smoke-Ribs-Jalapeno-Sausage-Promo-Web.jpg
END:VEVENT
END:VCALENDAR