BEGIN:VCALENDAR
VERSION:2.0
PRODID:-//Blue Water Resort &amp; Casino - ECPv6.15.20//NONSGML v1.0//EN
CALSCALE:GREGORIAN
METHOD:PUBLISH
X-ORIGINAL-URL:https://bluewater-casino-resort.com
X-WR-CALDESC:Events for Blue Water Resort &amp; Casino
REFRESH-INTERVAL;VALUE=DURATION:PT1H
X-Robots-Tag:noindex
X-PUBLISHED-TTL:PT1H
BEGIN:VTIMEZONE
TZID:America/Phoenix
BEGIN:STANDARD
TZOFFSETFROM:-0700
TZOFFSETTO:-0700
TZNAME:MST
DTSTART:20240101T000000
END:STANDARD
END:VTIMEZONE
BEGIN:VEVENT
DTSTART;TZID=America/Phoenix:20251126T070000
DTEND;TZID=America/Phoenix:20251126T110000
DTSTAMP:20260420T215443
CREATED:20240216T231842Z
LAST-MODIFIED:20260319T205607Z
UID:10003066-1764140400-1764154800@bluewater-casino-resort.com
SUMMARY:Breakfast Special 7AM-11AM
DESCRIPTION:1-2-3-4 Breakfast Special\n$4.00 with card\, $8.99 without card.
URL:https://bluewater-casino-resort.com/event/breakfast-special-7am-11am/2025-11-26/
ATTACH;FMTTYPE=image/jpeg:https://bluewater-casino-resort.com/wp-content/uploads/2024/02/Breakfast-Special-4.00-1591x751-1.jpg
END:VEVENT
BEGIN:VEVENT
DTSTART;TZID=America/Phoenix:20251126T070000
DTEND;TZID=America/Phoenix:20251126T110000
DTSTAMP:20260420T215443
CREATED:20240216T233138Z
LAST-MODIFIED:20260319T205537Z
UID:10003090-1764140400-1764154800@bluewater-casino-resort.com
SUMMARY:Trucker Special 7AM-11AM
DESCRIPTION:Trucker Special – 4 oz Top Sirloin served with hash browns\, 2 eggs any style and your choice of toast.\n$4.99 with card\, $11.99 without card.
URL:https://bluewater-casino-resort.com/event/trucker-special-7am-11am/2025-11-26/
ATTACH;FMTTYPE=image/jpeg:https://bluewater-casino-resort.com/wp-content/uploads/2024/02/Trucker-Special-1591x751-1.jpg
END:VEVENT
BEGIN:VEVENT
DTSTART;TZID=America/Phoenix:20251126T150000
DTEND;TZID=America/Phoenix:20251126T220000
DTSTAMP:20260420T215443
CREATED:20250915T204209Z
LAST-MODIFIED:20260414T221003Z
UID:10003110-1764169200-1764194400@bluewater-casino-resort.com
SUMMARY:Seafood Trio Basket 3PM-10PM @ Grille
DESCRIPTION:Seafood Trio Basket – one piece of cod\, 3 Panko breaded shrimp\, and 6 Calamari rings with French fries and 2 hush puppies. \n$12.99 with card\, $18.99 without card.
URL:https://bluewater-casino-resort.com/event/seafood-trio-basket-3pm-10pm-grille/2025-11-26/
ATTACH;FMTTYPE=image/jpeg:https://bluewater-casino-resort.com/wp-content/uploads/2025/09/Seafood-Trio-Basket-Wed-PromoWeb.jpg
END:VEVENT
END:VCALENDAR