BEGIN:VCALENDAR
VERSION:2.0
PRODID:-//Blue Water Resort &amp; Casino - ECPv6.15.20//NONSGML v1.0//EN
CALSCALE:GREGORIAN
METHOD:PUBLISH
X-ORIGINAL-URL:https://bluewater-casino-resort.com
X-WR-CALDESC:Events for Blue Water Resort &amp; Casino
REFRESH-INTERVAL;VALUE=DURATION:PT1H
X-Robots-Tag:noindex
X-PUBLISHED-TTL:PT1H
BEGIN:VTIMEZONE
TZID:America/Phoenix
BEGIN:STANDARD
TZOFFSETFROM:-0700
TZOFFSETTO:-0700
TZNAME:MST
DTSTART:20240101T000000
END:STANDARD
END:VTIMEZONE
BEGIN:VEVENT
DTSTART;TZID=America/Phoenix:20250712T080000
DTEND;TZID=America/Phoenix:20250712T170000
DTSTAMP:20260423T114913
CREATED:20250611T221039Z
LAST-MODIFIED:20250611T221039Z
UID:10002617-1752307200-1752339600@bluewater-casino-resort.com
SUMMARY:Splash with Cash Virtual Drawings
DESCRIPTION:Saturdays – July 5\, 12\, 19\, & 26 \nVirtual Drawings held 6pm – 10pm. Starting June 5 through June 26\, participants can start earning entries to participate in the Splash with Cash virtual drawings. One (1) winner every 30 mins will be selected for a chance to win cash prizes of $300.
URL:https://bluewater-casino-resort.com/event/splash-with-cash-virtual-drawings-2/2025-07-12/
ATTACH;FMTTYPE=image/jpeg:https://bluewater-casino-resort.com/wp-content/uploads/2025/06/Splash-with-Cash-Virtual-Drawings-Promo-Web-1.jpg
END:VEVENT
BEGIN:VEVENT
DTSTART;TZID=America/Phoenix:20250712T150000
DTEND;TZID=America/Phoenix:20250712T220000
DTSTAMP:20260423T114913
CREATED:20250117T232213Z
LAST-MODIFIED:20250714T220814Z
UID:10002586-1752332400-1752357600@bluewater-casino-resort.com
SUMMARY:Chef Special @ Grille
DESCRIPTION:Chef Special changed weekly at BlueWater Grille.
URL:https://bluewater-casino-resort.com/event/chef-special-grille/2025-07-12/
ATTACH;FMTTYPE=image/jpeg:https://bluewater-casino-resort.com/wp-content/uploads/2025/01/Chef-SpecialWebPromo.jpg
END:VEVENT
BEGIN:VEVENT
DTSTART;TZID=America/Phoenix:20250712T200000
DTEND;TZID=America/Phoenix:20250712T220000
DTSTAMP:20260423T114913
CREATED:20250219T220711Z
LAST-MODIFIED:20250219T222014Z
UID:10002105-1752350400-1752357600@bluewater-casino-resort.com
SUMMARY:Hunter Hayes @ Showroom (Doors at 7PM\, Show at 8PM)
DESCRIPTION:TICKET PRICES CURRENTLY AVAILABLE\nVIP: $75.00\nREGULAR: $55.00 \nTICKET SALE DATES\nVIP / REGULAR Public Onsale: February 13\, 2025 2:36 PM to July 12\, 2025 8:00 PM \nPERFORMANCE DESCRIPTION \nMulti-instrumentalist and platinum-selling artist Hunter Hayes is an embodiment of the type of musician that embraces change and strives to rewrite the rules. After debuting on the scene with a platinum-certified album\, Hayes has charted his own path\, moving from his country roots into the genre-bending world that he was destined for. On his album\, Red Sky\, the singer-songwriter is executing at the highest level of his musical career: crafting memorable melodies and instantly catchy hooks albeit with a top-notch musician’s discerning ear. His music is both a reflection of his influences\, and a product of his prodigious multi-instrumental talents\, reflected by the fact that he plays every instrument on his records. The Louisiana native has garnered over 2 billion on-demand global streams since the release of his debut album\, along with six gold and platinum-certified singles. In addition to his legendary headlining shows\, Hayes has also toured with superstars like Taylor Swift\, Carrie Underwood\, and has headlined sold-out shows across the US\, Canada\, Europe\, and Asia. With over 50 award nominations and wins\, including five GRAMMY© nominations\, Hayes is just getting started.
URL:https://bluewater-casino-resort.com/event/hunter-hayes-showroom-doors-at-7pm-show-at-8pm/
CATEGORIES:Concert
ATTACH;FMTTYPE=image/jpeg:https://bluewater-casino-resort.com/wp-content/uploads/2025/02/Hunter-Hayes.jpg
END:VEVENT
END:VCALENDAR