BEGIN:VCALENDAR
VERSION:2.0
PRODID:-//Blue Water Resort &amp; Casino - ECPv6.15.20//NONSGML v1.0//EN
CALSCALE:GREGORIAN
METHOD:PUBLISH
X-ORIGINAL-URL:https://bluewater-casino-resort.com
X-WR-CALDESC:Events for Blue Water Resort &amp; Casino
REFRESH-INTERVAL;VALUE=DURATION:PT1H
X-Robots-Tag:noindex
X-PUBLISHED-TTL:PT1H
BEGIN:VTIMEZONE
TZID:America/Phoenix
BEGIN:STANDARD
TZOFFSETFROM:-0700
TZOFFSETTO:-0700
TZNAME:MST
DTSTART:20240101T000000
END:STANDARD
END:VTIMEZONE
BEGIN:VEVENT
DTSTART;TZID=America/Phoenix:20250705T210000
DTEND;TZID=America/Phoenix:20250706T003000
DTSTAMP:20260425T180109
CREATED:20250617T202910Z
LAST-MODIFIED:20250617T202910Z
UID:10002625-1751749200-1751761800@bluewater-casino-resort.com
SUMMARY:Battle of the DJs
DESCRIPTION:Parker\, AZ\nJuly 5\, 2025\n9:00 PM – 12:30 AM\nDig Lounge (Free\, 21+)
URL:https://bluewater-casino-resort.com/event/battle-of-the-djs/
ATTACH;FMTTYPE=image/jpeg:https://bluewater-casino-resort.com/wp-content/uploads/2025/06/Battle-of-the-DJs-2025-Social-2.jpg
END:VEVENT
BEGIN:VEVENT
DTSTART;TZID=America/Phoenix:20250706T070000
DTEND;TZID=America/Phoenix:20250706T130000
DTSTAMP:20260425T180109
CREATED:20240216T232325Z
LAST-MODIFIED:20260319T205654Z
UID:10002239-1751785200-1751806800@bluewater-casino-resort.com
SUMMARY:Breakfast Buffet 7AM-1PM
DESCRIPTION:Breakfast Buffet 7am to 1pm\n$14.99 with card and $25.99 without card.
URL:https://bluewater-casino-resort.com/event/breakfast-buffet-7am-1pm/2025-07-06/
ATTACH;FMTTYPE=image/jpeg:https://bluewater-casino-resort.com/wp-content/uploads/2024/02/Breakfast-Buffet-1591x751-1.jpg
END:VEVENT
BEGIN:VEVENT
DTSTART;TZID=America/Phoenix:20250706T080000
DTEND;TZID=America/Phoenix:20250706T170000
DTSTAMP:20260425T180109
CREATED:20250611T213143Z
LAST-MODIFIED:20250611T213143Z
UID:10002589-1751788800-1751821200@bluewater-casino-resort.com
SUMMARY:Beach at BlueWater Gift Giveaways
DESCRIPTION:Club members must earn 300 base points each Sunday between the hours of 12:01am and 11pm during the promotional period. Limit of one (1) gift item per promotional day. 180 gift items per promotional day. \n\nJuly 6 Gift Item – Folding Travel Chair\nJuly 13 Gift Item – 30 Can Cooler Backpack\nJuly 20 Gift Item – All-Purpose Picnic Blanket\nJuly 27 Gift Item – Beach Umbrella
URL:https://bluewater-casino-resort.com/event/beach-at-bluewater-gift-giveaways/2025-07-06/
ATTACH;FMTTYPE=image/jpeg:https://bluewater-casino-resort.com/wp-content/uploads/2025/06/beach-at-bluewater-promo-web.jpg
END:VEVENT
BEGIN:VEVENT
DTSTART;TZID=America/Phoenix:20250706T150000
DTEND;TZID=America/Phoenix:20250706T220000
DTSTAMP:20260425T180109
CREATED:20240216T232507Z
LAST-MODIFIED:20260414T220820Z
UID:10002493-1751814000-1751839200@bluewater-casino-resort.com
SUMMARY:Prime Rib 3PM-10PM @Grille
DESCRIPTION:Prime Rib Dinner served with corn on the cob\, baked potato\, and dinner roll.\n$18.99 with card\, $24.99 without card.
URL:https://bluewater-casino-resort.com/event/prime-rib-3pm-9pm-grille/2025-07-06/
ATTACH;FMTTYPE=image/jpeg:https://bluewater-casino-resort.com/wp-content/uploads/2025/05/Prime-Rib-Grille-Special-Promo-Web-1.jpg
END:VEVENT
END:VCALENDAR