BEGIN:VCALENDAR
VERSION:2.0
PRODID:-//Blue Water Resort &amp; Casino - ECPv6.15.20//NONSGML v1.0//EN
CALSCALE:GREGORIAN
METHOD:PUBLISH
X-ORIGINAL-URL:https://bluewater-casino-resort.com
X-WR-CALDESC:Events for Blue Water Resort &amp; Casino
REFRESH-INTERVAL;VALUE=DURATION:PT1H
X-Robots-Tag:noindex
X-PUBLISHED-TTL:PT1H
BEGIN:VTIMEZONE
TZID:America/Phoenix
BEGIN:STANDARD
TZOFFSETFROM:-0700
TZOFFSETTO:-0700
TZNAME:MST
DTSTART:20240101T000000
END:STANDARD
END:VTIMEZONE
BEGIN:VEVENT
DTSTART;TZID=America/Phoenix:20250704T070000
DTEND;TZID=America/Phoenix:20250704T110000
DTSTAMP:20260425T041701
CREATED:20240216T231842Z
LAST-MODIFIED:20260319T205607Z
UID:10002500-1751612400-1751626800@bluewater-casino-resort.com
SUMMARY:Breakfast Special 7AM-11AM
DESCRIPTION:1-2-3-4 Breakfast Special\n$4.00 with card\, $8.99 without card.
URL:https://bluewater-casino-resort.com/event/breakfast-special-7am-11am/2025-07-04/
ATTACH;FMTTYPE=image/jpeg:https://bluewater-casino-resort.com/wp-content/uploads/2024/02/Breakfast-Special-4.00-1591x751-1.jpg
END:VEVENT
BEGIN:VEVENT
DTSTART;TZID=America/Phoenix:20250704T070000
DTEND;TZID=America/Phoenix:20250704T110000
DTSTAMP:20260425T041701
CREATED:20240216T233138Z
LAST-MODIFIED:20260319T205537Z
UID:10002522-1751612400-1751626800@bluewater-casino-resort.com
SUMMARY:Trucker Special 7AM-11AM
DESCRIPTION:Trucker Special – 4 oz Top Sirloin served with hash browns\, 2 eggs any style and your choice of toast.\n$4.99 with card\, $11.99 without card.
URL:https://bluewater-casino-resort.com/event/trucker-special-7am-11am/2025-07-04/
ATTACH;FMTTYPE=image/jpeg:https://bluewater-casino-resort.com/wp-content/uploads/2024/02/Trucker-Special-1591x751-1.jpg
END:VEVENT
BEGIN:VEVENT
DTSTART;TZID=America/Phoenix:20250704T120000
DTEND;TZID=America/Phoenix:20250704T200000
DTSTAMP:20260425T041701
CREATED:20250611T220650Z
LAST-MODIFIED:20250611T220650Z
UID:10002612-1751630400-1751659200@bluewater-casino-resort.com
SUMMARY:Beach Bonus Hot Seat Drawings
DESCRIPTION:Fridays – July 4\, 11\, 18\, 25 \nSeventeen (1) $100 Cash Prize Drawings held from 12pm to 8pm! Participants must be actively playing with their club card to participate\, one (1) winner every half hour! Participants can only win once per day.
URL:https://bluewater-casino-resort.com/event/beach-bonus-hot-seat-drawings-2/2025-07-04/
ATTACH;FMTTYPE=image/jpeg:https://bluewater-casino-resort.com/wp-content/uploads/2025/06/Beach-Bonus-Hot-Seat-Drawings-Promo-Web-1.jpg
END:VEVENT
BEGIN:VEVENT
DTSTART;TZID=America/Phoenix:20250704T150000
DTEND;TZID=America/Phoenix:20250704T220000
DTSTAMP:20260425T041701
CREATED:20250516T215444Z
LAST-MODIFIED:20250811T195244Z
UID:10002581-1751641200-1751666400@bluewater-casino-resort.com
SUMMARY:Diablo Sandwich 3PM-10PM @ Grille
DESCRIPTION:Smoked brisket\, grilled chicken\, sauteed white onions\, grilled jalapenos\, pepper jack cheese. \nHouse made Carolina reaper hot BBQ sauce. \nServed with fries.
URL:https://bluewater-casino-resort.com/event/diablo-sandwich-3pm-10pm-grille/2025-07-04/
ATTACH;FMTTYPE=image/png:https://bluewater-casino-resort.com/wp-content/uploads/2025/05/Diablo-Sandwich-Web-Promo.png
END:VEVENT
BEGIN:VEVENT
DTSTART;TZID=America/Phoenix:20250704T150000
DTEND;TZID=America/Phoenix:20250704T230000
DTSTAMP:20260425T041701
CREATED:20250611T200928Z
LAST-MODIFIED:20250611T200928Z
UID:10002488-1751641200-1751670000@bluewater-casino-resort.com
SUMMARY:Fourth of July Buffet
DESCRIPTION:18.99 Club Card\, 24.99 Regular Price\, Kids Price 12.99 – 3PM – 11PM \nBBQ Pork Ribs\, BBQ Chicken Thigh\, Steak Top Sirloin\, Baked Potato \nCarving Station  \nCrab Legs / Corn on the Cob / Cowboy Beans\, Fried Catfish / Popcorn Shrimp\, Broccoli and cheese/ White mac n cheese & Fudge brownie cookie \nSalad Bar \nBaked Potato bar\, Ambrosia\, Crab Salad\, Pistachio Salad\, Macaroni salad \nCaeser Salad & Salad mix \nAssorted pies and cakes \nRed White & Blue Pancakes \nFriday July 4th 2025 \nBreakfast: $4.00 \nButtermilk Double Stack Pancakes\, Strawberry Sauce\, Fresh Blueberries\, whip cream.
URL:https://bluewater-casino-resort.com/event/fourth-of-july-buffet/
ATTACH;FMTTYPE=image/jpeg:https://bluewater-casino-resort.com/wp-content/uploads/2025/06/bluwater-buffet-july-4th-Promo-Web.jpg
END:VEVENT
END:VCALENDAR