BEGIN:VCALENDAR
VERSION:2.0
PRODID:-//Blue Water Resort &amp; Casino - ECPv6.15.20//NONSGML v1.0//EN
CALSCALE:GREGORIAN
METHOD:PUBLISH
X-ORIGINAL-URL:https://bluewater-casino-resort.com
X-WR-CALDESC:Events for Blue Water Resort &amp; Casino
REFRESH-INTERVAL;VALUE=DURATION:PT1H
X-Robots-Tag:noindex
X-PUBLISHED-TTL:PT1H
BEGIN:VTIMEZONE
TZID:America/Phoenix
BEGIN:STANDARD
TZOFFSETFROM:-0700
TZOFFSETTO:-0700
TZNAME:MST
DTSTART:20240101T000000
END:STANDARD
END:VTIMEZONE
BEGIN:VEVENT
DTSTART;TZID=America/Phoenix:20250509T210000
DTEND;TZID=America/Phoenix:20250510T010000
DTSTAMP:20260422T184052
CREATED:20250219T220048Z
LAST-MODIFIED:20250408T193828Z
UID:10002234-1746824400-1746838800@bluewater-casino-resort.com
SUMMARY:Live Entertainment @ Dig Lounge
DESCRIPTION:
URL:https://bluewater-casino-resort.com/event/live-entertainment-dig-lounge/2025-05-09/
END:VEVENT
BEGIN:VEVENT
DTSTART;TZID=America/Phoenix:20250510T150000
DTEND;TZID=America/Phoenix:20250510T220000
DTSTAMP:20260422T184052
CREATED:20250117T232213Z
LAST-MODIFIED:20250714T220814Z
UID:10002313-1746889200-1746914400@bluewater-casino-resort.com
SUMMARY:Chef Special @ Grille
DESCRIPTION:Chef Special changed weekly at BlueWater Grille.
URL:https://bluewater-casino-resort.com/event/chef-special-grille/2025-05-10/
ATTACH;FMTTYPE=image/jpeg:https://bluewater-casino-resort.com/wp-content/uploads/2025/01/Chef-SpecialWebPromo.jpg
END:VEVENT
BEGIN:VEVENT
DTSTART;TZID=America/Phoenix:20250510T180000
DTEND;TZID=America/Phoenix:20250510T220000
DTSTAMP:20260422T184052
CREATED:20250408T202633Z
LAST-MODIFIED:20250408T202633Z
UID:10002346-1746900000-1746914400@bluewater-casino-resort.com
SUMMARY:Spin & Win Virtual Drawings
DESCRIPTION:Saturdays – May 3\, 10\, 17\, 24\, 31 \nVirtual Drawings held 6pm – 10pm. Starting May 1 through May 31\, participants can start earning entries to participate in the Spin & Win virtual drawings. One (1) winner every 30 minutes will be selected for chance to win cash prizes of $500; $250; and $100\, or $100 in FSP! There will be a bonus $75 Free Slot Play if winning patron is wearing the promotional “Wear To Win’ BlueWater tshirt.
URL:https://bluewater-casino-resort.com/event/spin-win-virtual-drawings-2/2025-05-10/
ATTACH;FMTTYPE=image/jpeg:https://bluewater-casino-resort.com/wp-content/uploads/2025/04/Spin-WinPromo-Web.jpg
END:VEVENT
BEGIN:VEVENT
DTSTART;TZID=America/Phoenix:20250510T200000
DTEND;TZID=America/Phoenix:20250510T220000
DTSTAMP:20260422T184052
CREATED:20250324T203654Z
LAST-MODIFIED:20250324T203953Z
UID:10002231-1746907200-1746914400@bluewater-casino-resort.com
SUMMARY:Selena the Premier Tribute @ Showroom (Doors at 7PM\, Show at 8PM)
DESCRIPTION:Selena The Premier Tribute To Selena \nStarring Karla Perez as Selena \nKarla Perez has proven time and time again over the past four years why she is regarded as the top Selena Tribute Artist in both the United States and Mexico.. \nHer premier Tribute is a celebration of the songs\, and the love Selena had for her fans and the love her fans had and continue to have for Selena. \nOriginally from Guadalajara\, Jalisco\, Mexico and now living in Arizona Karla’s career started at the young age of 12. When Karla was 18 she entered a Selena Singing contest competing against 20 other young hopefuls. She won first place and her career has exploded since taking her to the biggest stages in Mexico and the United States. She is widely recognized as the number one Artist doing a loving and respectful tribute to the great Selena Quintanilla.\nKarla also happens to have a master’s degree in Education and teaches Spanish at the Arizona State University Preparatory Academy in Phoenix\, AZ. \nKarla is backed by a very talented Latin band which includes\, Guitar\, Keyboards\, Bass guitar\, Drums\, and Latin percussion.
URL:https://bluewater-casino-resort.com/event/selena-the-premier-tribute/
CATEGORIES:Concert
ATTACH;FMTTYPE=image/jpeg:https://bluewater-casino-resort.com/wp-content/uploads/2025/03/BWRC-Selena-Tribute-scaled.jpg
END:VEVENT
END:VCALENDAR