BEGIN:VCALENDAR
VERSION:2.0
PRODID:-//Blue Water Resort &amp; Casino - ECPv6.15.20//NONSGML v1.0//EN
CALSCALE:GREGORIAN
METHOD:PUBLISH
X-ORIGINAL-URL:https://bluewater-casino-resort.com
X-WR-CALDESC:Events for Blue Water Resort &amp; Casino
REFRESH-INTERVAL;VALUE=DURATION:PT1H
X-Robots-Tag:noindex
X-PUBLISHED-TTL:PT1H
BEGIN:VTIMEZONE
TZID:America/Phoenix
BEGIN:STANDARD
TZOFFSETFROM:-0700
TZOFFSETTO:-0700
TZNAME:MST
DTSTART:20240101T000000
END:STANDARD
END:VTIMEZONE
BEGIN:VEVENT
DTSTART;VALUE=DATE:20250506
DTEND;VALUE=DATE:20250507
DTSTAMP:20260422T183911
CREATED:20250408T201509Z
LAST-MODIFIED:20250409T193118Z
UID:10002327-1746489600-1746575999@bluewater-casino-resort.com
SUMMARY:Red Hot Scratch Off Kiosk Promo
DESCRIPTION:Tuesdays – May 6\, 13\, 20\, 27 \nPatrons must earn 150 Base Points during the promotional period (12:01am – 11:59pm) to play the Red Hot Scratch Off kiosk game for a chance to instantly win $30\, $20\, $10\, or $0 in Restricted Free Slot Play\, up to three (3) plays per day.
URL:https://bluewater-casino-resort.com/event/red-hot-scratch-off-kiosk-promo/2025-05-06/
ATTACH;FMTTYPE=image/jpeg:https://bluewater-casino-resort.com/wp-content/uploads/2025/04/red-hot-scratch-kiosk-promo-web.jpg
END:VEVENT
BEGIN:VEVENT
DTSTART;TZID=America/Phoenix:20250506T070000
DTEND;TZID=America/Phoenix:20250506T110000
DTSTAMP:20260422T183911
CREATED:20240216T231842Z
LAST-MODIFIED:20260319T205607Z
UID:10002271-1746514800-1746529200@bluewater-casino-resort.com
SUMMARY:Breakfast Special 7AM-11AM
DESCRIPTION:1-2-3-4 Breakfast Special\n$4.00 with card\, $8.99 without card.
URL:https://bluewater-casino-resort.com/event/breakfast-special-7am-11am/2025-05-06/
ATTACH;FMTTYPE=image/jpeg:https://bluewater-casino-resort.com/wp-content/uploads/2024/02/Breakfast-Special-4.00-1591x751-1.jpg
END:VEVENT
BEGIN:VEVENT
DTSTART;TZID=America/Phoenix:20250506T070000
DTEND;TZID=America/Phoenix:20250506T110000
DTSTAMP:20260422T183911
CREATED:20240216T233138Z
LAST-MODIFIED:20260319T205537Z
UID:10002249-1746514800-1746529200@bluewater-casino-resort.com
SUMMARY:Trucker Special 7AM-11AM
DESCRIPTION:Trucker Special – 4 oz Top Sirloin served with hash browns\, 2 eggs any style and your choice of toast.\n$4.99 with card\, $11.99 without card.
URL:https://bluewater-casino-resort.com/event/trucker-special-7am-11am/2025-05-06/
ATTACH;FMTTYPE=image/jpeg:https://bluewater-casino-resort.com/wp-content/uploads/2024/02/Trucker-Special-1591x751-1.jpg
END:VEVENT
BEGIN:VEVENT
DTSTART;TZID=America/Phoenix:20250506T150000
DTEND;TZID=America/Phoenix:20250506T210000
DTSTAMP:20260422T183911
CREATED:20250117T231357Z
LAST-MODIFIED:20250408T194405Z
UID:10002294-1746543600-1746565200@bluewater-casino-resort.com
SUMMARY:Chicken Cordon Bleu @ Grille
DESCRIPTION:Chicken Cordon Bleu with a Southwestern White Cheddar Cheese Sauce\, Rice Pilaf\, and Seasoned Vegetables. \n$10.99 with card\, $16.99 without card
URL:https://bluewater-casino-resort.com/event/chicken-cordon-bleu-grille/2025-05-06/
ATTACH;FMTTYPE=image/jpeg:https://bluewater-casino-resort.com/wp-content/uploads/2025/01/Chicken-Cordon-Bleu-Grille-Special-Web-Promo-.jpg
END:VEVENT
END:VCALENDAR