BEGIN:VCALENDAR
VERSION:2.0
PRODID:-//Blue Water Resort &amp; Casino - ECPv6.15.20//NONSGML v1.0//EN
CALSCALE:GREGORIAN
METHOD:PUBLISH
X-WR-CALNAME:Blue Water Resort &amp; Casino
X-ORIGINAL-URL:https://bluewater-casino-resort.com
X-WR-CALDESC:Events for Blue Water Resort &amp; Casino
REFRESH-INTERVAL;VALUE=DURATION:PT1H
X-Robots-Tag:noindex
X-PUBLISHED-TTL:PT1H
BEGIN:VTIMEZONE
TZID:America/Phoenix
BEGIN:STANDARD
TZOFFSETFROM:-0700
TZOFFSETTO:-0700
TZNAME:MST
DTSTART:20240101T000000
END:STANDARD
END:VTIMEZONE
BEGIN:VEVENT
DTSTART;TZID=America/Phoenix:20250131T090000
DTEND;TZID=America/Phoenix:20250201T010000
DTSTAMP:20260420T050706
CREATED:20241217T215243Z
LAST-MODIFIED:20241218T222337Z
UID:10001822-1738314000-1738371600@bluewater-casino-resort.com
SUMMARY:Hot Ice @ Dig Lounge 9pm-1am
DESCRIPTION:
URL:https://bluewater-casino-resort.com/event/live-entertainment-dig-lounge-9pm-1am-10/
ATTACH;FMTTYPE=image/jpeg:https://bluewater-casino-resort.com/wp-content/uploads/2024/12/HOT-ICE-RETOUCH-RETOUCH-2.jpg
END:VEVENT
BEGIN:VEVENT
DTSTART;TZID=America/Phoenix:20250201T150000
DTEND;TZID=America/Phoenix:20250201T220000
DTSTAMP:20260420T050706
CREATED:20250117T232213Z
LAST-MODIFIED:20250714T220814Z
UID:10001944-1738422000-1738447200@bluewater-casino-resort.com
SUMMARY:Chef Special @ Grille
DESCRIPTION:Chef Special changed weekly at BlueWater Grille.
URL:https://bluewater-casino-resort.com/event/chef-special-grille/2025-02-01/
ATTACH;FMTTYPE=image/jpeg:https://bluewater-casino-resort.com/wp-content/uploads/2025/01/Chef-SpecialWebPromo.jpg
END:VEVENT
BEGIN:VEVENT
DTSTART;TZID=America/Phoenix:20250201T180000
DTEND;TZID=America/Phoenix:20250201T220000
DTSTAMP:20260420T050706
CREATED:20250117T223444Z
LAST-MODIFIED:20250117T223444Z
UID:10001923-1738432800-1738447200@bluewater-casino-resort.com
SUMMARY:Lucky Love Cash Giveaways
DESCRIPTION:Saturdays – February 1\, 8\, 15\, & 22\, 2025 \nVirtual Drawings held 6pm – 10pm. Starting February 1 through February 22\, participants can start earning entries to participate in the Lucky Love Cash Giveaways. One (1) winner every 30 mins will be selected for a chance to win cash prizes of $300. 
URL:https://bluewater-casino-resort.com/event/lucky-love-cash-giveaways/2025-02-01/
ATTACH;FMTTYPE=image/jpeg:https://bluewater-casino-resort.com/wp-content/uploads/2025/01/Lucky-Love-Cash-Giveaway-Promo-Web.jpg
END:VEVENT
END:VCALENDAR