BEGIN:VCALENDAR
VERSION:2.0
PRODID:-//Blue Water Resort &amp; Casino - ECPv6.15.20//NONSGML v1.0//EN
CALSCALE:GREGORIAN
METHOD:PUBLISH
X-ORIGINAL-URL:https://bluewater-casino-resort.com
X-WR-CALDESC:Events for Blue Water Resort &amp; Casino
REFRESH-INTERVAL;VALUE=DURATION:PT1H
X-Robots-Tag:noindex
X-PUBLISHED-TTL:PT1H
BEGIN:VTIMEZONE
TZID:America/Phoenix
BEGIN:STANDARD
TZOFFSETFROM:-0700
TZOFFSETTO:-0700
TZNAME:MST
DTSTART:20240101T000000
END:STANDARD
END:VTIMEZONE
BEGIN:VEVENT
DTSTART;TZID=America/Phoenix:20250130T070000
DTEND;TZID=America/Phoenix:20250130T110000
DTSTAMP:20260420T010600
CREATED:20240216T231842Z
LAST-MODIFIED:20260319T205607Z
UID:10001778-1738220400-1738234800@bluewater-casino-resort.com
SUMMARY:Breakfast Special 7AM-11AM
DESCRIPTION:1-2-3-4 Breakfast Special\n$4.00 with card\, $8.99 without card.
URL:https://bluewater-casino-resort.com/event/breakfast-special-7am-11am/2025-01-30/
ATTACH;FMTTYPE=image/jpeg:https://bluewater-casino-resort.com/wp-content/uploads/2024/02/Breakfast-Special-4.00-1591x751-1.jpg
END:VEVENT
BEGIN:VEVENT
DTSTART;TZID=America/Phoenix:20250130T070000
DTEND;TZID=America/Phoenix:20250130T110000
DTSTAMP:20260420T010600
CREATED:20240216T233138Z
LAST-MODIFIED:20260319T205537Z
UID:10001800-1738220400-1738234800@bluewater-casino-resort.com
SUMMARY:Trucker Special 7AM-11AM
DESCRIPTION:Trucker Special – 4 oz Top Sirloin served with hash browns\, 2 eggs any style and your choice of toast.\n$4.99 with card\, $11.99 without card.
URL:https://bluewater-casino-resort.com/event/trucker-special-7am-11am/2025-01-30/
ATTACH;FMTTYPE=image/jpeg:https://bluewater-casino-resort.com/wp-content/uploads/2024/02/Trucker-Special-1591x751-1.jpg
END:VEVENT
BEGIN:VEVENT
DTSTART;TZID=America/Phoenix:20250130T080000
DTEND;TZID=America/Phoenix:20250130T194500
DTSTAMP:20260420T010600
CREATED:20241216T231249Z
LAST-MODIFIED:20241216T231249Z
UID:10001840-1738224000-1738266300@bluewater-casino-resort.com
SUMMARY:New Year Wins Slot Tournaments
DESCRIPTION:Thursdays – January 2\, 9\, 16\, 23\, & 30; 2025\nParticipants must sign up/register on promotional Wednesdays starting at 8:01am and ending at 7:45pm\, to be eligible to play in the slot tournament. Top 3 scores at end of each day win cash prizes ($300\, $200\, $100). Slot tournament participants who score highest in their session receive $75 Restricted Free Slot Play.
URL:https://bluewater-casino-resort.com/event/new-year-wins-slot-tournaments/2025-01-30/
ATTACH;FMTTYPE=image/jpeg:https://bluewater-casino-resort.com/wp-content/uploads/2024/12/New-Year-Wins-Slot-Tournament-Promo-Web.jpg
END:VEVENT
BEGIN:VEVENT
DTSTART;TZID=America/Phoenix:20250130T150000
DTEND;TZID=America/Phoenix:20250130T210000
DTSTAMP:20260420T010600
CREATED:20240923T222225Z
LAST-MODIFIED:20241216T230248Z
UID:10001817-1738249200-1738270800@bluewater-casino-resort.com
SUMMARY:4pc Fried Chicken 3PM-9PM @Grille
DESCRIPTION:4pc Fried Chicken served with French fries and coleslaw. \n$12.99 with card\, $18.99 without card.
URL:https://bluewater-casino-resort.com/event/4pc-fried-chicken/2025-01-30/
ATTACH;FMTTYPE=image/jpeg:https://bluewater-casino-resort.com/wp-content/uploads/2024/09/October-2024-Food-Special-1591x7514-1.jpg
END:VEVENT
END:VCALENDAR