BEGIN:VCALENDAR
VERSION:2.0
PRODID:-//Blue Water Resort &amp; Casino - ECPv6.15.20//NONSGML v1.0//EN
CALSCALE:GREGORIAN
METHOD:PUBLISH
X-ORIGINAL-URL:https://bluewater-casino-resort.com
X-WR-CALDESC:Events for Blue Water Resort &amp; Casino
REFRESH-INTERVAL;VALUE=DURATION:PT1H
X-Robots-Tag:noindex
X-PUBLISHED-TTL:PT1H
BEGIN:VTIMEZONE
TZID:America/Phoenix
BEGIN:STANDARD
TZOFFSETFROM:-0700
TZOFFSETTO:-0700
TZNAME:MST
DTSTART:20240101T000000
END:STANDARD
END:VTIMEZONE
BEGIN:VEVENT
DTSTART;TZID=America/Phoenix:20250124T070000
DTEND;TZID=America/Phoenix:20250124T110000
DTSTAMP:20260419T052606
CREATED:20240216T231842Z
LAST-MODIFIED:20260319T205607Z
UID:10001774-1737702000-1737716400@bluewater-casino-resort.com
SUMMARY:Breakfast Special 7AM-11AM
DESCRIPTION:1-2-3-4 Breakfast Special\n$4.00 with card\, $8.99 without card.
URL:https://bluewater-casino-resort.com/event/breakfast-special-7am-11am/2025-01-24/
ATTACH;FMTTYPE=image/jpeg:https://bluewater-casino-resort.com/wp-content/uploads/2024/02/Breakfast-Special-4.00-1591x751-1.jpg
END:VEVENT
BEGIN:VEVENT
DTSTART;TZID=America/Phoenix:20250124T070000
DTEND;TZID=America/Phoenix:20250124T110000
DTSTAMP:20260419T052606
CREATED:20240216T233138Z
LAST-MODIFIED:20260319T205537Z
UID:10001796-1737702000-1737716400@bluewater-casino-resort.com
SUMMARY:Trucker Special 7AM-11AM
DESCRIPTION:Trucker Special – 4 oz Top Sirloin served with hash browns\, 2 eggs any style and your choice of toast.\n$4.99 with card\, $11.99 without card.
URL:https://bluewater-casino-resort.com/event/trucker-special-7am-11am/2025-01-24/
ATTACH;FMTTYPE=image/jpeg:https://bluewater-casino-resort.com/wp-content/uploads/2024/02/Trucker-Special-1591x751-1.jpg
END:VEVENT
BEGIN:VEVENT
DTSTART;TZID=America/Phoenix:20250124T090000
DTEND;TZID=America/Phoenix:20250125T010000
DTSTAMP:20260419T052606
CREATED:20241217T215203Z
LAST-MODIFIED:20241218T222256Z
UID:10001747-1737709200-1737766800@bluewater-casino-resort.com
SUMMARY:Laura Ash & The Inferno @ Dig Lounge 9pm-1am
DESCRIPTION:
URL:https://bluewater-casino-resort.com/event/live-entertainment-dig-lounge-9pm-1am-9/
ATTACH;FMTTYPE=image/jpeg:https://bluewater-casino-resort.com/wp-content/uploads/2024/12/LAURA-ASH-NEW.jpg
END:VEVENT
BEGIN:VEVENT
DTSTART;TZID=America/Phoenix:20250124T100000
DTEND;TZID=America/Phoenix:20250124T180000
DTSTAMP:20260419T052606
CREATED:20241216T231523Z
LAST-MODIFIED:20241216T231523Z
UID:10001844-1737712800-1737741600@bluewater-casino-resort.com
SUMMARY:Twice As Nice Hot Seat Drawings
DESCRIPTION:Fridays – January 3\, 10\, 17\, 24\, & 31; 2025 \nEighteen (1) $100 Cash Prize Drawings held in two sessions\, 10am – 2pm & 6pm – 10pm! Participants must be actively playing with their club card to participate\, one (1) winner every half hour! Participants can only win once per day. 
URL:https://bluewater-casino-resort.com/event/twice-as-nice-hot-seat-drawings-2/2025-01-24/
ATTACH;FMTTYPE=image/gif:https://bluewater-casino-resort.com/wp-content/uploads/2024/12/Twice-as-Nice-Web-1.gif
END:VEVENT
BEGIN:VEVENT
DTSTART;TZID=America/Phoenix:20250124T150000
DTEND;TZID=America/Phoenix:20250124T210000
DTSTAMP:20260419T052606
CREATED:20240923T222438Z
LAST-MODIFIED:20241216T230314Z
UID:10001820-1737730800-1737752400@bluewater-casino-resort.com
SUMMARY:Pasta Night 3PM-9PM @Grille
DESCRIPTION:Pasta Night – choice of spaghetti noodles with marinara sauce\, or chicken alfredo with house made alfredo sauce. \n$8.99 with card\, $14.99 without card.
URL:https://bluewater-casino-resort.com/event/pasta-night-3pm-9pm-grille/2025-01-24/
ATTACH;FMTTYPE=image/jpeg:https://bluewater-casino-resort.com/wp-content/uploads/2024/09/October-2024-Food-Special-1591x7515-1.jpg
END:VEVENT
END:VCALENDAR