BEGIN:VCALENDAR
VERSION:2.0
PRODID:-//Blue Water Resort &amp; Casino - ECPv6.15.20//NONSGML v1.0//EN
CALSCALE:GREGORIAN
METHOD:PUBLISH
X-ORIGINAL-URL:https://bluewater-casino-resort.com
X-WR-CALDESC:Events for Blue Water Resort &amp; Casino
REFRESH-INTERVAL;VALUE=DURATION:PT1H
X-Robots-Tag:noindex
X-PUBLISHED-TTL:PT1H
BEGIN:VTIMEZONE
TZID:America/Phoenix
BEGIN:STANDARD
TZOFFSETFROM:-0700
TZOFFSETTO:-0700
TZNAME:MST
DTSTART:20230101T000000
END:STANDARD
END:VTIMEZONE
BEGIN:VEVENT
DTSTART;TZID=America/Phoenix:20241209T070000
DTEND;TZID=America/Phoenix:20241209T110000
DTSTAMP:20260425T103142
CREATED:20240216T231842Z
LAST-MODIFIED:20260319T205607Z
UID:10001641-1733727600-1733742000@bluewater-casino-resort.com
SUMMARY:Breakfast Special 7AM-11AM
DESCRIPTION:1-2-3-4 Breakfast Special\n$4.00 with card\, $8.99 without card.
URL:https://bluewater-casino-resort.com/event/breakfast-special-7am-11am/2024-12-09/
ATTACH;FMTTYPE=image/jpeg:https://bluewater-casino-resort.com/wp-content/uploads/2024/02/Breakfast-Special-4.00-1591x751-1.jpg
END:VEVENT
BEGIN:VEVENT
DTSTART;TZID=America/Phoenix:20241209T070000
DTEND;TZID=America/Phoenix:20241209T110000
DTSTAMP:20260425T103142
CREATED:20240216T233138Z
LAST-MODIFIED:20260319T205537Z
UID:10001682-1733727600-1733742000@bluewater-casino-resort.com
SUMMARY:Trucker Special 7AM-11AM
DESCRIPTION:Trucker Special – 4 oz Top Sirloin served with hash browns\, 2 eggs any style and your choice of toast.\n$4.99 with card\, $11.99 without card.
URL:https://bluewater-casino-resort.com/event/trucker-special-7am-11am/2024-12-09/
ATTACH;FMTTYPE=image/jpeg:https://bluewater-casino-resort.com/wp-content/uploads/2024/02/Trucker-Special-1591x751-1.jpg
END:VEVENT
BEGIN:VEVENT
DTSTART;TZID=America/Phoenix:20241209T080000
DTEND;TZID=America/Phoenix:20241209T193000
DTSTAMP:20260425T103142
CREATED:20241114T233051Z
LAST-MODIFIED:20241114T233051Z
UID:10001727-1733731200-1733772600@bluewater-casino-resort.com
SUMMARY:Saint Nick’s Slot Tournaments
DESCRIPTION:Thursdays – December 5\, 12\, 19\, & 26; 2024\nParticipants must sign up/register on promotional Wednesdays starting at 8:01am and ending at 7:45pm\, to be eligible to play in the slot\ntournament. Top 3 scores at end of each day win cash prizes ($500\, $275\, $150). Slot tournament participants who score highest in\ntheir session receive $75 Restricted Free Slot Play.
URL:https://bluewater-casino-resort.com/event/saint-nicks-slot-tournaments/2024-12-09/
ATTACH;FMTTYPE=image/jpeg:https://bluewater-casino-resort.com/wp-content/uploads/2024/11/Saints-Nicks-Slot-Tournament-Promo-Web.jpg
END:VEVENT
BEGIN:VEVENT
DTSTART;TZID=America/Phoenix:20241209T150000
DTEND;TZID=America/Phoenix:20241209T220000
DTSTAMP:20260425T103142
CREATED:20240216T233452Z
LAST-MODIFIED:20260414T220854Z
UID:10001610-1733756400-1733781600@bluewater-casino-resort.com
SUMMARY:New York Steak 3PM-10PM @ Grille
DESCRIPTION:New York Steak Special\n$12.99 with card\, $18.99 without card.
URL:https://bluewater-casino-resort.com/event/new-york-steak-3pm-9pm-grille/2024-12-09/
ATTACH;FMTTYPE=image/jpeg:https://bluewater-casino-resort.com/wp-content/uploads/2025/09/New-York-Grille-SpecialsPromo-Web-2.jpg
END:VEVENT
BEGIN:VEVENT
DTSTART;TZID=America/Phoenix:20241209T170000
DTEND;TZID=America/Phoenix:20241209T220000
DTSTAMP:20260425T103142
CREATED:20240923T223734Z
LAST-MODIFIED:20240923T223734Z
UID:10001495-1733763600-1733781600@bluewater-casino-resort.com
SUMMARY:Football Frenzy Point Multiplier (5X/2X Points)
DESCRIPTION:Mondays – October 7 to December 30; 2024 \nParticipants must be playing with their club card properly inserted into any slot machine from 5:01pm to 9:59pm\, the Patron Management system will automatically multiply by 5X (five times) any points earned on all bar top slot machines. All other machines on casino floor will automatically multiply by 2X (two times) any points during the promotional period.
URL:https://bluewater-casino-resort.com/event/football-frenzy-point-multiplier-5x-2x-points/2024-12-09/
ATTACH;FMTTYPE=image/jpeg:https://bluewater-casino-resort.com/wp-content/uploads/2024/09/Football-Frenzy-Multiplier-Web.jpg
END:VEVENT
END:VCALENDAR