BEGIN:VCALENDAR
VERSION:2.0
PRODID:-//Blue Water Resort &amp; Casino - ECPv6.15.20//NONSGML v1.0//EN
CALSCALE:GREGORIAN
METHOD:PUBLISH
X-WR-CALNAME:Blue Water Resort &amp; Casino
X-ORIGINAL-URL:https://bluewater-casino-resort.com
X-WR-CALDESC:Events for Blue Water Resort &amp; Casino
REFRESH-INTERVAL;VALUE=DURATION:PT1H
X-Robots-Tag:noindex
X-PUBLISHED-TTL:PT1H
BEGIN:VTIMEZONE
TZID:America/Phoenix
BEGIN:STANDARD
TZOFFSETFROM:-0700
TZOFFSETTO:-0700
TZNAME:MST
DTSTART:20230101T000000
END:STANDARD
END:VTIMEZONE
BEGIN:VEVENT
DTSTART;VALUE=DATE:20241105
DTEND;VALUE=DATE:20241106
DTSTAMP:20260423T101003
CREATED:20240823T225328Z
LAST-MODIFIED:20240823T225328Z
UID:10001252-1730764800-1730851199@bluewater-casino-resort.com
SUMMARY:The Season
DESCRIPTION:Tuesdays-Sundays – September 3-January 5 \nJoin our Weekly Pick’em Games and win Cash Prizes to the top four weekly winners! Visit a promotional kiosk every Tuesday. Submit your picks by 9:00AM on Sunday for a chance to win weekly prizes: $100 for 1st Place\, $75 for 2nd\, $50 for 3rd\, and $25 for 4th. At the end of the season\, the top 3 participants with the most correct picks will win grand prizes: $500 for 1st place\, $300 for 2nd\, and $200 for 3rd. \nPrinted receipt required to claim any prizes. Visit THEclub for full terms and conditions.
URL:https://bluewater-casino-resort.com/event/the-season/2024-11-05/
ATTACH;FMTTYPE=image/jpeg:https://bluewater-casino-resort.com/wp-content/uploads/2024/08/The-Season-2024-Web.jpg
END:VEVENT
BEGIN:VEVENT
DTSTART;VALUE=DATE:20241105
DTEND;VALUE=DATE:20241106
DTSTAMP:20260423T101003
CREATED:20241022T222539Z
LAST-MODIFIED:20241022T222539Z
UID:10001585-1730764800-1730851199@bluewater-casino-resort.com
SUMMARY:Cashgiving Kiosk Promo
DESCRIPTION:Tuesdays – November 5\, 12\, 19\, & 26; 2024 \nPatrons must earn 150 Base Points during the promotional period (12:01am – 11:59pm) to play the Cashgiving kiosk game for a chance to instantly win $30\, $20\, $10\, or $0 in Restricted Free Slot Play\, up to three (3) plays per day.
URL:https://bluewater-casino-resort.com/event/cashgiving-kiosk-promo/2024-11-05/
ATTACH;FMTTYPE=image/gif:https://bluewater-casino-resort.com/wp-content/uploads/2024/10/Cash-Giveaway-Web.gif
END:VEVENT
BEGIN:VEVENT
DTSTART;TZID=America/Phoenix:20241105T070000
DTEND;TZID=America/Phoenix:20241105T110000
DTSTAMP:20260423T101003
CREATED:20240216T231842Z
LAST-MODIFIED:20260319T205607Z
UID:10001549-1730790000-1730804400@bluewater-casino-resort.com
SUMMARY:Breakfast Special 7AM-11AM
DESCRIPTION:1-2-3-4 Breakfast Special\n$4.00 with card\, $8.99 without card.
URL:https://bluewater-casino-resort.com/event/breakfast-special-7am-11am/2024-11-05/
ATTACH;FMTTYPE=image/jpeg:https://bluewater-casino-resort.com/wp-content/uploads/2024/02/Breakfast-Special-4.00-1591x751-1.jpg
END:VEVENT
BEGIN:VEVENT
DTSTART;TZID=America/Phoenix:20241105T070000
DTEND;TZID=America/Phoenix:20241105T110000
DTSTAMP:20260423T101003
CREATED:20240216T233138Z
LAST-MODIFIED:20260319T205537Z
UID:10001658-1730790000-1730804400@bluewater-casino-resort.com
SUMMARY:Trucker Special 7AM-11AM
DESCRIPTION:Trucker Special – 4 oz Top Sirloin served with hash browns\, 2 eggs any style and your choice of toast.\n$4.99 with card\, $11.99 without card.
URL:https://bluewater-casino-resort.com/event/trucker-special-7am-11am/2024-11-05/
ATTACH;FMTTYPE=image/jpeg:https://bluewater-casino-resort.com/wp-content/uploads/2024/02/Trucker-Special-1591x751-1.jpg
END:VEVENT
BEGIN:VEVENT
DTSTART;TZID=America/Phoenix:20241105T150000
DTEND;TZID=America/Phoenix:20241105T210000
DTSTAMP:20260423T101003
CREATED:20240923T221630Z
LAST-MODIFIED:20241216T230112Z
UID:10001568-1730818800-1730840400@bluewater-casino-resort.com
SUMMARY:Open Face Turkey Sandwich 3PM-9PM @Grille
DESCRIPTION:Turkey Sandwich served on Texas toast with whipped mashed potatoes\, seasonal vegetables\, and Turkey Gravy. \n$10.99 with card\, $16.99 without card
URL:https://bluewater-casino-resort.com/event/open-face-turkey-sandwich-3pm-9pm-grille/2024-11-05/
ATTACH;FMTTYPE=image/jpeg:https://bluewater-casino-resort.com/wp-content/uploads/2024/09/October-2024-Food-Special-1591x7512-1.jpg
END:VEVENT
END:VCALENDAR