BEGIN:VCALENDAR
VERSION:2.0
PRODID:-//Blue Water Resort &amp; Casino - ECPv6.15.20//NONSGML v1.0//EN
CALSCALE:GREGORIAN
METHOD:PUBLISH
X-WR-CALNAME:Blue Water Resort &amp; Casino
X-ORIGINAL-URL:https://bluewater-casino-resort.com
X-WR-CALDESC:Events for Blue Water Resort &amp; Casino
REFRESH-INTERVAL;VALUE=DURATION:PT1H
X-Robots-Tag:noindex
X-PUBLISHED-TTL:PT1H
BEGIN:VTIMEZONE
TZID:America/Phoenix
BEGIN:STANDARD
TZOFFSETFROM:-0700
TZOFFSETTO:-0700
TZNAME:MST
DTSTART:20230101T000000
END:STANDARD
END:VTIMEZONE
BEGIN:VEVENT
DTSTART;VALUE=DATE:20241014
DTEND;VALUE=DATE:20241015
DTSTAMP:20260423T133714
CREATED:20240328T222809Z
LAST-MODIFIED:20240328T222809Z
UID:10000270-1728864000-1728950399@bluewater-casino-resort.com
SUMMARY:Indigenous People’s Day
DESCRIPTION:
URL:https://bluewater-casino-resort.com/event/indigenous-peoples-day/
END:VEVENT
BEGIN:VEVENT
DTSTART;VALUE=DATE:20241014
DTEND;VALUE=DATE:20241015
DTSTAMP:20260423T133714
CREATED:20240823T224252Z
LAST-MODIFIED:20240823T224252Z
UID:10001174-1728864000-1728950399@bluewater-casino-resort.com
SUMMARY:Eat & Play
DESCRIPTION:Monday-Thursday – August-October \nEnjoy $5 Free Play with the purchase of the “Trucker Special” at BlueWater Grille\, available Monday to Thursday from August 19 to October 31\, 2024. Redeem your receipt at THEclub for your Free Play!
URL:https://bluewater-casino-resort.com/event/eat-play/2024-10-14/
ATTACH;FMTTYPE=image/jpeg:https://bluewater-casino-resort.com/wp-content/uploads/2024/08/Eat-Play-Web.jpg
END:VEVENT
BEGIN:VEVENT
DTSTART;TZID=America/Phoenix:20241014T070000
DTEND;TZID=America/Phoenix:20241014T110000
DTSTAMP:20260423T133714
CREATED:20240216T231842Z
LAST-MODIFIED:20260319T205607Z
UID:10001416-1728889200-1728903600@bluewater-casino-resort.com
SUMMARY:Breakfast Special 7AM-11AM
DESCRIPTION:1-2-3-4 Breakfast Special\n$4.00 with card\, $8.99 without card.
URL:https://bluewater-casino-resort.com/event/breakfast-special-7am-11am/2024-10-14/
ATTACH;FMTTYPE=image/jpeg:https://bluewater-casino-resort.com/wp-content/uploads/2024/02/Breakfast-Special-4.00-1591x751-1.jpg
END:VEVENT
BEGIN:VEVENT
DTSTART;TZID=America/Phoenix:20241014T070000
DTEND;TZID=America/Phoenix:20241014T110000
DTSTAMP:20260423T133714
CREATED:20240216T233138Z
LAST-MODIFIED:20260319T205537Z
UID:10001438-1728889200-1728903600@bluewater-casino-resort.com
SUMMARY:Trucker Special 7AM-11AM
DESCRIPTION:Trucker Special – 4 oz Top Sirloin served with hash browns\, 2 eggs any style and your choice of toast.\n$4.99 with card\, $11.99 without card.
URL:https://bluewater-casino-resort.com/event/trucker-special-7am-11am/2024-10-14/
ATTACH;FMTTYPE=image/jpeg:https://bluewater-casino-resort.com/wp-content/uploads/2024/02/Trucker-Special-1591x751-1.jpg
END:VEVENT
BEGIN:VEVENT
DTSTART;TZID=America/Phoenix:20241014T150000
DTEND;TZID=America/Phoenix:20241014T220000
DTSTAMP:20260423T133714
CREATED:20240216T233452Z
LAST-MODIFIED:20260414T220854Z
UID:10001461-1728918000-1728943200@bluewater-casino-resort.com
SUMMARY:New York Steak 3PM-10PM @ Grille
DESCRIPTION:New York Steak Special\n$12.99 with card\, $18.99 without card.
URL:https://bluewater-casino-resort.com/event/new-york-steak-3pm-9pm-grille/2024-10-14/
ATTACH;FMTTYPE=image/jpeg:https://bluewater-casino-resort.com/wp-content/uploads/2025/09/New-York-Grille-SpecialsPromo-Web-2.jpg
END:VEVENT
BEGIN:VEVENT
DTSTART;TZID=America/Phoenix:20241014T170000
DTEND;TZID=America/Phoenix:20241014T220000
DTSTAMP:20260423T133714
CREATED:20240923T223734Z
LAST-MODIFIED:20240923T223734Z
UID:10001487-1728925200-1728943200@bluewater-casino-resort.com
SUMMARY:Football Frenzy Point Multiplier (5X/2X Points)
DESCRIPTION:Mondays – October 7 to December 30; 2024 \nParticipants must be playing with their club card properly inserted into any slot machine from 5:01pm to 9:59pm\, the Patron Management system will automatically multiply by 5X (five times) any points earned on all bar top slot machines. All other machines on casino floor will automatically multiply by 2X (two times) any points during the promotional period.
URL:https://bluewater-casino-resort.com/event/football-frenzy-point-multiplier-5x-2x-points/2024-10-14/
ATTACH;FMTTYPE=image/jpeg:https://bluewater-casino-resort.com/wp-content/uploads/2024/09/Football-Frenzy-Multiplier-Web.jpg
END:VEVENT
END:VCALENDAR