BEGIN:VCALENDAR
VERSION:2.0
PRODID:-//Blue Water Resort &amp; Casino - ECPv6.15.20//NONSGML v1.0//EN
CALSCALE:GREGORIAN
METHOD:PUBLISH
X-WR-CALNAME:Blue Water Resort &amp; Casino
X-ORIGINAL-URL:https://bluewater-casino-resort.com
X-WR-CALDESC:Events for Blue Water Resort &amp; Casino
REFRESH-INTERVAL;VALUE=DURATION:PT1H
X-Robots-Tag:noindex
X-PUBLISHED-TTL:PT1H
BEGIN:VTIMEZONE
TZID:America/Phoenix
BEGIN:STANDARD
TZOFFSETFROM:-0700
TZOFFSETTO:-0700
TZNAME:MST
DTSTART:20230101T000000
END:STANDARD
END:VTIMEZONE
BEGIN:VEVENT
DTSTART;TZID=America/Phoenix:20240517T070000
DTEND;TZID=America/Phoenix:20240517T110000
DTSTAMP:20260420T130347
CREATED:20240216T231842Z
LAST-MODIFIED:20260319T205607Z
UID:10000308-1715929200-1715943600@bluewater-casino-resort.com
SUMMARY:Breakfast Special 7AM-11AM
DESCRIPTION:1-2-3-4 Breakfast Special\n$4.00 with card\, $8.99 without card.
URL:https://bluewater-casino-resort.com/event/breakfast-special-7am-11am/2024-05-17/
ATTACH;FMTTYPE=image/jpeg:https://bluewater-casino-resort.com/wp-content/uploads/2024/02/Breakfast-Special-4.00-1591x751-1.jpg
END:VEVENT
BEGIN:VEVENT
DTSTART;TZID=America/Phoenix:20240517T070000
DTEND;TZID=America/Phoenix:20240517T110000
DTSTAMP:20260420T130347
CREATED:20240216T233138Z
LAST-MODIFIED:20260319T205537Z
UID:10000877-1715929200-1715943600@bluewater-casino-resort.com
SUMMARY:Trucker Special 7AM-11AM
DESCRIPTION:Trucker Special – 4 oz Top Sirloin served with hash browns\, 2 eggs any style and your choice of toast.\n$4.99 with card\, $11.99 without card.
URL:https://bluewater-casino-resort.com/event/trucker-special-7am-11am/2024-05-17/
ATTACH;FMTTYPE=image/jpeg:https://bluewater-casino-resort.com/wp-content/uploads/2024/02/Trucker-Special-1591x751-1.jpg
END:VEVENT
BEGIN:VEVENT
DTSTART;TZID=America/Phoenix:20240517T120000
DTEND;TZID=America/Phoenix:20240517T200000
DTSTAMP:20260420T130347
CREATED:20240430T205425Z
LAST-MODIFIED:20240430T205425Z
UID:10000375-1715947200-1715976000@bluewater-casino-resort.com
SUMMARY:Fiesta Fridays Hot Seat Drawings
DESCRIPTION:When: Every Friday in May (May 3\, 10\, 17\, 24\, 31)\nOffer: $100 cash prize in random hot seat drawings\nEligibility: THEclub members actively playing with cards inserted in slot machines\nTime: 12:00pm – 8:00pm\, every 30 minutes
URL:https://bluewater-casino-resort.com/event/fiesta-fridays-hot-seat-drawings/2024-05-17/
ATTACH;FMTTYPE=image/jpeg:https://bluewater-casino-resort.com/wp-content/uploads/2024/04/Fiesta-Friday-promo-Web.jpg
END:VEVENT
BEGIN:VEVENT
DTSTART;TZID=America/Phoenix:20240517T150000
DTEND;TZID=America/Phoenix:20240517T210000
DTSTAMP:20260420T130347
CREATED:20240216T232152Z
LAST-MODIFIED:20240424T224024Z
UID:10000352-1715958000-1715979600@bluewater-casino-resort.com
SUMMARY:Shrimp Sandwich 3PM-9PM @ Grille
DESCRIPTION:
URL:https://bluewater-casino-resort.com/event/shrimp-sandwich-3pm-9pm-grille/2024-05-17/
ATTACH;FMTTYPE=image/jpeg:https://bluewater-casino-resort.com/wp-content/uploads/2024/02/Shrimp-Sandwich-1591x751-1.jpg
END:VEVENT
END:VCALENDAR