BEGIN:VCALENDAR
VERSION:2.0
PRODID:-//Blue Water Resort &amp; Casino - ECPv6.15.20//NONSGML v1.0//EN
CALSCALE:GREGORIAN
METHOD:PUBLISH
X-ORIGINAL-URL:https://bluewater-casino-resort.com
X-WR-CALDESC:Events for Blue Water Resort &amp; Casino
REFRESH-INTERVAL;VALUE=DURATION:PT1H
X-Robots-Tag:noindex
X-PUBLISHED-TTL:PT1H
BEGIN:VTIMEZONE
TZID:America/Phoenix
BEGIN:STANDARD
TZOFFSETFROM:-0700
TZOFFSETTO:-0700
TZNAME:MST
DTSTART:20230101T000000
END:STANDARD
END:VTIMEZONE
BEGIN:VEVENT
DTSTART;TZID=America/Phoenix:20240508T070000
DTEND;TZID=America/Phoenix:20240508T110000
DTSTAMP:20260420T093425
CREATED:20240216T231842Z
LAST-MODIFIED:20260319T205607Z
UID:10000301-1715151600-1715166000@bluewater-casino-resort.com
SUMMARY:Breakfast Special 7AM-11AM
DESCRIPTION:1-2-3-4 Breakfast Special\n$4.00 with card\, $8.99 without card.
URL:https://bluewater-casino-resort.com/event/breakfast-special-7am-11am/2024-05-08/
ATTACH;FMTTYPE=image/jpeg:https://bluewater-casino-resort.com/wp-content/uploads/2024/02/Breakfast-Special-4.00-1591x751-1.jpg
END:VEVENT
BEGIN:VEVENT
DTSTART;TZID=America/Phoenix:20240508T070000
DTEND;TZID=America/Phoenix:20240508T110000
DTSTAMP:20260420T093425
CREATED:20240216T233138Z
LAST-MODIFIED:20260319T205537Z
UID:10000874-1715151600-1715166000@bluewater-casino-resort.com
SUMMARY:Trucker Special 7AM-11AM
DESCRIPTION:Trucker Special – 4 oz Top Sirloin served with hash browns\, 2 eggs any style and your choice of toast.\n$4.99 with card\, $11.99 without card.
URL:https://bluewater-casino-resort.com/event/trucker-special-7am-11am/2024-05-08/
ATTACH;FMTTYPE=image/jpeg:https://bluewater-casino-resort.com/wp-content/uploads/2024/02/Trucker-Special-1591x751-1.jpg
END:VEVENT
BEGIN:VEVENT
DTSTART;TZID=America/Phoenix:20240508T080000
DTEND;TZID=America/Phoenix:20240508T230000
DTSTAMP:20260420T093425
CREATED:20240430T204915Z
LAST-MODIFIED:20240430T204915Z
UID:10000364-1715155200-1715209200@bluewater-casino-resort.com
SUMMARY:Cool Summer Gift Giveaways
DESCRIPTION:When: Every Wednesday in May (May 1\, 8\, 15\, 22\, 29)\nOffer: Various cooling gifts like a tower fan\, cooling sheet set\, pillow\, mattress topper\, and\nthrow blanket\nEligibility: THEclub members who earn 300 base points\nTime: Gifts available 8:00am – 11:00pm
URL:https://bluewater-casino-resort.com/event/cool-summer-gift-giveaways/2024-05-08/
ATTACH;FMTTYPE=image/jpeg:https://bluewater-casino-resort.com/wp-content/uploads/2024/04/Cooling-Summer-Gift-Web-copy.jpg
END:VEVENT
BEGIN:VEVENT
DTSTART;TZID=America/Phoenix:20240508T150000
DTEND;TZID=America/Phoenix:20240508T210000
DTSTAMP:20260420T093425
CREATED:20240216T233804Z
LAST-MODIFIED:20240424T223808Z
UID:10000341-1715180400-1715202000@bluewater-casino-resort.com
SUMMARY:BBQ Chicken & Spicy Sausage 3PM-9PM @ Grille
DESCRIPTION:
URL:https://bluewater-casino-resort.com/event/bbq-chicken-spicy-sausage-3pm-9pm-grille/2024-05-08/
ATTACH;FMTTYPE=image/jpeg:https://bluewater-casino-resort.com/wp-content/uploads/2024/02/BBQ-Chicken-Spicy-Sausage-1591x751-1.jpg
END:VEVENT
BEGIN:VEVENT
DTSTART;TZID=America/Phoenix:20240508T190000
DTEND;TZID=America/Phoenix:20240508T230000
DTSTAMP:20260420T093425
CREATED:20240517T214539Z
LAST-MODIFIED:20240517T214539Z
UID:10000773-1715194800-1715209200@bluewater-casino-resort.com
SUMMARY:Karaoke Nights @ Dig Lounge
DESCRIPTION:
URL:https://bluewater-casino-resort.com/event/karaoke-nights-dig-lounge/2024-05-08/
ATTACH;FMTTYPE=image/jpeg:https://bluewater-casino-resort.com/wp-content/uploads/2024/03/Karaoke-751x751-2.jpg
END:VEVENT
END:VCALENDAR