BEGIN:VCALENDAR
VERSION:2.0
PRODID:-//Blue Water Resort &amp; Casino - ECPv6.15.20//NONSGML v1.0//EN
CALSCALE:GREGORIAN
METHOD:PUBLISH
X-WR-CALNAME:Blue Water Resort &amp; Casino
X-ORIGINAL-URL:https://bluewater-casino-resort.com
X-WR-CALDESC:Events for Blue Water Resort &amp; Casino
REFRESH-INTERVAL;VALUE=DURATION:PT1H
X-Robots-Tag:noindex
X-PUBLISHED-TTL:PT1H
BEGIN:VTIMEZONE
TZID:America/Phoenix
BEGIN:STANDARD
TZOFFSETFROM:-0700
TZOFFSETTO:-0700
TZNAME:MST
DTSTART:20230101T000000
END:STANDARD
END:VTIMEZONE
BEGIN:VEVENT
DTSTART;TZID=America/Phoenix:20240503T070000
DTEND;TZID=America/Phoenix:20240503T110000
DTSTAMP:20260422T111131
CREATED:20240216T231842Z
LAST-MODIFIED:20260319T205607Z
UID:10000298-1714719600-1714734000@bluewater-casino-resort.com
SUMMARY:Breakfast Special 7AM-11AM
DESCRIPTION:1-2-3-4 Breakfast Special\n$4.00 with card\, $8.99 without card.
URL:https://bluewater-casino-resort.com/event/breakfast-special-7am-11am/2024-05-03/
ATTACH;FMTTYPE=image/jpeg:https://bluewater-casino-resort.com/wp-content/uploads/2024/02/Breakfast-Special-4.00-1591x751-1.jpg
END:VEVENT
BEGIN:VEVENT
DTSTART;TZID=America/Phoenix:20240503T070000
DTEND;TZID=America/Phoenix:20240503T110000
DTSTAMP:20260422T111131
CREATED:20240216T233138Z
LAST-MODIFIED:20260319T205537Z
UID:10000873-1714719600-1714734000@bluewater-casino-resort.com
SUMMARY:Trucker Special 7AM-11AM
DESCRIPTION:Trucker Special – 4 oz Top Sirloin served with hash browns\, 2 eggs any style and your choice of toast.\n$4.99 with card\, $11.99 without card.
URL:https://bluewater-casino-resort.com/event/trucker-special-7am-11am/2024-05-03/
ATTACH;FMTTYPE=image/jpeg:https://bluewater-casino-resort.com/wp-content/uploads/2024/02/Trucker-Special-1591x751-1.jpg
END:VEVENT
BEGIN:VEVENT
DTSTART;TZID=America/Phoenix:20240503T120000
DTEND;TZID=America/Phoenix:20240503T200000
DTSTAMP:20260422T111131
CREATED:20240430T205425Z
LAST-MODIFIED:20240430T205425Z
UID:10000373-1714737600-1714766400@bluewater-casino-resort.com
SUMMARY:Fiesta Fridays Hot Seat Drawings
DESCRIPTION:When: Every Friday in May (May 3\, 10\, 17\, 24\, 31)\nOffer: $100 cash prize in random hot seat drawings\nEligibility: THEclub members actively playing with cards inserted in slot machines\nTime: 12:00pm – 8:00pm\, every 30 minutes
URL:https://bluewater-casino-resort.com/event/fiesta-fridays-hot-seat-drawings/2024-05-03/
ATTACH;FMTTYPE=image/jpeg:https://bluewater-casino-resort.com/wp-content/uploads/2024/04/Fiesta-Friday-promo-Web.jpg
END:VEVENT
BEGIN:VEVENT
DTSTART;TZID=America/Phoenix:20240503T150000
DTEND;TZID=America/Phoenix:20240503T210000
DTSTAMP:20260422T111131
CREATED:20240216T232152Z
LAST-MODIFIED:20240424T224024Z
UID:10000350-1714748400-1714770000@bluewater-casino-resort.com
SUMMARY:Shrimp Sandwich 3PM-9PM @ Grille
DESCRIPTION:
URL:https://bluewater-casino-resort.com/event/shrimp-sandwich-3pm-9pm-grille/2024-05-03/
ATTACH;FMTTYPE=image/jpeg:https://bluewater-casino-resort.com/wp-content/uploads/2024/02/Shrimp-Sandwich-1591x751-1.jpg
END:VEVENT
BEGIN:VEVENT
DTSTART;TZID=America/Phoenix:20240503T190000
DTEND;TZID=America/Phoenix:20240503T210000
DTSTAMP:20260422T111131
CREATED:20240328T221353Z
LAST-MODIFIED:20240328T221353Z
UID:10000250-1714762800-1714770000@bluewater-casino-resort.com
SUMMARY:Banda Machos
DESCRIPTION:TICKET PRICES CURRENTLY AVAILABLE \nGENERAL LAWN: $50.00 \nGENERAL LAWN Public Onsale: February 21\, 2024 10:00 AM to May 3\, 2024 7:00 PM \nWe encourage you to bring your own chair or blanket for your comfort during the performance. \nOnly clear bags are allowed. \nOutside food\, beverages\, and coolers are strictly prohibited within the venue.
URL:https://bluewater-casino-resort.com/event/banda-machos/
ATTACH;FMTTYPE=image/jpeg:https://bluewater-casino-resort.com/wp-content/uploads/2024/02/Banda-Machos-751x751-1.jpg
END:VEVENT
BEGIN:VEVENT
DTSTART;TZID=America/Phoenix:20240503T210000
DTEND;TZID=America/Phoenix:20240503T230000
DTSTAMP:20260422T111131
CREATED:20240430T205718Z
LAST-MODIFIED:20240430T214957Z
UID:10000378-1714770000-1714777200@bluewater-casino-resort.com
SUMMARY:After Show Fiesta Hot Seat Drawings
DESCRIPTION:When: May 3 (Friday)\nOffer: $50 Restricted Free Slot Play\nEligibility: THEclub members actively playing with cards inserted in slot machines\nTime: 9:00pm – 11:00pm\, every 15 minutes
URL:https://bluewater-casino-resort.com/event/after-show-fiesta-hot-seat-drawings/
ATTACH;FMTTYPE=image/jpeg:https://bluewater-casino-resort.com/wp-content/uploads/2024/04/After-Show-Fiesta-Host-Seats-Promo-Web.jpg
END:VEVENT
BEGIN:VEVENT
DTSTART;TZID=America/Phoenix:20240503T210000
DTEND;TZID=America/Phoenix:20240504T010000
DTSTAMP:20260422T111131
CREATED:20240328T214825Z
LAST-MODIFIED:20240328T214825Z
UID:10000224-1714770000-1714784400@bluewater-casino-resort.com
SUMMARY:Karaoke/DJ Alvi
DESCRIPTION:Dig Lounge
URL:https://bluewater-casino-resort.com/event/karaoke-dj-alvi/
END:VEVENT
END:VCALENDAR