BEGIN:VCALENDAR
VERSION:2.0
PRODID:-//Blue Water Resort &amp; Casino - ECPv6.15.20//NONSGML v1.0//EN
CALSCALE:GREGORIAN
METHOD:PUBLISH
X-ORIGINAL-URL:https://bluewater-casino-resort.com
X-WR-CALDESC:Events for Blue Water Resort &amp; Casino
REFRESH-INTERVAL;VALUE=DURATION:PT1H
X-Robots-Tag:noindex
X-PUBLISHED-TTL:PT1H
BEGIN:VTIMEZONE
TZID:America/Phoenix
BEGIN:STANDARD
TZOFFSETFROM:-0700
TZOFFSETTO:-0700
TZNAME:MST
DTSTART:20230101T000000
END:STANDARD
END:VTIMEZONE
BEGIN:VEVENT
DTSTART;TZID=America/Phoenix:20240315T070000
DTEND;TZID=America/Phoenix:20240315T110000
DTSTAMP:20260421T113450
CREATED:20240216T231842Z
LAST-MODIFIED:20260319T205607Z
UID:10000021-1710486000-1710500400@bluewater-casino-resort.com
SUMMARY:Breakfast Special 7AM-11AM
DESCRIPTION:1-2-3-4 Breakfast Special\n$4.00 with card\, $8.99 without card.
URL:https://bluewater-casino-resort.com/event/breakfast-special-7am-11am/2024-03-15/
ATTACH;FMTTYPE=image/jpeg:https://bluewater-casino-resort.com/wp-content/uploads/2024/02/Breakfast-Special-4.00-1591x751-1.jpg
END:VEVENT
BEGIN:VEVENT
DTSTART;TZID=America/Phoenix:20240315T070000
DTEND;TZID=America/Phoenix:20240315T110000
DTSTAMP:20260421T113450
CREATED:20240216T233138Z
LAST-MODIFIED:20260319T205537Z
UID:10000859-1710486000-1710500400@bluewater-casino-resort.com
SUMMARY:Trucker Special 7AM-11AM
DESCRIPTION:Trucker Special – 4 oz Top Sirloin served with hash browns\, 2 eggs any style and your choice of toast.\n$4.99 with card\, $11.99 without card.
URL:https://bluewater-casino-resort.com/event/trucker-special-7am-11am/2024-03-15/
ATTACH;FMTTYPE=image/jpeg:https://bluewater-casino-resort.com/wp-content/uploads/2024/02/Trucker-Special-1591x751-1.jpg
END:VEVENT
BEGIN:VEVENT
DTSTART;TZID=America/Phoenix:20240315T120000
DTEND;TZID=America/Phoenix:20240315T200000
DTSTAMP:20260421T113450
CREATED:20240216T235007Z
LAST-MODIFIED:20240216T235007Z
UID:10000090-1710504000-1710532800@bluewater-casino-resort.com
SUMMARY:Cash Clovers Hot Seat Drawings
DESCRIPTION:12PM-8PM Fridays
URL:https://bluewater-casino-resort.com/event/cash-clovers-hot-seat-drawings/2024-03-15/
ATTACH;FMTTYPE=image/jpeg:https://bluewater-casino-resort.com/wp-content/uploads/2024/02/Cash-Clover-Promo-Web-803x452px.jpg
END:VEVENT
BEGIN:VEVENT
DTSTART;TZID=America/Phoenix:20240315T150000
DTEND;TZID=America/Phoenix:20240315T210000
DTSTAMP:20260421T113450
CREATED:20240216T232152Z
LAST-MODIFIED:20240424T224024Z
UID:10000034-1710514800-1710536400@bluewater-casino-resort.com
SUMMARY:Shrimp Sandwich 3PM-9PM @ Grille
DESCRIPTION:
URL:https://bluewater-casino-resort.com/event/shrimp-sandwich-3pm-9pm-grille/2024-03-15/
ATTACH;FMTTYPE=image/jpeg:https://bluewater-casino-resort.com/wp-content/uploads/2024/02/Shrimp-Sandwich-1591x751-1.jpg
END:VEVENT
BEGIN:VEVENT
DTSTART;TZID=America/Phoenix:20240315T210000
DTEND;TZID=America/Phoenix:20240316T010000
DTSTAMP:20260421T113450
CREATED:20240216T234559Z
LAST-MODIFIED:20240216T234559Z
UID:10000082-1710536400-1710550800@bluewater-casino-resort.com
SUMMARY:Wyldsky 9PM-1AM
DESCRIPTION:The Dig Line-up
URL:https://bluewater-casino-resort.com/event/wyldsky-9pm-1am/2024-03-15/
END:VEVENT
END:VCALENDAR