BEGIN:VCALENDAR
VERSION:2.0
PRODID:-//Blue Water Resort &amp; Casino - ECPv6.15.20//NONSGML v1.0//EN
CALSCALE:GREGORIAN
METHOD:PUBLISH
X-ORIGINAL-URL:https://bluewater-casino-resort.com
X-WR-CALDESC:Events for Blue Water Resort &amp; Casino
REFRESH-INTERVAL;VALUE=DURATION:PT1H
X-Robots-Tag:noindex
X-PUBLISHED-TTL:PT1H
BEGIN:VTIMEZONE
TZID:America/Phoenix
BEGIN:STANDARD
TZOFFSETFROM:-0700
TZOFFSETTO:-0700
TZNAME:MST
DTSTART:20230101T000000
END:STANDARD
END:VTIMEZONE
BEGIN:VEVENT
DTSTART;TZID=America/Phoenix:20240301T210000
DTEND;TZID=America/Phoenix:20240302T010000
DTSTAMP:20260423T155257
CREATED:20240216T234200Z
LAST-MODIFIED:20240227T214027Z
UID:10000078-1709326800-1709341200@bluewater-casino-resort.com
SUMMARY:DJ ALVI 9PM-1AM
DESCRIPTION:The Dig Line-up
URL:https://bluewater-casino-resort.com/event/dj-alvi-9pm-1am/2024-03-01/
END:VEVENT
BEGIN:VEVENT
DTSTART;TZID=America/Phoenix:20240302T180000
DTEND;TZID=America/Phoenix:20240302T220000
DTSTAMP:20260423T155257
CREATED:20240216T235144Z
LAST-MODIFIED:20240220T220604Z
UID:10000093-1709402400-1709416800@bluewater-casino-resort.com
SUMMARY:St Patty's Payouts Virtual Drawings
DESCRIPTION:6PM-10PM Saturdays
URL:https://bluewater-casino-resort.com/event/st-pattys-payouts-virtual-drawings/2024-03-02/
ATTACH;FMTTYPE=image/jpeg:https://bluewater-casino-resort.com/wp-content/uploads/2024/02/St.-Pattrys-Payouts-Web.jpg
END:VEVENT
BEGIN:VEVENT
DTSTART;TZID=America/Phoenix:20240302T210000
DTEND;TZID=America/Phoenix:20240303T010000
DTSTAMP:20260423T155257
CREATED:20240216T234200Z
LAST-MODIFIED:20240227T214027Z
UID:10000079-1709413200-1709427600@bluewater-casino-resort.com
SUMMARY:DJ ALVI 9PM-1AM
DESCRIPTION:The Dig Line-up
URL:https://bluewater-casino-resort.com/event/dj-alvi-9pm-1am/2024-03-02/
END:VEVENT
END:VCALENDAR